BEGIN:VCALENDAR
VERSION:2.0
PRODID:-//The Heartland Lakes Community Calendar - ECPv6.3.7//NONSGML v1.0//EN
CALSCALE:GREGORIAN
METHOD:PUBLISH
X-ORIGINAL-URL:https://heartlandlakescommunitycalendar.com
X-WR-CALDESC:Events for The Heartland Lakes Community Calendar
REFRESH-INTERVAL;VALUE=DURATION:PT1H
X-Robots-Tag:noindex
X-PUBLISHED-TTL:PT1H
BEGIN:VTIMEZONE
TZID:UTC
BEGIN:STANDARD
TZOFFSETFROM:+0000
TZOFFSETTO:+0000
TZNAME:UTC
DTSTART:20250101T000000
END:STANDARD
END:VTIMEZONE
BEGIN:VEVENT
DTSTART;TZID=UTC:20250428T063000
DTEND;TZID=UTC:20250428T073000
DTSTAMP:20260424T065910
CREATED:20250123T102734Z
LAST-MODIFIED:20250123T102734Z
UID:10004645-1745821800-1745825400@heartlandlakescommunitycalendar.com
SUMMARY:Open/Lap Swim
DESCRIPTION:Open Swim and Lap Swim through Park Rapids Community Ed. No Swimming on Holidays \nOpen Swim: Is available for ages 7 and older. Younger students can swim if an adult is in the water with him/her. Please come dressed in your suit\, bring your towel and goggles (if you want) and be ready for some fun! You are encouraged to come dressed in your suit but the locker rooms will be available. Pre-registration is required. Must register by Wed. before open swim. There is no charge for children ages 2 and under. https://www.parkrapidscomed.com/insight/registry/classinfo.asp?courseID=7056&catID=791  \nLap Swim: Bring your suit and a towel. Enter through door W7. Locker rooms are available. Please sign up in the deep end on dry erase board for a lane. Maximum of three people per lane. Punch cards only\, not to be left at the pool. To purchase a card\, please call Community Education at 218-237-6600. No cash at the pool\, no daily walk in rate. https://www.parkrapidscomed.com/insight/registry/classinfo.asp?courseID=7055&catID=791
URL:https://heartlandlakescommunitycalendar.com/index.php/event/open-lap-swim/2025-04-28/
LOCATION:Park Rapids High School\, 401 Huntsinger Ave\, Park Rapids\, Park Rapids\, 56470\, United States
CATEGORIES:Sport
END:VEVENT
BEGIN:VEVENT
DTSTART;TZID=UTC:20250428T151500
DTEND;TZID=UTC:20250428T163000
DTSTAMP:20260424T065910
CREATED:20250123T230621Z
LAST-MODIFIED:20250123T230621Z
UID:10006702-1745853300-1745857800@heartlandlakescommunitycalendar.com
SUMMARY:Youth Art Studio
DESCRIPTION:For Grades K-4. Each month you will create a different seasonally themed watercolor painting and a pencil/marker drawing to add to your art book.  Book cover supplies will also be available at the following classes if you miss the opportunity to come to January session to make one. By the end of the school year\, you will have your own Art Studio Book. \nInstructors: Jody Ziemann & Becky Steinhoff
URL:https://heartlandlakescommunitycalendar.com/index.php/event/youth-art-studio/2025-04-28/
LOCATION:Century School\, 501 Helten Ave\, Park Rapids\, 56470\, United States
CATEGORIES:Craft
END:VEVENT
BEGIN:VEVENT
DTSTART;TZID=UTC:20250428T171500
DTEND;TZID=UTC:20250428T180000
DTSTAMP:20260424T065910
CREATED:20250124T020400Z
LAST-MODIFIED:20250124T020400Z
UID:10006758-1745860500-1745863200@heartlandlakescommunitycalendar.com
SUMMARY:Spinning
DESCRIPTION:Michele will guide you through workout phases such as the warm-up\, steady tempo\, sprints\, climbs\, cool-downs etc. You control resistance on your bike to make the pedaling as easy or difficult as you choose. All you need is workout clothes\, a towel (for your face) and a water bottle. Each participant can go at their own pace and ability.
URL:https://heartlandlakescommunitycalendar.com/index.php/event/spinning/2025-04-28/
LOCATION:Century School\, 501 Helten Ave\, Park Rapids\, 56470\, United States
CATEGORIES:Sport
END:VEVENT
BEGIN:VEVENT
DTSTART;TZID=UTC:20250428T173000
DTEND;TZID=UTC:20250428T183000
DTSTAMP:20260424T065910
CREATED:20250122T223716Z
LAST-MODIFIED:20250514T033228Z
UID:10003951-1745861400-1745865000@heartlandlakescommunitycalendar.com
SUMMARY:Beagle Women's Book Group
DESCRIPTION:A welcoming space for women who love to read\, reflect\, and connect over inspiring books. From contemporary fiction to powerful memoirs\, we explore stories that resonate and spark meaningful discussions. Join us for lively conversation and lasting friendships! Check our website for this month’s book: https://beagleandwolf.com/bookgroups.html \nOur book groups are open\, free of charge\, and you’re welcome to join us whenever you’re able. We ask that you purchase your books from us. Mention they’re for book group and we’ll give you a 10% discount on each book. (Unfortunately\, this discount is not available on any books purchased online from us.)
URL:https://heartlandlakescommunitycalendar.com/index.php/event/beagle-womens-book-group/2025-04-28/
LOCATION:Beagle and Wolf Books & Bindery\, 112 3rd Street West\, Park Rapids\, 56470\, United States
CATEGORIES:Literature
ATTACH;FMTTYPE=image/png:https://heartlandlakescommunitycalendar.com/wp-content/uploads/2025/01/womens-Book-Group-1.png
ORGANIZER;CN="Beagle and Wolf Books & Bindery":MAILTO:info@beagleandwolf.com
END:VEVENT
BEGIN:VEVENT
DTSTART;TZID=UTC:20250428T183000
DTEND;TZID=UTC:20250428T210000
DTSTAMP:20260424T065910
CREATED:20250129T001800Z
LAST-MODIFIED:20250129T001800Z
UID:10007223-1745865000-1745874000@heartlandlakescommunitycalendar.com
SUMMARY:Bar Bingo
DESCRIPTION:Looking for a fun and exciting way to spend your evening? Look no further! Bingo Night is here\, and it’s packed with laughter\, community\, and amazing prizes waiting to be won. Bring your friends\, bring your family\, or just bring yourself—everyone is welcome! Whether you’re a seasoned player or trying Bingo for the first time\, you’re in for a great time.
URL:https://heartlandlakescommunitycalendar.com/index.php/event/bar-bingo/2025-04-28/
LOCATION:Park Rapids American Legion\, 900 1st St E\, Park Rapids\, MN\, 56470\, United States
CATEGORIES:Social
ATTACH;FMTTYPE=image/png:https://heartlandlakescommunitycalendar.com/wp-content/uploads/2025/01/Bingo2.png
ORGANIZER;CN="Park Rapids American Legion":MAILTO:barmanagerpost212@arvig.net
END:VEVENT
BEGIN:VEVENT
DTSTART;TZID=UTC:20250428T190000
DTEND;TZID=UTC:20250428T200000
DTSTAMP:20260424T065910
CREATED:20250123T103436Z
LAST-MODIFIED:20250123T103436Z
UID:10006196-1745866800-1745870400@heartlandlakescommunitycalendar.com
SUMMARY:Open/Lap Swim
DESCRIPTION:Open Swim and Lap Swim through Park Rapids Community Ed. No Swimming on Holidays \nOpen Swim: Is available for ages 7 and older. Younger students can swim if an adult is in the water with him/her. Please come dressed in your suit\, bring your towel and goggles (if you want) and be ready for some fun! You are encouraged to come dressed in your suit but the locker rooms will be available. Pre-registration is required. Must register by Wed. before open swim. There is no charge for children ages 2 and under. https://www.parkrapidscomed.com/insight/registry/classinfo.asp?courseID=7056&catID=791  \nLap Swim: Bring your suit and a towel. Enter through door W7. Locker rooms are available. Please sign up in the deep end on dry erase board for a lane. Maximum of three people per lane. Punch cards only\, not to be left at the pool. To purchase a card\, please call Community Education at 218-237-6600. No cash at the pool\, no daily walk in rate. https://www.parkrapidscomed.com/insight/registry/classinfo.asp?courseID=7055&catID=791
URL:https://heartlandlakescommunitycalendar.com/index.php/event/open-lap-swim-2/2025-04-28/
LOCATION:Park Rapids High School\, 401 Huntsinger Ave\, Park Rapids\, Park Rapids\, 56470\, United States
CATEGORIES:Sport
END:VEVENT
END:VCALENDAR