BEGIN:VCALENDAR
VERSION:2.0
PRODID:-//The Heartland Lakes Community Calendar - ECPv6.3.7//NONSGML v1.0//EN
CALSCALE:GREGORIAN
METHOD:PUBLISH
X-WR-CALNAME:The Heartland Lakes Community Calendar
X-ORIGINAL-URL:https://heartlandlakescommunitycalendar.com
X-WR-CALDESC:Events for The Heartland Lakes Community Calendar
REFRESH-INTERVAL;VALUE=DURATION:PT1H
X-Robots-Tag:noindex
X-PUBLISHED-TTL:PT1H
BEGIN:VTIMEZONE
TZID:UTC
BEGIN:STANDARD
TZOFFSETFROM:+0000
TZOFFSETTO:+0000
TZNAME:UTC
DTSTART:20250101T000000
END:STANDARD
END:VTIMEZONE
BEGIN:VEVENT
DTSTART;TZID=UTC:20250501T080000
DTEND;TZID=UTC:20250501T100000
DTSTAMP:20260420T082218
CREATED:20250430T142416Z
LAST-MODIFIED:20250430T142416Z
UID:10008346-1746086400-1746093600@heartlandlakescommunitycalendar.com
SUMMARY:Business Buzz & Bites
DESCRIPTION:The Park Rapids Lakes Area Chamber of Commerce is excited to announce the first Business Buzz & Bites! The event will feature a business expo area\, two speakers\, beverages and light snacks\, and an open house style. 8:15am – Visitor Trends and Insights 9:15am Streamlining the Permitting Process \nChamber Members Free\, Non-members $10
URL:https://heartlandlakescommunitycalendar.com/index.php/event/business-buzz-bites/
LOCATION:Armory Arts & Events Center\, 203 Park Ave. South\, Park Rapids\, MN\, 56470\, United States
CATEGORIES:Social
END:VEVENT
BEGIN:VEVENT
DTSTART;TZID=UTC:20250501T100000
DTEND;TZID=UTC:20250501T120000
DTSTAMP:20260420T082218
CREATED:20250315T222300Z
LAST-MODIFIED:20250315T222300Z
UID:10001106-1746093600-1746100800@heartlandlakescommunitycalendar.com
SUMMARY:Living at Home Caregiver Closet
DESCRIPTION:The Caregiver Closet is a resource available to caregivers and veterans in Park Rapids and the surrounding areas. \nThe items provided by the Caregiver Closet include durable medical equipment\, both reusable medical supplies and one-time use supplies. The items are offered free of charge\, with the expectation that the items will be returned to the Caregiver Closet (if they are reusable) when they are no longer needed\, so they can be redistributed. \nThe Caregiver Closet can include\, at any given time\, canes\, walkers\, commodes\, shower benches\, crutches\, hospital beds\, lift chairs\, Hoyer lifts\, and so much more. All equipment is clean and ready to go in “as is” condition. \nEquipment and supply use are free. Donations are tax deductible.
URL:https://heartlandlakescommunitycalendar.com/index.php/event/living-at-home-caregiver-closet-2-3/2025-05-01/
LOCATION:Living at Home\, 218 Industrial Park Rd\, Park Rapids\, MN\, 56470\, United States
CATEGORIES:Charity
ATTACH;FMTTYPE=image/png:https://heartlandlakescommunitycalendar.com/wp-content/uploads/2024/03/Caregiver-Closet.png
ORGANIZER;CN="Living at Home":MAILTO:dfc@parkrapidslivingathome.org
END:VEVENT
BEGIN:VEVENT
DTSTART;TZID=UTC:20250501T130000
DTEND;TZID=UTC:20250501T143000
DTSTAMP:20260420T082218
CREATED:20250315T222325Z
LAST-MODIFIED:20250315T222325Z
UID:10000070-1746104400-1746109800@heartlandlakescommunitycalendar.com
SUMMARY:Living at Home's Afternoon Out
DESCRIPTION:Afternoon Out is a social opportunity for individuals experiencing memory loss\, their Caregivers\, Partners\, Family\, and Friends. We engage in music and other fun activities in a safe and supportive environment. Afternoon Out is free\, and takes place every Thursday from 1:00 pm to 2:30 pm\, except when a holiday falls on a Thursday. \nPlease complete an initial pre-registration by calling Living at Home at 218-732-3137. While we appreciate knowing how many to expect\, we welcome you anytime. For respite situations\, please call ahead to notify us. \nWeather Closings: If Park Rapids Schools have a late start\, early out\, or are closed due to bad weather\, all Living at Home Activates will be cancelled! We will make announcements on the Living at Home Facebook Page and on the local radio.
URL:https://heartlandlakescommunitycalendar.com/index.php/event/living-at-homes-afternoon-out-3/2025-05-01/
LOCATION:Living at Home\, 218 Industrial Park Rd\, Park Rapids\, MN\, 56470\, United States
CATEGORIES:Social
ATTACH;FMTTYPE=image/png:https://heartlandlakescommunitycalendar.com/wp-content/uploads/2024/01/Afternoon-Out.png
ORGANIZER;CN="Living at Home":MAILTO:dfc@parkrapidslivingathome.org
END:VEVENT
BEGIN:VEVENT
DTSTART;TZID=UTC:20250501T170000
DTEND;TZID=UTC:20250501T183000
DTSTAMP:20260420T082218
CREATED:20250411T230123Z
LAST-MODIFIED:20250411T230123Z
UID:10008242-1746118800-1746124200@heartlandlakescommunitycalendar.com
SUMMARY:Responsible Beverage Server Training
DESCRIPTION:Who should attend: Owners\, Managers\, Bartenders\, and Wait Staff\nPurpose of training is to gain skills to avoid selling alcohol ton minors\, checking customer IDs\,. youth access\, potential violations\, criminal & civil penalties\, alcohol compliance checks\, over-serving\, and more.\nTrainers: Park Rapids Sgt. Rob Glimore\, Hubbard County Sheriff’s Deputy Jarod Anderson\, Angela Graham (HIP Coalition Coordinator)\nAttendees will receive a certificate of attendance.\nMOST past participants agree that RBST should be repeated at least once a year.\nRegistration Required
URL:https://heartlandlakescommunitycalendar.com/index.php/event/responsible-beverage-server-training-2/
LOCATION:Northwoods Bank\, 1200 1ST ST E\, Park Rapids\, MN\, 56470\, United States
CATEGORIES:Education
ATTACH;FMTTYPE=image/png:https://heartlandlakescommunitycalendar.com/wp-content/uploads/2025/04/unnamed-8.png
ORGANIZER;CN="Hubbard In Prevention":MAILTO:angela.graham@commonspirit.org
END:VEVENT
BEGIN:VEVENT
DTSTART;TZID=UTC:20250501T171500
DTEND;TZID=UTC:20250501T181500
DTSTAMP:20260420T082218
CREATED:20250424T222323Z
LAST-MODIFIED:20250424T222323Z
UID:10008263-1746119700-1746123300@heartlandlakescommunitycalendar.com
SUMMARY:Hatha Yoga
DESCRIPTION:Hatha yoga is known for its 3-5 breath holds in each pose and balancing the body’s energy\, leaving yogis feeling relaxed\, calm and centered. Each class is intentionally designed and includes asana (movement)\, pranayama (breath work) and meditation for a well rounded 60 minute yoga practice. Bring your own yoga mat and wear comfortable clothing.\n\nInstructor: Emily Boedigheimer\, RYT 200\nCosmic Heart Yoga and Wellness\, LLC
URL:https://heartlandlakescommunitycalendar.com/index.php/event/hatha-yoga-2/2025-05-01/
LOCATION:Groupworks Wellness\, 1003 Hollinger St\, Park Rapids\, MN\, 56470\, United States
CATEGORIES:Sport
END:VEVENT
BEGIN:VEVENT
DTSTART;TZID=UTC:20250501T183000
DTEND;TZID=UTC:20250501T213000
DTSTAMP:20260420T082218
CREATED:20250129T001540Z
LAST-MODIFIED:20250129T001540Z
UID:10006962-1746124200-1746135000@heartlandlakescommunitycalendar.com
SUMMARY:Backroom Bingo
DESCRIPTION:Grab your lucky charms and join us for a night of excitement\, laughter\, and prizes! Whether you’re a seasoned pro or a first-time player\, Bingo is the perfect way to bring friends and family together. Let the numbers roll and the fun begin! 🥳
URL:https://heartlandlakescommunitycalendar.com/index.php/event/backroom-bingo/2025-05-01/
LOCATION:Park Rapids American Legion\, 900 1st St E\, Park Rapids\, MN\, 56470\, United States
CATEGORIES:Social
ATTACH;FMTTYPE=image/png:https://heartlandlakescommunitycalendar.com/wp-content/uploads/2025/01/BingoSmall.png
ORGANIZER;CN="Park Rapids American Legion":MAILTO:barmanagerpost212@arvig.net
END:VEVENT
BEGIN:VEVENT
DTSTART;TZID=UTC:20250501T190000
DTEND;TZID=UTC:20250501T200000
DTSTAMP:20260420T082218
CREATED:20250123T103436Z
LAST-MODIFIED:20250123T103436Z
UID:10006197-1746126000-1746129600@heartlandlakescommunitycalendar.com
SUMMARY:Open/Lap Swim
DESCRIPTION:Open Swim and Lap Swim through Park Rapids Community Ed. No Swimming on Holidays \nOpen Swim: Is available for ages 7 and older. Younger students can swim if an adult is in the water with him/her. Please come dressed in your suit\, bring your towel and goggles (if you want) and be ready for some fun! You are encouraged to come dressed in your suit but the locker rooms will be available. Pre-registration is required. Must register by Wed. before open swim. There is no charge for children ages 2 and under. https://www.parkrapidscomed.com/insight/registry/classinfo.asp?courseID=7056&catID=791  \nLap Swim: Bring your suit and a towel. Enter through door W7. Locker rooms are available. Please sign up in the deep end on dry erase board for a lane. Maximum of three people per lane. Punch cards only\, not to be left at the pool. To purchase a card\, please call Community Education at 218-237-6600. No cash at the pool\, no daily walk in rate. https://www.parkrapidscomed.com/insight/registry/classinfo.asp?courseID=7055&catID=791
URL:https://heartlandlakescommunitycalendar.com/index.php/event/open-lap-swim-2/2025-05-01/
LOCATION:Park Rapids High School\, 401 Huntsinger Ave\, Park Rapids\, Park Rapids\, 56470\, United States
CATEGORIES:Sport
END:VEVENT
BEGIN:VEVENT
DTSTART;TZID=UTC:20250501T190000
DTEND;TZID=UTC:20250501T210000
DTSTAMP:20260420T082218
CREATED:20250123T094947Z
LAST-MODIFIED:20250123T095039Z
UID:10004358-1746126000-1746133200@heartlandlakescommunitycalendar.com
SUMMARY:DJ Trivia
DESCRIPTION:Thursday nights just got a whole lot more fun! DJ Trivia kicks off at 7 PM\, so grab your crew and put your knowledge to the test! Fun questions\, great music\, and tons of laughs! Whether you’re a trivia pro or just in it for the fun\, there’s a spot for you at the table. See ya Thursday at 7 PM—let’s get quizzical! 🍺🔥
URL:https://heartlandlakescommunitycalendar.com/index.php/event/dj-trivia/2025-05-01/
LOCATION:Zorbaz\, 22036 County 7\, Park Rapids\, 56470\, United States
CATEGORIES:Entertainment
END:VEVENT
END:VCALENDAR