BEGIN:VCALENDAR
VERSION:2.0
PRODID:-//The Heartland Lakes Community Calendar - ECPv6.3.7//NONSGML v1.0//EN
CALSCALE:GREGORIAN
METHOD:PUBLISH
X-WR-CALNAME:The Heartland Lakes Community Calendar
X-ORIGINAL-URL:https://heartlandlakescommunitycalendar.com
X-WR-CALDESC:Events for The Heartland Lakes Community Calendar
REFRESH-INTERVAL;VALUE=DURATION:PT1H
X-Robots-Tag:noindex
X-PUBLISHED-TTL:PT1H
BEGIN:VTIMEZONE
TZID:America/New_York
BEGIN:DAYLIGHT
TZOFFSETFROM:-0500
TZOFFSETTO:-0400
TZNAME:EDT
DTSTART:20260308T070000
END:DAYLIGHT
BEGIN:STANDARD
TZOFFSETFROM:-0400
TZOFFSETTO:-0500
TZNAME:EST
DTSTART:20261101T060000
END:STANDARD
END:VTIMEZONE
BEGIN:VEVENT
DTSTART;TZID=America/New_York:20260314T080000
DTEND;TZID=America/New_York:20260314T150000
DTSTAMP:20260420T212203
CREATED:20260301T090316Z
LAST-MODIFIED:20260301T090316Z
UID:10011810-1773475200-1773500400@heartlandlakescommunitycalendar.com
SUMMARY:St. Urho Days
DESCRIPTION:Lots of Finnish fun with this celebration of Finnish-American heritage. Friday night opening ceremonies including the St. Urho proclamation and the crowing of 2026 St Urho King and Queen with an evening of polka type music to follow. Saturday starts off with the pancake breakfast by pine cone 4H\, followed by the changing of the guards Nytes of St Urho\, the St. Urho Days parade\, and the Grasshopper hunt. Businesses around Menahga will also be having St. Urho specials so be sure to stop by The Cotty\, Northbound Spirits\, and the VFW.
URL:https://heartlandlakescommunitycalendar.com/index.php/event/st-urho-days/2026-03-14/
LOCATION:MN
CATEGORIES:Holiday
ATTACH;FMTTYPE=image/png:https://heartlandlakescommunitycalendar.com/wp-content/uploads/2026/03/Screenshot-2026-03-01-025747.png
ORGANIZER;CN="Menahga Civic & Commerce Association":MAILTO:andrea@ahgrafix.com
END:VEVENT
BEGIN:VEVENT
DTSTART;TZID=America/New_York:20260314T100000
DTEND;TZID=America/New_York:20260314T120000
DTSTAMP:20260420T212203
CREATED:20260301T235627Z
LAST-MODIFIED:20260301T235627Z
UID:10012089-1773482400-1773489600@heartlandlakescommunitycalendar.com
SUMMARY:Gel Plate Printmaking
DESCRIPTION:Gelli Printing: Play\, Layer\, Print Discover the magic of gel plate printing as you experiment with color\, texture\, and unexpected effects. Every print is a surprise and no two are alike. Perfect for beginners and curious creatives. $10 per seat\, all supplies included. Tickets available on Armory website.
URL:https://heartlandlakescommunitycalendar.com/index.php/event/gel-plate-printmaking/
LOCATION:Armory Arts & Events Center\, 203 Park Ave. South\, Park Rapids\, MN\, 56470\, United States
CATEGORIES:Arts,Craft
ORGANIZER;CN="Armory Arts & Events Center":MAILTO:jkjenaas@parkrapidsarmory.org
END:VEVENT
BEGIN:VEVENT
DTSTART;TZID=America/New_York:20260314T133000
DTEND;TZID=America/New_York:20260314T143000
DTSTAMP:20260420T212203
CREATED:20260301T064203Z
LAST-MODIFIED:20260301T064203Z
UID:10011782-1773495000-1773498600@heartlandlakescommunitycalendar.com
SUMMARY:Snowshoe or Boot Hike
DESCRIPTION:Grab some snowshoes or snow boots (depending on snow conditions) and head down Schoolcraft Trail with a park naturalist and explore late winter from 1:30 to 2:30 p.m. Saturday\, March 14. Meet at the Mary Gibbs Mississippi Headwaters Center. Hike will be between 1 and 1 1/2 miles in length. All experience levels are welcome! This snowshoe hike is dependent on snow depth. If not enough snow\, it will become a snow boot walk. Dress in layers and wear snow boots. SNOWSHOES: A limited number of snowshoes is available to use during this program. Prior to the program\, contact naturalist Sandra if you need to reserve a pair at Sandra.d.lichter@state.mn.us or 218-699-7252.
URL:https://heartlandlakescommunitycalendar.com/index.php/event/snowshoe-or-boot-hike/
LOCATION:Mary Gibbs Mississippi Headwaters Center\, 36750 Main Park Drive\, Park Rapids\, MN\, 56470\, United States
CATEGORIES:Nature
END:VEVENT
END:VCALENDAR