BEGIN:VCALENDAR
VERSION:2.0
PRODID:-//The Heartland Lakes Community Calendar - ECPv6.3.7//NONSGML v1.0//EN
CALSCALE:GREGORIAN
METHOD:PUBLISH
X-WR-CALNAME:The Heartland Lakes Community Calendar
X-ORIGINAL-URL:https://heartlandlakescommunitycalendar.com
X-WR-CALDESC:Events for The Heartland Lakes Community Calendar
REFRESH-INTERVAL;VALUE=DURATION:PT1H
X-Robots-Tag:noindex
X-PUBLISHED-TTL:PT1H
BEGIN:VTIMEZONE
TZID:UTC
BEGIN:STANDARD
TZOFFSETFROM:+0000
TZOFFSETTO:+0000
TZNAME:UTC
DTSTART:20260101T000000
END:STANDARD
TZID:America/New_York
BEGIN:DAYLIGHT
TZOFFSETFROM:-0500
TZOFFSETTO:-0400
TZNAME:EDT
DTSTART:20260308T070000
END:DAYLIGHT
BEGIN:STANDARD
TZOFFSETFROM:-0400
TZOFFSETTO:-0500
TZNAME:EST
DTSTART:20261101T060000
END:STANDARD
END:VTIMEZONE
BEGIN:VEVENT
DTSTART;TZID=UTC:20260421T090000
DTEND;TZID=UTC:20260421T100000
DTSTAMP:20260421T022452
CREATED:20250122T223332Z
LAST-MODIFIED:20250122T223332Z
UID:10003902-1776762000-1776765600@heartlandlakescommunitycalendar.com
SUMMARY:Beagle Men's Book Group
DESCRIPTION:Join our Men’s Book Group\, where great books spark even better conversations! Whether you’re into fiction\, history\, or thought-provoking non-fiction\, this is a space to engage\, discuss\, and share perspectives in a relaxed and friendly setting. Come for the books\, stay for the camaraderie! Check our website for this month’s book: https://beagleandwolf.com/bookgroups.html \nOur book groups are open\, free of charge\, and you’re welcome to join us whenever you’re able. We ask that you purchase your books from us. Mention they’re for book group and we’ll give you a 10% discount on each book. (Unfortunately\, this discount is not available on any books purchased online from us.)
URL:https://heartlandlakescommunitycalendar.com/index.php/event/beagle-mens-book-group/2026-04-21/
LOCATION:Beagle and Wolf Books & Bindery\, 112 3rd Street West\, Park Rapids\, 56470\, United States
CATEGORIES:Literature
ATTACH;FMTTYPE=image/png:https://heartlandlakescommunitycalendar.com/wp-content/uploads/2025/01/womens-Book-Group.png
ORGANIZER;CN="Beagle and Wolf Books & Bindery":MAILTO:info@beagleandwolf.com
END:VEVENT
BEGIN:VEVENT
DTSTART;TZID=UTC:20260421T100000
DTEND;TZID=UTC:20260421T140000
DTSTAMP:20260421T022452
CREATED:20250604T093302Z
LAST-MODIFIED:20250604T093303Z
UID:10009048-1776765600-1776780000@heartlandlakescommunitycalendar.com
SUMMARY:Living at Home Caregiver Closet
DESCRIPTION:The Caregiver Closet is a resource available to caregivers and veterans in Park Rapids and the surrounding areas. \nThe items provided by the Caregiver Closet include durable medical equipment\, both reusable medical supplies and one-time use supplies. The items are offered free of charge\, with the expectation that the items will be returned to the Caregiver Closet (if they are reusable) when they are no longer needed\, so they can be redistributed. \nThe Caregiver Closet can include\, at any given time\, canes\, walkers\, commodes\, shower benches\, crutches\, hospital beds\, lift chairs\, Hoyer lifts\, and so much more. All equipment is clean and ready to go in “as is” condition. \nEquipment and supply use are free. Donations are tax deductible.
URL:https://heartlandlakescommunitycalendar.com/index.php/event/living-at-home-caregiver-closet-4-2/2026-04-21/
LOCATION:Living at Home\, 218 Industrial Park Rd\, Park Rapids\, MN\, 56470\, United States
CATEGORIES:Charity
ATTACH;FMTTYPE=image/png:https://heartlandlakescommunitycalendar.com/wp-content/uploads/2024/03/Caregiver-Closet.png
ORGANIZER;CN="Living at Home":MAILTO:dfc@parkrapidslivingathome.org
END:VEVENT
BEGIN:VEVENT
DTSTART;TZID=UTC:20260421T123000
DTEND;TZID=UTC:20260421T150000
DTSTAMP:20260421T022452
CREATED:20250430T143643Z
LAST-MODIFIED:20250510T215320Z
UID:10008404-1776774600-1776783600@heartlandlakescommunitycalendar.com
SUMMARY:Chess
DESCRIPTION:Living at Home invites players of all levels to join them for weekly chess! Come join a vibrant community!
URL:https://heartlandlakescommunitycalendar.com/index.php/event/chess/2026-04-21/
LOCATION:Living at Home\, 218 Industrial Park Rd\, Park Rapids\, MN\, 56470\, United States
CATEGORIES:Social
ORGANIZER;CN="Living at Home":MAILTO:dfc@parkrapidslivingathome.org
END:VEVENT
BEGIN:VEVENT
DTSTART;TZID=America/New_York:20260421T173000
DTEND;TZID=America/New_York:20260421T183000
DTSTAMP:20260421T022452
CREATED:20260302T042014Z
LAST-MODIFIED:20260302T042014Z
UID:10012104-1776792600-1776796200@heartlandlakescommunitycalendar.com
SUMMARY:Beaded Suncatcher Plant DIY Class
DESCRIPTION:Join us for a fun evening building a unique beaded plant suncatcher. You will be able to finish this project in class and hang it in your window the next morning! \nAll supplies are included! We have room for 16 folks to bead their little plant-loving hearts out! \n$46 per seat\, tickets are available on the Red Barn website.
URL:https://heartlandlakescommunitycalendar.com/index.php/event/beaded-suncatcher-plant-diy-class/
LOCATION:Red Barn\, 16338 County 107\, Park Rapids\, 56470\, United States
CATEGORIES:Craft
ATTACH;FMTTYPE=image/webp:https://heartlandlakescommunitycalendar.com/wp-content/uploads/2026/03/3EEEPDRKTXUXNWI7ZELHKDJF.webp
ORGANIZER;CN="Red Barn":MAILTO:theredbarnmn@gmail.com
END:VEVENT
BEGIN:VEVENT
DTSTART;TZID=America/New_York:20260421T190000
DTEND;TZID=America/New_York:20260421T200000
DTSTAMP:20260421T022452
CREATED:20260329T054501Z
LAST-MODIFIED:20260329T054501Z
UID:10012220-1776798000-1776801600@heartlandlakescommunitycalendar.com
SUMMARY:A Visit from Will Dilg
DESCRIPTION:Created and performed by Steven Marking. Hear from the father of our Upper Mississippi River National Wildlife and Fish refuge. Free wild rice porridge and beverage at discussion group to follow. \nTicketing \nAdvance Tickets – Adults $15/ Students $7.50 \nDoor Tickets – Adults $20/ Students $10
URL:https://heartlandlakescommunitycalendar.com/index.php/event/a-visit-from-will-dilg/
LOCATION:Armory Arts & Events Center\, 203 Park Ave. South\, Park Rapids\, MN\, 56470\, United States
CATEGORIES:Education
ATTACH;FMTTYPE=image/webp:https://heartlandlakescommunitycalendar.com/wp-content/uploads/2026/03/Corrected-Flyer-Poster-Will-Dilg-Park-Rapids-Show-3-25-26-7a239a2c3786c1cf021ff2ae5207486c.webp
ORGANIZER;CN="League of Women Voters Park Rapids Area":MAILTO:lwvparkrapids@lwvmn.org
END:VEVENT
BEGIN:VEVENT
DTSTART;TZID=UTC:20260421T190000
DTEND;TZID=UTC:20260421T210000
DTSTAMP:20260421T022452
CREATED:20250123T094511Z
LAST-MODIFIED:20250123T095029Z
UID:10004147-1776798000-1776805200@heartlandlakescommunitycalendar.com
SUMMARY:DJ Bingo
DESCRIPTION:Tuesday nights just got way more fun! DJ Bingo kicks off at 7 PM\, and it’s totally FREE to play—so why not grab your crew and join in?💰 Win big! We’ve got a progressive cash prize up to $300 and Zorbaz Gift Cards for regular Bingo wins! 🎵 It’s bingo\, but with a beat! Expect good vibes and a whole lot of fun. 👨‍👩‍👧‍👦 All ages welcome! Don’t miss out—come play\, dance\, and win every Tuesday at 7 PM! See ya there! 🍻🎤🎉
URL:https://heartlandlakescommunitycalendar.com/index.php/event/dj-bingo/2026-04-21/
LOCATION:Zorbaz\, 22036 County 7\, Park Rapids\, 56470\, United States
CATEGORIES:Entertainment
END:VEVENT
END:VCALENDAR