BEGIN:VCALENDAR
VERSION:2.0
PRODID:-//The Heartland Lakes Community Calendar - ECPv6.3.7//NONSGML v1.0//EN
CALSCALE:GREGORIAN
METHOD:PUBLISH
X-ORIGINAL-URL:https://heartlandlakescommunitycalendar.com
X-WR-CALDESC:Events for The Heartland Lakes Community Calendar
REFRESH-INTERVAL;VALUE=DURATION:PT1H
X-Robots-Tag:noindex
X-PUBLISHED-TTL:PT1H
BEGIN:VTIMEZONE
TZID:UTC
BEGIN:STANDARD
TZOFFSETFROM:+0000
TZOFFSETTO:+0000
TZNAME:UTC
DTSTART:20260101T000000
END:STANDARD
TZID:America/New_York
BEGIN:DAYLIGHT
TZOFFSETFROM:-0500
TZOFFSETTO:-0400
TZNAME:EDT
DTSTART:20260308T070000
END:DAYLIGHT
BEGIN:STANDARD
TZOFFSETFROM:-0400
TZOFFSETTO:-0500
TZNAME:EST
DTSTART:20261101T060000
END:STANDARD
END:VTIMEZONE
BEGIN:VEVENT
DTSTART;TZID=UTC:20260826T063000
DTEND;TZID=UTC:20260826T073000
DTSTAMP:20260424T172647
CREATED:20250123T102734Z
LAST-MODIFIED:20250123T102734Z
UID:10004853-1787725800-1787729400@heartlandlakescommunitycalendar.com
SUMMARY:Open/Lap Swim
DESCRIPTION:Open Swim and Lap Swim through Park Rapids Community Ed. No Swimming on Holidays \nOpen Swim: Is available for ages 7 and older. Younger students can swim if an adult is in the water with him/her. Please come dressed in your suit\, bring your towel and goggles (if you want) and be ready for some fun! You are encouraged to come dressed in your suit but the locker rooms will be available. Pre-registration is required. Must register by Wed. before open swim. There is no charge for children ages 2 and under. https://www.parkrapidscomed.com/insight/registry/classinfo.asp?courseID=7056&catID=791  \nLap Swim: Bring your suit and a towel. Enter through door W7. Locker rooms are available. Please sign up in the deep end on dry erase board for a lane. Maximum of three people per lane. Punch cards only\, not to be left at the pool. To purchase a card\, please call Community Education at 218-237-6600. No cash at the pool\, no daily walk in rate. https://www.parkrapidscomed.com/insight/registry/classinfo.asp?courseID=7055&catID=791
URL:https://heartlandlakescommunitycalendar.com/index.php/event/open-lap-swim/2026-08-26/
LOCATION:Park Rapids High School\, 401 Huntsinger Ave\, Park Rapids\, Park Rapids\, 56470\, United States
CATEGORIES:Sport
END:VEVENT
BEGIN:VEVENT
DTSTART;TZID=UTC:20260826T093000
DTEND;TZID=UTC:20260826T103000
DTSTAMP:20260424T172647
CREATED:20250430T143329Z
LAST-MODIFIED:20250430T143330Z
UID:10000392-1787736600-1787740200@heartlandlakescommunitycalendar.com
SUMMARY:Free Senior Coffee Hour
DESCRIPTION:Living at Home of the Park Rapids Area invites you to join us for Free Senior Coffee Hour
URL:https://heartlandlakescommunitycalendar.com/index.php/event/free-senior-coffee-hour-2-2/2026-08-26/
LOCATION:Living at Home\, 218 Industrial Park Rd\, Park Rapids\, MN\, 56470\, United States
CATEGORIES:Social
ATTACH;FMTTYPE=image/png:https://heartlandlakescommunitycalendar.com/wp-content/uploads/2024/03/Senior-Coffee-Hour.png
ORGANIZER;CN="Living at Home":MAILTO:dfc@parkrapidslivingathome.org
END:VEVENT
BEGIN:VEVENT
DTSTART;TZID=UTC:20260826T100000
DTEND;TZID=UTC:20260826T140000
DTSTAMP:20260424T172647
CREATED:20250604T093324Z
LAST-MODIFIED:20250604T093325Z
UID:10009327-1787738400-1787752800@heartlandlakescommunitycalendar.com
SUMMARY:Living at Home Caregiver Closet
DESCRIPTION:The Caregiver Closet is a resource available to caregivers and veterans in Park Rapids and the surrounding areas. \nThe items provided by the Caregiver Closet include durable medical equipment\, both reusable medical supplies and one-time use supplies. The items are offered free of charge\, with the expectation that the items will be returned to the Caregiver Closet (if they are reusable) when they are no longer needed\, so they can be redistributed. \nThe Caregiver Closet can include\, at any given time\, canes\, walkers\, commodes\, shower benches\, crutches\, hospital beds\, lift chairs\, Hoyer lifts\, and so much more. All equipment is clean and ready to go in “as is” condition. \nEquipment and supply use are free. Donations are tax deductible.
URL:https://heartlandlakescommunitycalendar.com/index.php/event/living-at-home-caregiver-closet-3-2-2/2026-08-26/
LOCATION:Living at Home\, 218 Industrial Park Rd\, Park Rapids\, MN\, 56470\, United States
CATEGORIES:Charity
ATTACH;FMTTYPE=image/png:https://heartlandlakescommunitycalendar.com/wp-content/uploads/2024/03/Caregiver-Closet.png
ORGANIZER;CN="Living at Home":MAILTO:dfc@parkrapidslivingathome.org
END:VEVENT
BEGIN:VEVENT
DTSTART;TZID=UTC:20260826T120000
DTEND;TZID=UTC:20260826T130000
DTSTAMP:20260424T172647
CREATED:20241203T043722Z
LAST-MODIFIED:20241203T043722Z
UID:10003613-1787745600-1787749200@heartlandlakescommunitycalendar.com
SUMMARY:Hubbard in Prevention (HIP) Coalition Monthly Meeting
DESCRIPTION:Hubbard in Prevention (HIP) Coalition is currently funded by a Drug Free Communities Grant to help reduce underage alcohol\, marijuana and tobacco among our youth in Hubbard County\, Minnesota. HIP Coalition is working on strategies to reduced youth substance misuse. Please consider joining us!\nHIP Coalition Meets Monthly from 12:00 pm – 1:00 pm on the 4th Wednesday via Zoom \nJoin Zoom Meeting\nhttps://commonspirit.zoom.us/j/2698627351?pwd=ZzhxbWgxcUx6ZHJnZ2taSWhyTGgrdz09 \nMeeting ID: 269 862 7351\nPasscode: Prevention
URL:https://heartlandlakescommunitycalendar.com/index.php/event/hubbard-in-prevention-hip-coalition-monthly-meeting/2026-08-26/
LOCATION:MN
CATEGORIES:Education,Meeting
ORGANIZER;CN="Hubbard In Prevention":MAILTO:angela.graham@commonspirit.org
END:VEVENT
BEGIN:VEVENT
DTSTART;TZID=America/New_York:20260826T140000
DTEND;TZID=America/New_York:20260826T153000
DTSTAMP:20260424T172647
CREATED:20260302T045441Z
LAST-MODIFIED:20260302T045512Z
UID:10012144-1787752800-1787758200@heartlandlakescommunitycalendar.com
SUMMARY:Rockin' 50's Show  Elvis\, Buddy Holly\, Big Bopper  & More!
DESCRIPTION:Step back in time with our Rockin’ 50’s Show\, where the music is legendary\, the energy is electric\, and the memories are unforgettable! Featuring hits from icons like Elvis Presley\, Buddy Holly\, Johnny Cash\, The Big Bopper\, Judy Garland\, Bill Haley\, Chuck Berry and more\, this show will have you dancing in your seat and singing along to the classics. \nDoug Allen Nash as Elvis & Johnny Cash; Lewy Ronken as Buddy Holly; Biff as the Bopper; Kathie Brekke as Judy Garland and More! With a cast this talented and plenty of fun surprises along the way\, you won’t want to miss this rockin’ trip down memory lane. So\, dust off your blue suede shoes and join us for an afternoon packed with music\, laughter\, and the ultimate ’50s vibes!🎤 It’s not just a show—it’s a celebration of the golden age of rock ‘n’ roll! \nGrab your tickets now!
URL:https://heartlandlakescommunitycalendar.com/index.php/event/rockin-50s-show-elvis-buddy-holly-big-bopper-more/2026-08-26/
LOCATION:Jasper’s Theater\, 17339 State. Hwy 34\, Park Rapids\, MN\, 56470\, United States
CATEGORIES:Theater
ATTACH;FMTTYPE=image/avif:https://heartlandlakescommunitycalendar.com/wp-content/uploads/2026/03/Rockin-50s2026.avif
ORGANIZER;CN="Jasper's Theater":MAILTO:jasperstheater@gmail.com
END:VEVENT
END:VCALENDAR