BEGIN:VCALENDAR
VERSION:2.0
PRODID:-//The Heartland Lakes Community Calendar - ECPv6.3.7//NONSGML v1.0//EN
CALSCALE:GREGORIAN
METHOD:PUBLISH
X-WR-CALNAME:The Heartland Lakes Community Calendar
X-ORIGINAL-URL:https://heartlandlakescommunitycalendar.com
X-WR-CALDESC:Events for The Heartland Lakes Community Calendar
REFRESH-INTERVAL;VALUE=DURATION:PT1H
X-Robots-Tag:noindex
X-PUBLISHED-TTL:PT1H
BEGIN:VTIMEZONE
TZID:America/New_York
BEGIN:DAYLIGHT
TZOFFSETFROM:-0500
TZOFFSETTO:-0400
TZNAME:EDT
DTSTART:20260308T070000
END:DAYLIGHT
BEGIN:STANDARD
TZOFFSETFROM:-0400
TZOFFSETTO:-0500
TZNAME:EST
DTSTART:20261101T060000
END:STANDARD
END:VTIMEZONE
BEGIN:VEVENT
DTSTART;TZID=America/New_York:20260412T110000
DTEND;TZID=America/New_York:20260412T160000
DTSTAMP:20260420T152307
CREATED:20260301T235029Z
LAST-MODIFIED:20260301T235029Z
UID:10012086-1775991600-1776009600@heartlandlakescommunitycalendar.com
SUMMARY:Open Art Studio
DESCRIPTION:Studio 3 opens its doors to artists looking for a place to find community and a great space to create. Registration is required on the Armory Website.
URL:https://heartlandlakescommunitycalendar.com/index.php/event/open-art-studio/2026-04-12/
LOCATION:Armory Arts & Events Center\, 203 Park Ave. South\, Park Rapids\, MN\, 56470\, United States
CATEGORIES:Arts
ORGANIZER;CN="Armory Arts & Events Center":MAILTO:jkjenaas@parkrapidsarmory.org
END:VEVENT
END:VCALENDAR