BEGIN:VCALENDAR
VERSION:2.0
PRODID:-//The Heartland Lakes Community Calendar - ECPv6.3.7//NONSGML v1.0//EN
CALSCALE:GREGORIAN
METHOD:PUBLISH
X-WR-CALNAME:The Heartland Lakes Community Calendar
X-ORIGINAL-URL:https://heartlandlakescommunitycalendar.com
X-WR-CALDESC:Events for The Heartland Lakes Community Calendar
REFRESH-INTERVAL;VALUE=DURATION:PT1H
X-Robots-Tag:noindex
X-PUBLISHED-TTL:PT1H
BEGIN:VTIMEZONE
TZID:America/New_York
BEGIN:DAYLIGHT
TZOFFSETFROM:-0500
TZOFFSETTO:-0400
TZNAME:EDT
DTSTART:20260308T070000
END:DAYLIGHT
BEGIN:STANDARD
TZOFFSETFROM:-0400
TZOFFSETTO:-0500
TZNAME:EST
DTSTART:20261101T060000
END:STANDARD
END:VTIMEZONE
BEGIN:VEVENT
DTSTART;TZID=America/New_York:20260618T113000
DTEND;TZID=America/New_York:20260618T130000
DTSTAMP:20260420T191830
CREATED:20250818T071333Z
LAST-MODIFIED:20250818T071334Z
UID:10010664-1781782200-1781787600@heartlandlakescommunitycalendar.com
SUMMARY:Art Bites
DESCRIPTION:Enjoy light lunch & lively conversation as we explore a variety of art styles\, techniques & creative practices. Whether you’re an artist\, an art lover\, or just curious\, this is your chance to get inspired\, connect with others & even hear special guest artists discuss their craft.
URL:https://heartlandlakescommunitycalendar.com/index.php/event/art-bites/2026-06-18/
LOCATION:Armory Arts & Events Center\, 203 Park Ave. South\, Park Rapids\, MN\, 56470\, United States
CATEGORIES:Arts
ATTACH;FMTTYPE=image/avif:https://heartlandlakescommunitycalendar.com/wp-content/uploads/2025/08/0cd6cd_e52e0dd6bd3a4fe79840296e7cc9cdbfmv2.avif
ORGANIZER;CN="Armory Arts & Events Center":MAILTO:jkjenaas@parkrapidsarmory.org
END:VEVENT
END:VCALENDAR