BEGIN:VCALENDAR
VERSION:2.0
PRODID:-//The Heartland Lakes Community Calendar - ECPv6.3.7//NONSGML v1.0//EN
CALSCALE:GREGORIAN
METHOD:PUBLISH
X-ORIGINAL-URL:https://heartlandlakescommunitycalendar.com
X-WR-CALDESC:Events for The Heartland Lakes Community Calendar
REFRESH-INTERVAL;VALUE=DURATION:PT1H
X-Robots-Tag:noindex
X-PUBLISHED-TTL:PT1H
BEGIN:VTIMEZONE
TZID:America/New_York
BEGIN:DAYLIGHT
TZOFFSETFROM:-0500
TZOFFSETTO:-0400
TZNAME:EDT
DTSTART:20260308T070000
END:DAYLIGHT
BEGIN:STANDARD
TZOFFSETFROM:-0400
TZOFFSETTO:-0500
TZNAME:EST
DTSTART:20261101T060000
END:STANDARD
END:VTIMEZONE
BEGIN:VEVENT
DTSTART;TZID=America/New_York:20260815T100000
DTEND;TZID=America/New_York:20260815T173000
DTSTAMP:20260420T231435
CREATED:20260302T070606Z
LAST-MODIFIED:20260302T070606Z
UID:10012200-1786788000-1786815000@heartlandlakescommunitycalendar.com
SUMMARY:Forestedge Art Fair at the Winery
DESCRIPTION:A beautiful weekend of talented artists\, delicious food\, and\, of course\, the best wine in the North Woods! You don’t want to miss this!
URL:https://heartlandlakescommunitycalendar.com/index.php/event/forestedge-art-fair-at-the-winery/2026-08-15/
LOCATION:Forestedge Winery\, 35295 State 64\, Laporte\, 56461\, United States
CATEGORIES:Arts
ORGANIZER;CN="Forestedge Winery":MAILTO:info@forestedgewinery.com
END:VEVENT
END:VCALENDAR