BEGIN:VCALENDAR
VERSION:2.0
PRODID:-//The Heartland Lakes Community Calendar - ECPv6.3.7//NONSGML v1.0//EN
CALSCALE:GREGORIAN
METHOD:PUBLISH
X-ORIGINAL-URL:https://heartlandlakescommunitycalendar.com
X-WR-CALDESC:Events for The Heartland Lakes Community Calendar
REFRESH-INTERVAL;VALUE=DURATION:PT1H
X-Robots-Tag:noindex
X-PUBLISHED-TTL:PT1H
BEGIN:VTIMEZONE
TZID:America/New_York
BEGIN:DAYLIGHT
TZOFFSETFROM:-0500
TZOFFSETTO:-0400
TZNAME:EDT
DTSTART:20260308T070000
END:DAYLIGHT
BEGIN:STANDARD
TZOFFSETFROM:-0400
TZOFFSETTO:-0500
TZNAME:EST
DTSTART:20261101T060000
END:STANDARD
END:VTIMEZONE
BEGIN:VEVENT
DTSTART;TZID=America/New_York:20260301T110000
DTEND;TZID=America/New_York:20260301T160000
DTSTAMP:20260420T231139
CREATED:20260301T235029Z
LAST-MODIFIED:20260301T235029Z
UID:10012083-1772362800-1772380800@heartlandlakescommunitycalendar.com
SUMMARY:Open Art Studio
DESCRIPTION:Studio 3 opens its doors to artists looking for a place to find community and a great space to create. Registration is required on the Armory Website.
URL:https://heartlandlakescommunitycalendar.com/index.php/event/open-art-studio/2026-03-01/
LOCATION:Armory Arts & Events Center\, 203 Park Ave. South\, Park Rapids\, MN\, 56470\, United States
CATEGORIES:Arts
ORGANIZER;CN="Armory Arts & Events Center":MAILTO:jkjenaas@parkrapidsarmory.org
END:VEVENT
BEGIN:VEVENT
DTSTART;TZID=America/New_York:20260301T190000
DTEND;TZID=America/New_York:20260301T203000
DTSTAMP:20260420T231139
CREATED:20260215T175943Z
LAST-MODIFIED:20260215T175943Z
UID:10011734-1772391600-1772397000@heartlandlakescommunitycalendar.com
SUMMARY:March Madness: An Evening of Comedy with Nate Roe and Eric Slivoskey
DESCRIPTION:A Night of Smiles and Laughter featuring the hilarious Nate Roe and the middle of America funny man\, Eric Slivoskey. Eric previously auditioned for America’s Got Talent\, and has opened at the Laugh Factory in Hollywood for comics like Ken Jeong (Mr. Chow in the legendary Hangover Movie series). Eric performs at festivals\, comedy clubs\, bars\, corporate events\, and community theaters all over the country and his comedy is centered on family dynamics\, pop culture\, current events\, and life in these United States\nThis event is for audiences 18+.\nFor Tickets: Use the Humanitix link or pay cash at the door
URL:https://heartlandlakescommunitycalendar.com/index.php/event/march-madness-an-evening-of-comedy-with-nate-roe-and-eric-slivoskey/
LOCATION:Park Theater\, 107 Main Ave S\, Park Rapids\, 56470\, United States
CATEGORIES:Arts
ORGANIZER;CN="Eric Slivoskey":MAILTO:eric.slivoskey@gmail.com
END:VEVENT
END:VCALENDAR