BEGIN:VCALENDAR
VERSION:2.0
PRODID:-//The Heartland Lakes Community Calendar - ECPv6.3.7//NONSGML v1.0//EN
CALSCALE:GREGORIAN
METHOD:PUBLISH
X-WR-CALNAME:The Heartland Lakes Community Calendar
X-ORIGINAL-URL:https://heartlandlakescommunitycalendar.com
X-WR-CALDESC:Events for The Heartland Lakes Community Calendar
REFRESH-INTERVAL;VALUE=DURATION:PT1H
X-Robots-Tag:noindex
X-PUBLISHED-TTL:PT1H
BEGIN:VTIMEZONE
TZID:America/New_York
BEGIN:DAYLIGHT
TZOFFSETFROM:-0500
TZOFFSETTO:-0400
TZNAME:EDT
DTSTART:20250309T070000
END:DAYLIGHT
BEGIN:STANDARD
TZOFFSETFROM:-0400
TZOFFSETTO:-0500
TZNAME:EST
DTSTART:20251102T060000
END:STANDARD
BEGIN:DAYLIGHT
TZOFFSETFROM:-0500
TZOFFSETTO:-0400
TZNAME:EDT
DTSTART:20260308T070000
END:DAYLIGHT
BEGIN:STANDARD
TZOFFSETFROM:-0400
TZOFFSETTO:-0500
TZNAME:EST
DTSTART:20261101T060000
END:STANDARD
END:VTIMEZONE
BEGIN:VEVENT
DTSTART;TZID=America/New_York:20250810T183000
DTEND;TZID=America/New_York:20250810T200000
DTSTAMP:20260420T044646
CREATED:20250722T152343Z
LAST-MODIFIED:20250722T152343Z
UID:10010217-1754850600-1754856000@heartlandlakescommunitycalendar.com
SUMMARY:Anthony Shore Presents ELVIS
DESCRIPTION:Step back in time\, sink into your chair  and enjoy the smooth vocals of this incredible performer. If you missed him at his SOLD OUT SHOWS AT CHANHASSEN DINNER THEATERS this year\, you’re in luck!  A unique opportunity to witness live vocals and even get up close and personal with photos on stage with Mr. Shore if you are quick and get yourself a $30 VIP PASS!  Wise men say only fools rush in… but go for it!  HURRY UP and get your seats reserved. These tickets will go fast!  Get the full experience and join us for dinner ahead of the show in the screen porch pub!  Pre-order your $20 pre-show dinner of cheeseburger w/fries or chips or your meatloaf and mashed potatoes…. polish it off with a milkshake or sundae!  Fill that belly so you can settle in for a great afternoon or evening of music! And don’t worry about that ice cream… you’ll burn those calories dancin’ to the Jailhouse Rock! 
URL:https://heartlandlakescommunitycalendar.com/index.php/event/anthony-shore-presents-elvis/2025-08-10/2/
LOCATION:Long Lake Theater and Event Center\, 12183 Beacon Road\, Hubbard\, MN\, 56470\, United States
CATEGORIES:Dinner,Theater
ATTACH;FMTTYPE=image/avif:https://heartlandlakescommunitycalendar.com/wp-content/uploads/2025/07/IMG_6095.avif
ORGANIZER;CN="Long Lake Theater and Event Center":MAILTO:longlaketheater@yahoo.com
END:VEVENT
BEGIN:VEVENT
DTSTART;TZID=America/New_York:20250812T110000
DTEND;TZID=America/New_York:20250812T140000
DTSTAMP:20260420T044646
CREATED:20250722T160250Z
LAST-MODIFIED:20250722T160250Z
UID:10010223-1754996400-1755007200@heartlandlakescommunitycalendar.com
SUMMARY:First and Last Responders Appreciation Cookout
DESCRIPTION:Hosted by Jones-Pearson Funeral Home Jones-Pearson Funeral Home\, Park Rapids\, MN August 12th\, 11am – 2pm\nWe warmly invite all first and last responders—our community’s heroes—to join us for an afternoon of gratitude\, food\, and fellowship.\nThis appreciation cookout is our way of saying thank you to the EMTs\, firefighters\, law enforcement\, medical professionals\, hospice and support staff who show up day after day to serve others with courage and compassion.\n Free Cookout Lunch Family-Friendly Atmosphere Meet your fellow responders & community members\nWhether you’re on the front lines of emergencies or caring for families during their most tender moments\, you are the backbone of our community—and we are grateful.\nPlease RSVP and share with your fellow responders!\nLet’s come together to celebrate the strength\, kindness\, and unity that defines our service.
URL:https://heartlandlakescommunitycalendar.com/index.php/event/first-and-last-responders-appreciation-cookout/
LOCATION:Jones-Pearson Funeral Home\, 608 Park Ave S\, Park Rapids\, MN\, 56470\, United States
CATEGORIES:Dinner
ATTACH;FMTTYPE=image/jpeg:https://heartlandlakescommunitycalendar.com/wp-content/uploads/2025/07/518414122_122227161740187711_1788456508392546799_n-scaled.jpg
ORGANIZER;CN="Jones-Pearson Funeral Home":MAILTO:admin@jonespearson.com
END:VEVENT
BEGIN:VEVENT
DTSTART;TZID=America/New_York:20250815T110000
DTEND;TZID=America/New_York:20250815T133000
DTSTAMP:20260420T044646
CREATED:20250722T210708Z
LAST-MODIFIED:20250722T210709Z
UID:10010580-1755255600-1755264600@heartlandlakescommunitycalendar.com
SUMMARY:Festival of Tables
DESCRIPTION:Limited Tickets Available! Tickets can be purchases from the hospital gift shop. For more information \, call 218-616-3115. \n11am – Table Viewing & Photos \n11:3oam- Hors d’oeuvres & Beverages \n12pm  – Luncheon & Dessert \n1pm – Raffle Drawings
URL:https://heartlandlakescommunitycalendar.com/index.php/event/festival-of-tables/
LOCATION:Calvary Lutheran Church\, 112 Park Ave\, Park Rapids\, MN\, 56470\, United States
CATEGORIES:Arts,Dinner
ATTACH;FMTTYPE=image/jpeg:https://heartlandlakescommunitycalendar.com/wp-content/uploads/2025/07/FestivalofTables.jpeg
END:VEVENT
BEGIN:VEVENT
DTSTART;TZID=America/New_York:20250816T153000
DTEND;TZID=America/New_York:20250816T183000
DTSTAMP:20260420T044646
CREATED:20250722T181006Z
LAST-MODIFIED:20250810T181820Z
UID:10010295-1755358200-1755369000@heartlandlakescommunitycalendar.com
SUMMARY:2025 Marine Corps League Rib Cook Off
DESCRIPTION:Join us at the Nevis Liquor Store for food\, fun and friends. The 13th Annual Marine Corps League Rib Cook Off! Register now to be part of the competition or just come for the fun! Registration deadline August 9\, 2025
URL:https://heartlandlakescommunitycalendar.com/index.php/event/2025-marine-corps-league-rib-cook-off/
LOCATION:Nevis Liquor Store\, 100 Main St W\, Nevis\, 56467\, United States
CATEGORIES:Dinner,Fundraiser
ORGANIZER;CN="Nevis Civic & Commerce":MAILTO:nevischamber@gmail.com
END:VEVENT
BEGIN:VEVENT
DTSTART;TZID=America/New_York:20250822T160000
DTEND;TZID=America/New_York:20250822T190000
DTSTAMP:20260420T044646
CREATED:20250810T173913Z
LAST-MODIFIED:20250818T074055Z
UID:10010632-1755878400-1755889200@heartlandlakescommunitycalendar.com
SUMMARY:Walleye & Wild Rice Dinner and Silent Auction
DESCRIPTION:Come out\, have a wonderful meal\, and visit your friends and neighbors. Support your local DFL! This is our 40th Annual Walleye wild rice dinner and Silent auction! Takeout is available. Adults $25\, Children 12 and under $7
URL:https://heartlandlakescommunitycalendar.com/index.php/event/walleye-wild-rice-sinner-and-silent-auction/
LOCATION:Park Rapids American Legion\, 900 1st St E\, Park Rapids\, MN\, 56470\, United States
CATEGORIES:Dinner,Political
ATTACH;FMTTYPE=image/png:https://heartlandlakescommunitycalendar.com/wp-content/uploads/2025/08/Screenshot-2025-08-10-123610.png
ORGANIZER;CN="Hubbard County DFL":MAILTO:lindaeickman@gmail.com
END:VEVENT
BEGIN:VEVENT
DTSTART;TZID=America/New_York:20250829T110000
DTEND;TZID=America/New_York:20250829T140000
DTSTAMP:20260420T044646
CREATED:20250824T034336Z
LAST-MODIFIED:20250824T034336Z
UID:10010748-1756465200-1756476000@heartlandlakescommunitycalendar.com
SUMMARY:Forest and Floral Customer Appreciation Lunch
DESCRIPTION:We’re celebrating you\, our wonderful customers\, with a special event you won’t want to miss. Stop by for a FREE lunch\, browse our beautiful selection of plants\, gifts\, and garden décor\, and take advantage of amazing deals during our Labor Day Sale. \nIt’s the perfect time to stock up on your favorites or discover something new — all while enjoying a fun and festive atmosphere. We appreciate your support and look forward to seeing you there!
URL:https://heartlandlakescommunitycalendar.com/index.php/event/forest-and-floral-customer-appreciation-lunch/
LOCATION:Forest and Floral Garden Center\, 701 Fair Ave\, Park Rapids\, MN\, 56470\, United States
CATEGORIES:Dinner,Shopping
ORGANIZER;CN="Forest and Floral Garden Center":MAILTO:forestandfloralgc@outlook.com
END:VEVENT
BEGIN:VEVENT
DTSTART;TZID=America/New_York:20251011T160000
DTEND;TZID=America/New_York:20251011T193000
DTSTAMP:20260420T044646
CREATED:20250824T034916Z
LAST-MODIFIED:20250824T034916Z
UID:10010750-1760198400-1760211000@heartlandlakescommunitycalendar.com
SUMMARY:Lutefisk & Meatball Supper
DESCRIPTION:Join us in Lake George\, MN for Lutefisk and Meatball supper October 11th\, 2025!serving from 4pm-7:30pm. Tickets at the door only. Handicap accessible with elevator available. $20 adults\, $10 kids all you can eat with takeout available. Kent Dudley will be entertaining with country gospel music upstairs in the church for before or after you eat! we had a great time last year\, and we hope to see you again this year!
URL:https://heartlandlakescommunitycalendar.com/index.php/event/lutefisk-meatball-supper/
LOCATION:Trinity Lutheran Church\, 37115 US HWY 71\, Lake George\, 56458\, United States
CATEGORIES:Dinner
ATTACH;FMTTYPE=image/jpeg:https://heartlandlakescommunitycalendar.com/wp-content/uploads/2025/08/535736681_727164460312979_4526281755827261738_n.jpg
ORGANIZER;CN="Trinity Lutheran Church":MAILTO:trinitylutheran.lakegeorgemn@gmail.com
END:VEVENT
BEGIN:VEVENT
DTSTART;TZID=America/New_York:20251011T163000
DTEND;TZID=America/New_York:20251011T190000
DTSTAMP:20260420T044646
CREATED:20250929T181126Z
LAST-MODIFIED:20250929T181126Z
UID:10010951-1760200200-1760209200@heartlandlakescommunitycalendar.com
SUMMARY:Annual Fall Dinner
DESCRIPTION:St. Mary’s Catholic Church of Two Inlets will be hosting their Annual Fall Dinner at the American Legion\, serving Roast Beef and Pork with mashed potatoes& gravy\, all the trimmings\, plus homemade pies and desserts. There will also be a silent auction featuring many handcrafted items.
URL:https://heartlandlakescommunitycalendar.com/index.php/event/annual-fall-dinner/
LOCATION:Park Rapids American Legion\, 900 1st St E\, Park Rapids\, MN\, 56470\, United States
CATEGORIES:Dinner
ATTACH;FMTTYPE=application/pdf:https://heartlandlakescommunitycalendar.com/wp-content/uploads/2025/09/Dinner-Flyer-2025.pdf
ORGANIZER;CN="St. Mary's Catholic Church":MAILTO:sm2inlets@stpeterpr.org
END:VEVENT
BEGIN:VEVENT
DTSTART;TZID=America/New_York:20251014T160000
DTEND;TZID=America/New_York:20251014T220000
DTSTAMP:20260420T044646
CREATED:20251003T063352Z
LAST-MODIFIED:20251003T063353Z
UID:10010954-1760457600-1760479200@heartlandlakescommunitycalendar.com
SUMMARY:Make Burgers Great Again - A Trump Dinner
DESCRIPTION:Hubbard County GOP Fundraiser – Come meet from Your GOP Governor and US Senate Candidates: Including Royce White\, Adam Schwarze and Phil Parrish Hosted by RNC Committeeman AK Kamara $50 for adults Young Republicans $30
URL:https://heartlandlakescommunitycalendar.com/index.php/event/make-burgers-great-again-a-trump-dinner/
LOCATION:West Forty Restaurant\, 906 First St W\, Park Rapids\, MN\, 56470\, United States
CATEGORIES:Dinner,Political
ATTACH;FMTTYPE=image/webp:https://heartlandlakescommunitycalendar.com/wp-content/uploads/2025/10/2025-gop-2931df6f542ace589c0ec0927121992f.webp
ORGANIZER;CN="Hubbard County Republicans":MAILTO:hubbardcountyrepublicans@gmail.com
END:VEVENT
BEGIN:VEVENT
DTSTART;TZID=America/New_York:20251108T160000
DTEND;TZID=America/New_York:20251108T190000
DTSTAMP:20260420T044646
CREATED:20251023T031858Z
LAST-MODIFIED:20251023T031859Z
UID:10010961-1762617600-1762628400@heartlandlakescommunitycalendar.com
SUMMARY:Tasty\, Tender\, Turkey Dinner Benefiting the Headwaters Animal Shelter
DESCRIPTION:Join us on Friday\, November 8th from 4pm to 7pm at the Park Rapids American Legion for a heartwarming community event you won’t want to miss! We’ll be serving up a homestyle turkey dinner complete with mashed potatoes and gravy\, vegetables\, and a delicious selection of desserts. \nAlong with a hearty meal\, the evening will feature a Silent Auction filled with great items\, and our Cash Raffle Drawing with $5\,000 in prizes\, including a $2\,000 grand prize! \nThis event is open to everyone so stop in\, enjoy a hot meal\, and join in the fun while supporting a great cause. All proceeds benefit the animals at Headwaters Animal Shelter\, giving them the care and second chances they deserve. Come hungry\, leave happy\, and help us make a difference.
URL:https://heartlandlakescommunitycalendar.com/index.php/event/tasty-tender-turkey-dinner-benefiting-the-headwaters-animal-shelter/
LOCATION:Park Rapids American Legion\, 900 1st St E\, Park Rapids\, MN\, 56470\, United States
CATEGORIES:Charity,Dinner
ATTACH;FMTTYPE=application/pdf:https://heartlandlakescommunitycalendar.com/wp-content/uploads/2025/10/turkey-dinner-poster-2025.pdf
ORGANIZER;CN="Headwaters Animal Shelter":MAILTO:HAS@HeadwatersAnimalShelter.org
END:VEVENT
BEGIN:VEVENT
DTSTART;TZID=America/New_York:20251108T173000
DTEND;TZID=America/New_York:20251108T193000
DTSTAMP:20260420T044646
CREATED:20251102T015253Z
LAST-MODIFIED:20251102T015253Z
UID:10010964-1762623000-1762630200@heartlandlakescommunitycalendar.com
SUMMARY:St. Mary's Spaghetti Dinner
DESCRIPTION:Join us at St. Mary’s Church for a delicious Spaghetti Dinner\, followed by our special Deer Hunter Mass. Enjoy a hearty meal and good company as we come together in fellowship before the hunting season begins. After dinner\, stay for a meaningful Mass to pray for safety\, success\, and gratitude for the gifts of the season. All are welcome. Dinner is free will offering. Bring your family\, friends\, and neighbors for an evening of food\, faith\, and community!
URL:https://heartlandlakescommunitycalendar.com/index.php/event/st-marys-spaghetti-dinner/
LOCATION:St. Mary’s Catholic Church\, 55744 Co Hwy 44\, Park Rapids\, MN\, 56470\, United States
CATEGORIES:Dinner
ATTACH;FMTTYPE=application/pdf:https://heartlandlakescommunitycalendar.com/wp-content/uploads/2025/11/Flyer-2025.pdf
ORGANIZER;CN="St. Mary's Catholic Church":MAILTO:sm2inlets@stpeterpr.org
END:VEVENT
BEGIN:VEVENT
DTSTART;TZID=America/New_York:20251121T163000
DTEND;TZID=America/New_York:20251121T190000
DTSTAMP:20260420T044646
CREATED:20250909T194927Z
LAST-MODIFIED:20250909T194927Z
UID:10010942-1763742600-1763751600@heartlandlakescommunitycalendar.com
SUMMARY:Living at Home's BBQ Rib Dinner
DESCRIPTION:Celebrating 33 years of service to area seniors\, come join us for our famous BBQ Rib Dinner! The dinner will be Friday November 21\, 2025 from 4:30pm – 7pm at the American Legion Park Rapids; $15 for adults\, $7 for children 10 and under. Chocolate treats will be donated by Aunt Belle’s Confectionary
URL:https://heartlandlakescommunitycalendar.com/index.php/event/living-at-homes-bbq-rib-dinner-3/
LOCATION:Park Rapids American Legion\, 900 1st St E\, Park Rapids\, MN\, 56470\, United States
CATEGORIES:Dinner
ATTACH;FMTTYPE=application/pdf:https://heartlandlakescommunitycalendar.com/wp-content/uploads/2025/09/Poster-Nov-21-2025.pdf
ORGANIZER;CN="Living at Home":MAILTO:dfc@parkrapidslivingathome.org
END:VEVENT
BEGIN:VEVENT
DTSTART;TZID=America/New_York:20260214T170000
DTEND;TZID=America/New_York:20260214T190000
DTSTAMP:20260420T044646
CREATED:20260210T193029Z
LAST-MODIFIED:20260210T193030Z
UID:10011732-1771088400-1771095600@heartlandlakescommunitycalendar.com
SUMMARY:Pathways to Haitian Education Valentine's Dinner & Silent Auction
DESCRIPTION:Pork lion\, stuffing\, potatoes\, gravy\, vegetables\, associated bars\, beverages \nAll proceeds support the students at Our Lady of Perpetual Help School in Baudin\, Haiti
URL:https://heartlandlakescommunitycalendar.com/index.php/event/pathways-to-haitian-education-valentines-dinner-silent-auction/
LOCATION:Bethany Lutheran Church\, 103 3rd Ave\, Nevis\, 56467\, United States
CATEGORIES:Dinner,Holiday
ATTACH;FMTTYPE=application/pdf:https://heartlandlakescommunitycalendar.com/wp-content/uploads/2026/02/SKM_C300i26020913510.pdf
END:VEVENT
BEGIN:VEVENT
DTSTART;TZID=America/New_York:20260301T110000
DTEND;TZID=America/New_York:20260301T130000
DTSTAMP:20260420T044646
CREATED:20260301T061708Z
LAST-MODIFIED:20260301T183534Z
UID:10011777-1772362800-1772370000@heartlandlakescommunitycalendar.com
SUMMARY:15th Annual Chili Challenge
DESCRIPTION:The 15th Annual Chili Challenge will be held at the Park Rapids American Legion on March 4th from 11am – 1pm. Featuring up to 22 chili teams\, tickets will be $1 per sample available for purchase in packs of five or buy as many as you would like! Desserts and bottled water will be provided. Tickets will be sold at the door. \nAll proceeds will benefit the Hubbard County Food Shelf and extra donations are greatly appreciated! Teams are encouraged to pre-fundraise. The team raising the most money will be honored with the “Top $Bean$” Award. The team with the most votes for favorite chili will win the “Tasters’ Choice” Award. \nSponsors include: \n\nOtto Hendrickson Post 212 American Legion\nPR Rotary\nPR Enterprise\nPrudential\, Brian Behrens\nDeLaHunt Media\nLiving at Home of the Park Rapids Area\nNei Bottling\nPR Lions
URL:https://heartlandlakescommunitycalendar.com/index.php/event/15th-annual-chili-challenge/
LOCATION:Park Rapids American Legion\, 900 1st St E\, Park Rapids\, MN\, 56470\, United States
CATEGORIES:Dinner,Fundraiser
ATTACH;FMTTYPE=application/pdf:https://heartlandlakescommunitycalendar.com/wp-content/uploads/2026/03/chili-challenge-flyer-2026-revised-1.pdf
ORGANIZER;CN="Park Rapids American Legion":MAILTO:barmanagerpost212@arvig.net
END:VEVENT
END:VCALENDAR