BEGIN:VCALENDAR
VERSION:2.0
PRODID:-//The Heartland Lakes Community Calendar - ECPv6.3.7//NONSGML v1.0//EN
CALSCALE:GREGORIAN
METHOD:PUBLISH
X-WR-CALNAME:The Heartland Lakes Community Calendar
X-ORIGINAL-URL:https://heartlandlakescommunitycalendar.com
X-WR-CALDESC:Events for The Heartland Lakes Community Calendar
REFRESH-INTERVAL;VALUE=DURATION:PT1H
X-Robots-Tag:noindex
X-PUBLISHED-TTL:PT1H
BEGIN:VTIMEZONE
TZID:UTC
BEGIN:STANDARD
TZOFFSETFROM:+0000
TZOFFSETTO:+0000
TZNAME:UTC
DTSTART:20240101T000000
END:STANDARD
END:VTIMEZONE
BEGIN:VEVENT
DTSTART;TZID=UTC:20250411T163000
DTEND;TZID=UTC:20250411T190000
DTSTAMP:20260420T121341
CREATED:20250129T002727Z
LAST-MODIFIED:20250129T002727Z
UID:10007738-1744389000-1744398000@heartlandlakescommunitycalendar.com
SUMMARY:Friday Fish Fry
DESCRIPTION:Bring your appetite and enjoy a mouthwatering fish fry with friends and family! Perfectly fried fish\, tasty sides\, and great company await you. Whether you’re a seafood lover or just looking for a fantastic meal\, this is the place to be. Come for the food\, stay for the community vibes
URL:https://heartlandlakescommunitycalendar.com/index.php/event/friday-fish-fry/2025-04-11/
LOCATION:Park Rapids American Legion\, 900 1st St E\, Park Rapids\, MN\, 56470\, United States
CATEGORIES:Dinner
ORGANIZER;CN="Park Rapids American Legion":MAILTO:barmanagerpost212@arvig.net
END:VEVENT
BEGIN:VEVENT
DTSTART;TZID=UTC:20250404T163000
DTEND;TZID=UTC:20250404T190000
DTSTAMP:20260420T121341
CREATED:20250129T002727Z
LAST-MODIFIED:20250129T002727Z
UID:10007737-1743784200-1743793200@heartlandlakescommunitycalendar.com
SUMMARY:Friday Fish Fry
DESCRIPTION:Bring your appetite and enjoy a mouthwatering fish fry with friends and family! Perfectly fried fish\, tasty sides\, and great company await you. Whether you’re a seafood lover or just looking for a fantastic meal\, this is the place to be. Come for the food\, stay for the community vibes
URL:https://heartlandlakescommunitycalendar.com/index.php/event/friday-fish-fry/2025-04-04/
LOCATION:Park Rapids American Legion\, 900 1st St E\, Park Rapids\, MN\, 56470\, United States
CATEGORIES:Dinner
ORGANIZER;CN="Park Rapids American Legion":MAILTO:barmanagerpost212@arvig.net
END:VEVENT
BEGIN:VEVENT
DTSTART;TZID=UTC:20250328T163000
DTEND;TZID=UTC:20250328T190000
DTSTAMP:20260420T121341
CREATED:20250129T002727Z
LAST-MODIFIED:20250129T002727Z
UID:10007736-1743179400-1743188400@heartlandlakescommunitycalendar.com
SUMMARY:Friday Fish Fry
DESCRIPTION:Bring your appetite and enjoy a mouthwatering fish fry with friends and family! Perfectly fried fish\, tasty sides\, and great company await you. Whether you’re a seafood lover or just looking for a fantastic meal\, this is the place to be. Come for the food\, stay for the community vibes
URL:https://heartlandlakescommunitycalendar.com/index.php/event/friday-fish-fry/2025-03-28/
LOCATION:Park Rapids American Legion\, 900 1st St E\, Park Rapids\, MN\, 56470\, United States
CATEGORIES:Dinner
ORGANIZER;CN="Park Rapids American Legion":MAILTO:barmanagerpost212@arvig.net
END:VEVENT
BEGIN:VEVENT
DTSTART;TZID=UTC:20250321T163000
DTEND;TZID=UTC:20250321T190000
DTSTAMP:20260420T121341
CREATED:20250129T002727Z
LAST-MODIFIED:20250129T002727Z
UID:10007735-1742574600-1742583600@heartlandlakescommunitycalendar.com
SUMMARY:Friday Fish Fry
DESCRIPTION:Bring your appetite and enjoy a mouthwatering fish fry with friends and family! Perfectly fried fish\, tasty sides\, and great company await you. Whether you’re a seafood lover or just looking for a fantastic meal\, this is the place to be. Come for the food\, stay for the community vibes
URL:https://heartlandlakescommunitycalendar.com/index.php/event/friday-fish-fry/2025-03-21/
LOCATION:Park Rapids American Legion\, 900 1st St E\, Park Rapids\, MN\, 56470\, United States
CATEGORIES:Dinner
ORGANIZER;CN="Park Rapids American Legion":MAILTO:barmanagerpost212@arvig.net
END:VEVENT
BEGIN:VEVENT
DTSTART;TZID=UTC:20250314T163000
DTEND;TZID=UTC:20250314T190000
DTSTAMP:20260420T121341
CREATED:20250129T002727Z
LAST-MODIFIED:20250129T002727Z
UID:10007734-1741969800-1741978800@heartlandlakescommunitycalendar.com
SUMMARY:Friday Fish Fry
DESCRIPTION:Bring your appetite and enjoy a mouthwatering fish fry with friends and family! Perfectly fried fish\, tasty sides\, and great company await you. Whether you’re a seafood lover or just looking for a fantastic meal\, this is the place to be. Come for the food\, stay for the community vibes
URL:https://heartlandlakescommunitycalendar.com/index.php/event/friday-fish-fry/2025-03-14/
LOCATION:Park Rapids American Legion\, 900 1st St E\, Park Rapids\, MN\, 56470\, United States
CATEGORIES:Dinner
ORGANIZER;CN="Park Rapids American Legion":MAILTO:barmanagerpost212@arvig.net
END:VEVENT
BEGIN:VEVENT
DTSTART;TZID=UTC:20250307T163000
DTEND;TZID=UTC:20250307T190000
DTSTAMP:20260420T121341
CREATED:20250129T002727Z
LAST-MODIFIED:20250129T002727Z
UID:10007733-1741365000-1741374000@heartlandlakescommunitycalendar.com
SUMMARY:Friday Fish Fry
DESCRIPTION:Bring your appetite and enjoy a mouthwatering fish fry with friends and family! Perfectly fried fish\, tasty sides\, and great company await you. Whether you’re a seafood lover or just looking for a fantastic meal\, this is the place to be. Come for the food\, stay for the community vibes
URL:https://heartlandlakescommunitycalendar.com/index.php/event/friday-fish-fry/2025-03-07/
LOCATION:Park Rapids American Legion\, 900 1st St E\, Park Rapids\, MN\, 56470\, United States
CATEGORIES:Dinner
ORGANIZER;CN="Park Rapids American Legion":MAILTO:barmanagerpost212@arvig.net
END:VEVENT
BEGIN:VEVENT
DTSTART;TZID=UTC:20250228T110000
DTEND;TZID=UTC:20250228T131500
DTSTAMP:20260420T121341
CREATED:20250201T235418Z
LAST-MODIFIED:20250201T235418Z
UID:10007742-1740740400-1740748500@heartlandlakescommunitycalendar.com
SUMMARY:Chili and Hotdish Cook Off
DESCRIPTION:Make the best chili & hotdish to win a trophy and bragging rights! All proceeds will go towards Youth Emergency Shelter & supports YESS capital fundraising goal for our new Youth Outreach Program location! $10 entry for business\, agency\, organization or group making a dish. $5 to eat\, vote for the best using $1 bills. The group with the most money wins! \nTo register to enter contest: youthmatterinhubbardcounty@gmail.com or 218-831-2420
URL:https://heartlandlakescommunitycalendar.com/index.php/event/chili-and-hotdish-cook-off/
LOCATION:Park Rapids American Legion\, 900 1st St E\, Park Rapids\, MN\, 56470\, United States
CATEGORIES:Charity,Dinner,Fundraiser
ATTACH;FMTTYPE=image/webp:https://heartlandlakescommunitycalendar.com/wp-content/uploads/2025/02/Chili-Hotdish-3796499c7fb34c12cdaf68b094127b10.webp
ORGANIZER;CN="YESS Youth Center":MAILTO:youthmatterinhubbardcounty@gmail.com
END:VEVENT
BEGIN:VEVENT
DTSTART;TZID=UTC:20250108T180000
DTEND;TZID=UTC:20250108T210000
DTSTAMP:20260420T121341
CREATED:20250101T143048Z
LAST-MODIFIED:20250101T143048Z
UID:10003802-1736359200-1736370000@heartlandlakescommunitycalendar.com
SUMMARY:Rural Child Care Innovation Heartland Lakes Town Hall
DESCRIPTION:Join us to learn more about the data collected and the challenges of child care locally. Help identify innovative solutions to support the local child care workforce\, and the child care shortage in the Heartland Lakes area. This event is free with dinner included. Registration deadline is December 19th.
URL:https://heartlandlakescommunitycalendar.com/index.php/event/rural-child-care-innovation-heartland-lakes-town-hall/
LOCATION:The Event Room\, 1104 Park Ave S Suite 2\, Park Rapids\, MN\, 56470\, United States
CATEGORIES:Dinner,Education
ATTACH;FMTTYPE=image/jpeg:https://heartlandlakescommunitycalendar.com/wp-content/uploads/2025/01/FirstFinaceTownHall.jpg
ORGANIZER;CN="First Children's Finance":MAILTO:InfoMN@firstchildrensfinance.org
END:VEVENT
BEGIN:VEVENT
DTSTART;TZID=UTC:20241121T173000
DTEND;TZID=UTC:20241121T210000
DTSTAMP:20260420T121341
CREATED:20241117T054836Z
LAST-MODIFIED:20241117T054836Z
UID:10003463-1732210200-1732222800@heartlandlakescommunitycalendar.com
SUMMARY:Hubbard County Child Care Provider Appreciation Event
DESCRIPTION:Calling all Hubbard County child care providers! The Child Care Provider Appreciation Event is a night of celebration\, gratitude\, and fun. Enjoy a relaxing social hour with a cash bar\, followed by a delicious dinner and the chance to win exciting door prizes. This is our way of saying “thank you” for the hard work\, dedication\, and love you pour into the children you care for every day. Don’t miss out on this free opportunity to connect with fellow providers and enjoy a well-deserved night of recognition and relaxation! RSVP at https://www.eventbrite.com/e/hubbard-county-child-care-provider-appreciation-event-tickets-1042249746047?aff=ebdssbdestsearch
URL:https://heartlandlakescommunitycalendar.com/index.php/event/hubbard-county-child-care-provider-appreciation-event/
LOCATION:The Event Room\, 1104 Park Ave S Suite 2\, Park Rapids\, MN\, 56470\, United States
CATEGORIES:Dinner
ATTACH;FMTTYPE=image/jpeg:https://heartlandlakescommunitycalendar.com/wp-content/uploads/2024/11/IMG_9557-scaled.jpg
ORGANIZER;CN="First Children's Finance":MAILTO:InfoMN@firstchildrensfinance.org
END:VEVENT
BEGIN:VEVENT
DTSTART;TZID=UTC:20241115T150000
DTEND;TZID=UTC:20241115T200000
DTSTAMP:20260420T121341
CREATED:20241113T233225Z
LAST-MODIFIED:20241113T233553Z
UID:10003459-1731682800-1731700800@heartlandlakescommunitycalendar.com
SUMMARY:Youth Outreach Program Open House-YESS
DESCRIPTION:Join us to learn about the Youth Outreach Program. We will serve Chicken Noodle Soup and other snacks. Youth in attendance will sign up for a chance to win two gift cards. The Park Rapids Chamber will hold a ribbon cutting at 3:00 p.m.! Please help us celebrate this fantastic resource for youth!
URL:https://heartlandlakescommunitycalendar.com/index.php/event/youth-outreach-program-open-house-yess/
LOCATION:YESS Youth Center\, 222 Main Ave.\, Park Rapids\, MN\, 56470\, United States
CATEGORIES:Charity,Dinner
ATTACH;FMTTYPE=image/webp:https://heartlandlakescommunitycalendar.com/wp-content/uploads/2024/11/Open-House.YESS_-a70269e0ce7c413fe5c6a4101cb5baad.webp
ORGANIZER;CN="YESS Youth Center":MAILTO:youthmatterinhubbardcounty@gmail.com
END:VEVENT
BEGIN:VEVENT
DTSTART;TZID=UTC:20241109T173000
DTEND;TZID=UTC:20241109T193000
DTSTAMP:20260420T121341
CREATED:20241101T022724Z
LAST-MODIFIED:20241101T022724Z
UID:10003458-1731173400-1731180600@heartlandlakescommunitycalendar.com
SUMMARY:Spaghetti Dinner
DESCRIPTION:Calling all hunters! Join us for a hearty spaghetti dinner perfect for fueling your deer hunting adventures! Enjoy a delicious meal with friends and fellow hunters. Whether you’re gearing up for the hunt or just looking to relax after a long day outdoors\, this is the perfect opportunity to share stories and camaraderie. This dinner is a free will offering. Deer Hunters Mass will begin at 8pm. We can’t wait to see you there!
URL:https://heartlandlakescommunitycalendar.com/index.php/event/spaghetti-dinner/
LOCATION:St. Mary’s Catholic Church\, 55744 Co Hwy 44\, Park Rapids\, MN\, 56470\, United States
CATEGORIES:Dinner
ATTACH;FMTTYPE=application/pdf:https://heartlandlakescommunitycalendar.com/wp-content/uploads/2024/10/Spaghetti-Dinner-Flyer.pdf
ORGANIZER;CN="St. Mary's Catholic Church":MAILTO:sm2inlets@stpeterpr.org
END:VEVENT
BEGIN:VEVENT
DTSTART;TZID=UTC:20241101T163000
DTEND;TZID=UTC:20241101T190000
DTSTAMP:20260420T121341
CREATED:20240814T195001Z
LAST-MODIFIED:20240830T010355Z
UID:10003369-1730478600-1730487600@heartlandlakescommunitycalendar.com
SUMMARY:Living at Home's BBQ Rib Dinner
DESCRIPTION:Celebrating 32 years of service to area seniors\, come join us for our famous BBQ Rib Dinner! The dinner will be Friday November 1\, 2024 from 4:30pm – 7pm at the American Legion Park Rapids; $15 for adults\, $7 for children 5 and under. Chocolate treats will be donated by Aunt Belle’s Confectionary
URL:https://heartlandlakescommunitycalendar.com/index.php/event/living-at-homes-bbq-rib-dinner-2/
LOCATION:Park Rapids American Legion\, 900 1st St E\, Park Rapids\, MN\, 56470\, United States
CATEGORIES:Dinner,Fundraiser
ATTACH;FMTTYPE=application/pdf:https://heartlandlakescommunitycalendar.com/wp-content/uploads/2024/08/Rib-Dinner-flyer-Nov.-1-2024.pdf
ORGANIZER;CN="Living at Home":MAILTO:dfc@parkrapidslivingathome.org
END:VEVENT
BEGIN:VEVENT
DTSTART;TZID=UTC:20240723T110000
DTEND;TZID=UTC:20240723T210000
DTSTAMP:20260420T121341
CREATED:20240716T203555Z
LAST-MODIFIED:20240716T203608Z
UID:10003367-1721732400-1721768400@heartlandlakescommunitycalendar.com
SUMMARY:Heartland Arts Pizza Hut Fundraiser
DESCRIPTION:Don’t pack your lunch (or dinner) Tuesday\, July 23 – instead head on over to the Park Rapids Pizza Hut and grab your meal there! 20% of the day’s orders\, eat in or take out\, will be donated to Heartland Arts. Thanks in advance and enjoy your meal! Pizza Hut is open from 11 a.m. to 9 p.m. For take out call 218-732-0247 or go to\nhttps://locations.pizzahut.com/mn/park-rapids/109-e-first.
URL:https://heartlandlakescommunitycalendar.com/index.php/event/heartland-arts-pizza-hut-fundraiser/
LOCATION:Pizza Hut Park Rapids\, 109 - 1st St E\, Park Rapids\, MN\, 56470\, United States
CATEGORIES:Arts,Dinner,Fundraiser
ATTACH;FMTTYPE=image/webp:https://heartlandlakescommunitycalendar.com/wp-content/uploads/2024/07/Pizza-flyer-a9b847b4916821f7f1f6ee8baabe8325.webp
ORGANIZER;CN="Heartland Arts":MAILTO:parkrapidsarts@gmail.com
END:VEVENT
BEGIN:VEVENT
DTSTART;TZID=UTC:20240614T163000
DTEND;TZID=UTC:20240614T190000
DTSTAMP:20260420T121341
CREATED:20240323T131849Z
LAST-MODIFIED:20240323T131849Z
UID:10001310-1718382600-1718391600@heartlandlakescommunitycalendar.com
SUMMARY:Living at Home's BBQ Rib Dinner
DESCRIPTION:Celebrating 31 years of service to area seniors! $15 for Adults\, $7 for Children 5 and under \nChocolate treats donated by Aunt Belle’s Confectionary
URL:https://heartlandlakescommunitycalendar.com/index.php/event/living-at-homes-bbq-rib-dinner/
LOCATION:Park Rapids American Legion\, 900 1st St E\, Park Rapids\, MN\, 56470\, United States
CATEGORIES:Dinner
ATTACH;FMTTYPE=image/png:https://heartlandlakescommunitycalendar.com/wp-content/uploads/2024/03/BBQ-Rib-Dinner.png
ORGANIZER;CN="Living at Home":MAILTO:dfc@parkrapidslivingathome.org
END:VEVENT
END:VCALENDAR