BEGIN:VCALENDAR
VERSION:2.0
PRODID:-//The Heartland Lakes Community Calendar - ECPv6.3.7//NONSGML v1.0//EN
CALSCALE:GREGORIAN
METHOD:PUBLISH
X-WR-CALNAME:The Heartland Lakes Community Calendar
X-ORIGINAL-URL:https://heartlandlakescommunitycalendar.com
X-WR-CALDESC:Events for The Heartland Lakes Community Calendar
REFRESH-INTERVAL;VALUE=DURATION:PT1H
X-Robots-Tag:noindex
X-PUBLISHED-TTL:PT1H
BEGIN:VTIMEZONE
TZID:UTC
BEGIN:STANDARD
TZOFFSETFROM:+0000
TZOFFSETTO:+0000
TZNAME:UTC
DTSTART:20260101T000000
END:STANDARD
END:VTIMEZONE
BEGIN:VEVENT
DTSTART;TZID=UTC:20261127T103000
DTEND;TZID=UTC:20261127T113000
DTSTAMP:20260420T160417
CREATED:20240324T063814Z
LAST-MODIFIED:20240324T064635Z
UID:10001458-1795775400-1795779000@heartlandlakescommunitycalendar.com
SUMMARY:Storytime
DESCRIPTION:Join us for stories and activities for children and the adults who care for them!
URL:https://heartlandlakescommunitycalendar.com/index.php/event/storytime/2026-11-27/
LOCATION:Park Rapids Area Library\, 210 1st St W\, Park Rapids\, MN\, 56470\, United States
CATEGORIES:Education
ATTACH;FMTTYPE=image/png:https://heartlandlakescommunitycalendar.com/wp-content/uploads/2024/03/Storytime-graphic-1-1.png
ORGANIZER;CN="Park Rapids Area Library":MAILTO:parkrapids@krls.org
END:VEVENT
BEGIN:VEVENT
DTSTART;TZID=UTC:20261204T103000
DTEND;TZID=UTC:20261204T113000
DTSTAMP:20260420T160417
CREATED:20240324T063814Z
LAST-MODIFIED:20240324T064635Z
UID:10001459-1796380200-1796383800@heartlandlakescommunitycalendar.com
SUMMARY:Storytime
DESCRIPTION:Join us for stories and activities for children and the adults who care for them!
URL:https://heartlandlakescommunitycalendar.com/index.php/event/storytime/2026-12-04/
LOCATION:Park Rapids Area Library\, 210 1st St W\, Park Rapids\, MN\, 56470\, United States
CATEGORIES:Education
ATTACH;FMTTYPE=image/png:https://heartlandlakescommunitycalendar.com/wp-content/uploads/2024/03/Storytime-graphic-1-1.png
ORGANIZER;CN="Park Rapids Area Library":MAILTO:parkrapids@krls.org
END:VEVENT
BEGIN:VEVENT
DTSTART;TZID=UTC:20261207T103000
DTEND;TZID=UTC:20261207T120000
DTSTAMP:20260420T160417
CREATED:20250315T222439Z
LAST-MODIFIED:20250315T222439Z
UID:10003421-1796639400-1796644800@heartlandlakescommunitycalendar.com
SUMMARY:Solos of the Heartland Lakes
DESCRIPTION:A growing portion of the population on is composed of “solos”. The group helps solos plan for and manage health and well-being decisions and events—both large and small—during the second half of life. Participants work with each other to create a personal ‘backup plan’ by Linda Camp to make sure they have help and support when they need it.
URL:https://heartlandlakescommunitycalendar.com/index.php/event/solos-of-the-heartland-lakes-3/2026-12-07/
LOCATION:Living at Home\, 218 Industrial Park Rd\, Park Rapids\, MN\, 56470\, United States
CATEGORIES:Education,Social
ORGANIZER;CN="Living at Home":MAILTO:dfc@parkrapidslivingathome.org
END:VEVENT
BEGIN:VEVENT
DTSTART;TZID=UTC:20261211T103000
DTEND;TZID=UTC:20261211T113000
DTSTAMP:20260420T160417
CREATED:20240324T063814Z
LAST-MODIFIED:20240324T064635Z
UID:10001460-1796985000-1796988600@heartlandlakescommunitycalendar.com
SUMMARY:Storytime
DESCRIPTION:Join us for stories and activities for children and the adults who care for them!
URL:https://heartlandlakescommunitycalendar.com/index.php/event/storytime/2026-12-11/
LOCATION:Park Rapids Area Library\, 210 1st St W\, Park Rapids\, MN\, 56470\, United States
CATEGORIES:Education
ATTACH;FMTTYPE=image/png:https://heartlandlakescommunitycalendar.com/wp-content/uploads/2024/03/Storytime-graphic-1-1.png
ORGANIZER;CN="Park Rapids Area Library":MAILTO:parkrapids@krls.org
END:VEVENT
BEGIN:VEVENT
DTSTART;TZID=UTC:20261218T103000
DTEND;TZID=UTC:20261218T113000
DTSTAMP:20260420T160417
CREATED:20240324T063814Z
LAST-MODIFIED:20240324T064635Z
UID:10001461-1797589800-1797593400@heartlandlakescommunitycalendar.com
SUMMARY:Storytime
DESCRIPTION:Join us for stories and activities for children and the adults who care for them!
URL:https://heartlandlakescommunitycalendar.com/index.php/event/storytime/2026-12-18/
LOCATION:Park Rapids Area Library\, 210 1st St W\, Park Rapids\, MN\, 56470\, United States
CATEGORIES:Education
ATTACH;FMTTYPE=image/png:https://heartlandlakescommunitycalendar.com/wp-content/uploads/2024/03/Storytime-graphic-1-1.png
ORGANIZER;CN="Park Rapids Area Library":MAILTO:parkrapids@krls.org
END:VEVENT
BEGIN:VEVENT
DTSTART;TZID=UTC:20261223T120000
DTEND;TZID=UTC:20261223T130000
DTSTAMP:20260420T160417
CREATED:20241203T043722Z
LAST-MODIFIED:20241203T043722Z
UID:10003617-1798027200-1798030800@heartlandlakescommunitycalendar.com
SUMMARY:Hubbard in Prevention (HIP) Coalition Monthly Meeting
DESCRIPTION:Hubbard in Prevention (HIP) Coalition is currently funded by a Drug Free Communities Grant to help reduce underage alcohol\, marijuana and tobacco among our youth in Hubbard County\, Minnesota. HIP Coalition is working on strategies to reduced youth substance misuse. Please consider joining us!\nHIP Coalition Meets Monthly from 12:00 pm – 1:00 pm on the 4th Wednesday via Zoom \nJoin Zoom Meeting\nhttps://commonspirit.zoom.us/j/2698627351?pwd=ZzhxbWgxcUx6ZHJnZ2taSWhyTGgrdz09 \nMeeting ID: 269 862 7351\nPasscode: Prevention
URL:https://heartlandlakescommunitycalendar.com/index.php/event/hubbard-in-prevention-hip-coalition-monthly-meeting/2026-12-23/
CATEGORIES:Education,Meeting
ORGANIZER;CN="Hubbard In Prevention":MAILTO:angela.graham@commonspirit.org
END:VEVENT
BEGIN:VEVENT
DTSTART;TZID=UTC:20261225T103000
DTEND;TZID=UTC:20261225T113000
DTSTAMP:20260420T160417
CREATED:20240324T063814Z
LAST-MODIFIED:20240324T064635Z
UID:10001462-1798194600-1798198200@heartlandlakescommunitycalendar.com
SUMMARY:Storytime
DESCRIPTION:Join us for stories and activities for children and the adults who care for them!
URL:https://heartlandlakescommunitycalendar.com/index.php/event/storytime/2026-12-25/
LOCATION:Park Rapids Area Library\, 210 1st St W\, Park Rapids\, MN\, 56470\, United States
CATEGORIES:Education
ATTACH;FMTTYPE=image/png:https://heartlandlakescommunitycalendar.com/wp-content/uploads/2024/03/Storytime-graphic-1-1.png
ORGANIZER;CN="Park Rapids Area Library":MAILTO:parkrapids@krls.org
END:VEVENT
BEGIN:VEVENT
DTSTART;TZID=UTC:20270101T103000
DTEND;TZID=UTC:20270101T113000
DTSTAMP:20260420T160417
CREATED:20240324T063814Z
LAST-MODIFIED:20240324T064635Z
UID:10001463-1798799400-1798803000@heartlandlakescommunitycalendar.com
SUMMARY:Storytime
DESCRIPTION:Join us for stories and activities for children and the adults who care for them!
URL:https://heartlandlakescommunitycalendar.com/index.php/event/storytime/2027-01-01/
LOCATION:Park Rapids Area Library\, 210 1st St W\, Park Rapids\, MN\, 56470\, United States
CATEGORIES:Education
ATTACH;FMTTYPE=image/png:https://heartlandlakescommunitycalendar.com/wp-content/uploads/2024/03/Storytime-graphic-1-1.png
ORGANIZER;CN="Park Rapids Area Library":MAILTO:parkrapids@krls.org
END:VEVENT
BEGIN:VEVENT
DTSTART;TZID=UTC:20270104T103000
DTEND;TZID=UTC:20270104T120000
DTSTAMP:20260420T160417
CREATED:20250315T222439Z
LAST-MODIFIED:20250315T222439Z
UID:10003422-1799058600-1799064000@heartlandlakescommunitycalendar.com
SUMMARY:Solos of the Heartland Lakes
DESCRIPTION:A growing portion of the population on is composed of “solos”. The group helps solos plan for and manage health and well-being decisions and events—both large and small—during the second half of life. Participants work with each other to create a personal ‘backup plan’ by Linda Camp to make sure they have help and support when they need it.
URL:https://heartlandlakescommunitycalendar.com/index.php/event/solos-of-the-heartland-lakes-3/2027-01-04/
LOCATION:Living at Home\, 218 Industrial Park Rd\, Park Rapids\, MN\, 56470\, United States
CATEGORIES:Education,Social
ORGANIZER;CN="Living at Home":MAILTO:dfc@parkrapidslivingathome.org
END:VEVENT
BEGIN:VEVENT
DTSTART;TZID=UTC:20270108T103000
DTEND;TZID=UTC:20270108T113000
DTSTAMP:20260420T160417
CREATED:20240324T063814Z
LAST-MODIFIED:20240324T064635Z
UID:10001464-1799404200-1799407800@heartlandlakescommunitycalendar.com
SUMMARY:Storytime
DESCRIPTION:Join us for stories and activities for children and the adults who care for them!
URL:https://heartlandlakescommunitycalendar.com/index.php/event/storytime/2027-01-08/
LOCATION:Park Rapids Area Library\, 210 1st St W\, Park Rapids\, MN\, 56470\, United States
CATEGORIES:Education
ATTACH;FMTTYPE=image/png:https://heartlandlakescommunitycalendar.com/wp-content/uploads/2024/03/Storytime-graphic-1-1.png
ORGANIZER;CN="Park Rapids Area Library":MAILTO:parkrapids@krls.org
END:VEVENT
BEGIN:VEVENT
DTSTART;TZID=UTC:20270115T103000
DTEND;TZID=UTC:20270115T113000
DTSTAMP:20260420T160417
CREATED:20240324T063814Z
LAST-MODIFIED:20240324T064635Z
UID:10001465-1800009000-1800012600@heartlandlakescommunitycalendar.com
SUMMARY:Storytime
DESCRIPTION:Join us for stories and activities for children and the adults who care for them!
URL:https://heartlandlakescommunitycalendar.com/index.php/event/storytime/2027-01-15/
LOCATION:Park Rapids Area Library\, 210 1st St W\, Park Rapids\, MN\, 56470\, United States
CATEGORIES:Education
ATTACH;FMTTYPE=image/png:https://heartlandlakescommunitycalendar.com/wp-content/uploads/2024/03/Storytime-graphic-1-1.png
ORGANIZER;CN="Park Rapids Area Library":MAILTO:parkrapids@krls.org
END:VEVENT
BEGIN:VEVENT
DTSTART;TZID=UTC:20270122T103000
DTEND;TZID=UTC:20270122T113000
DTSTAMP:20260420T160417
CREATED:20240324T063814Z
LAST-MODIFIED:20240324T064635Z
UID:10001466-1800613800-1800617400@heartlandlakescommunitycalendar.com
SUMMARY:Storytime
DESCRIPTION:Join us for stories and activities for children and the adults who care for them!
URL:https://heartlandlakescommunitycalendar.com/index.php/event/storytime/2027-01-22/
LOCATION:Park Rapids Area Library\, 210 1st St W\, Park Rapids\, MN\, 56470\, United States
CATEGORIES:Education
ATTACH;FMTTYPE=image/png:https://heartlandlakescommunitycalendar.com/wp-content/uploads/2024/03/Storytime-graphic-1-1.png
ORGANIZER;CN="Park Rapids Area Library":MAILTO:parkrapids@krls.org
END:VEVENT
BEGIN:VEVENT
DTSTART;TZID=UTC:20270127T120000
DTEND;TZID=UTC:20270127T130000
DTSTAMP:20260420T160417
CREATED:20241203T043722Z
LAST-MODIFIED:20241203T043722Z
UID:10003618-1801051200-1801054800@heartlandlakescommunitycalendar.com
SUMMARY:Hubbard in Prevention (HIP) Coalition Monthly Meeting
DESCRIPTION:Hubbard in Prevention (HIP) Coalition is currently funded by a Drug Free Communities Grant to help reduce underage alcohol\, marijuana and tobacco among our youth in Hubbard County\, Minnesota. HIP Coalition is working on strategies to reduced youth substance misuse. Please consider joining us!\nHIP Coalition Meets Monthly from 12:00 pm – 1:00 pm on the 4th Wednesday via Zoom \nJoin Zoom Meeting\nhttps://commonspirit.zoom.us/j/2698627351?pwd=ZzhxbWgxcUx6ZHJnZ2taSWhyTGgrdz09 \nMeeting ID: 269 862 7351\nPasscode: Prevention
URL:https://heartlandlakescommunitycalendar.com/index.php/event/hubbard-in-prevention-hip-coalition-monthly-meeting/2027-01-27/
CATEGORIES:Education,Meeting
ORGANIZER;CN="Hubbard In Prevention":MAILTO:angela.graham@commonspirit.org
END:VEVENT
BEGIN:VEVENT
DTSTART;TZID=UTC:20270129T103000
DTEND;TZID=UTC:20270129T113000
DTSTAMP:20260420T160417
CREATED:20240324T063814Z
LAST-MODIFIED:20240324T064635Z
UID:10001467-1801218600-1801222200@heartlandlakescommunitycalendar.com
SUMMARY:Storytime
DESCRIPTION:Join us for stories and activities for children and the adults who care for them!
URL:https://heartlandlakescommunitycalendar.com/index.php/event/storytime/2027-01-29/
LOCATION:Park Rapids Area Library\, 210 1st St W\, Park Rapids\, MN\, 56470\, United States
CATEGORIES:Education
ATTACH;FMTTYPE=image/png:https://heartlandlakescommunitycalendar.com/wp-content/uploads/2024/03/Storytime-graphic-1-1.png
ORGANIZER;CN="Park Rapids Area Library":MAILTO:parkrapids@krls.org
END:VEVENT
BEGIN:VEVENT
DTSTART;TZID=UTC:20270201T103000
DTEND;TZID=UTC:20270201T120000
DTSTAMP:20260420T160417
CREATED:20250315T222439Z
LAST-MODIFIED:20250315T222439Z
UID:10003423-1801477800-1801483200@heartlandlakescommunitycalendar.com
SUMMARY:Solos of the Heartland Lakes
DESCRIPTION:A growing portion of the population on is composed of “solos”. The group helps solos plan for and manage health and well-being decisions and events—both large and small—during the second half of life. Participants work with each other to create a personal ‘backup plan’ by Linda Camp to make sure they have help and support when they need it.
URL:https://heartlandlakescommunitycalendar.com/index.php/event/solos-of-the-heartland-lakes-3/2027-02-01/
LOCATION:Living at Home\, 218 Industrial Park Rd\, Park Rapids\, MN\, 56470\, United States
CATEGORIES:Education,Social
ORGANIZER;CN="Living at Home":MAILTO:dfc@parkrapidslivingathome.org
END:VEVENT
BEGIN:VEVENT
DTSTART;TZID=UTC:20270205T103000
DTEND;TZID=UTC:20270205T113000
DTSTAMP:20260420T160417
CREATED:20240324T063814Z
LAST-MODIFIED:20240324T064635Z
UID:10001468-1801823400-1801827000@heartlandlakescommunitycalendar.com
SUMMARY:Storytime
DESCRIPTION:Join us for stories and activities for children and the adults who care for them!
URL:https://heartlandlakescommunitycalendar.com/index.php/event/storytime/2027-02-05/
LOCATION:Park Rapids Area Library\, 210 1st St W\, Park Rapids\, MN\, 56470\, United States
CATEGORIES:Education
ATTACH;FMTTYPE=image/png:https://heartlandlakescommunitycalendar.com/wp-content/uploads/2024/03/Storytime-graphic-1-1.png
ORGANIZER;CN="Park Rapids Area Library":MAILTO:parkrapids@krls.org
END:VEVENT
BEGIN:VEVENT
DTSTART;TZID=UTC:20270212T103000
DTEND;TZID=UTC:20270212T113000
DTSTAMP:20260420T160417
CREATED:20240324T063814Z
LAST-MODIFIED:20240324T064635Z
UID:10001469-1802428200-1802431800@heartlandlakescommunitycalendar.com
SUMMARY:Storytime
DESCRIPTION:Join us for stories and activities for children and the adults who care for them!
URL:https://heartlandlakescommunitycalendar.com/index.php/event/storytime/2027-02-12/
LOCATION:Park Rapids Area Library\, 210 1st St W\, Park Rapids\, MN\, 56470\, United States
CATEGORIES:Education
ATTACH;FMTTYPE=image/png:https://heartlandlakescommunitycalendar.com/wp-content/uploads/2024/03/Storytime-graphic-1-1.png
ORGANIZER;CN="Park Rapids Area Library":MAILTO:parkrapids@krls.org
END:VEVENT
BEGIN:VEVENT
DTSTART;TZID=UTC:20270219T103000
DTEND;TZID=UTC:20270219T113000
DTSTAMP:20260420T160417
CREATED:20240324T063814Z
LAST-MODIFIED:20240324T064635Z
UID:10001470-1803033000-1803036600@heartlandlakescommunitycalendar.com
SUMMARY:Storytime
DESCRIPTION:Join us for stories and activities for children and the adults who care for them!
URL:https://heartlandlakescommunitycalendar.com/index.php/event/storytime/2027-02-19/
LOCATION:Park Rapids Area Library\, 210 1st St W\, Park Rapids\, MN\, 56470\, United States
CATEGORIES:Education
ATTACH;FMTTYPE=image/png:https://heartlandlakescommunitycalendar.com/wp-content/uploads/2024/03/Storytime-graphic-1-1.png
ORGANIZER;CN="Park Rapids Area Library":MAILTO:parkrapids@krls.org
END:VEVENT
BEGIN:VEVENT
DTSTART;TZID=UTC:20270224T120000
DTEND;TZID=UTC:20270224T130000
DTSTAMP:20260420T160417
CREATED:20241203T043722Z
LAST-MODIFIED:20241203T043722Z
UID:10003619-1803470400-1803474000@heartlandlakescommunitycalendar.com
SUMMARY:Hubbard in Prevention (HIP) Coalition Monthly Meeting
DESCRIPTION:Hubbard in Prevention (HIP) Coalition is currently funded by a Drug Free Communities Grant to help reduce underage alcohol\, marijuana and tobacco among our youth in Hubbard County\, Minnesota. HIP Coalition is working on strategies to reduced youth substance misuse. Please consider joining us!\nHIP Coalition Meets Monthly from 12:00 pm – 1:00 pm on the 4th Wednesday via Zoom \nJoin Zoom Meeting\nhttps://commonspirit.zoom.us/j/2698627351?pwd=ZzhxbWgxcUx6ZHJnZ2taSWhyTGgrdz09 \nMeeting ID: 269 862 7351\nPasscode: Prevention
URL:https://heartlandlakescommunitycalendar.com/index.php/event/hubbard-in-prevention-hip-coalition-monthly-meeting/2027-02-24/
CATEGORIES:Education,Meeting
ORGANIZER;CN="Hubbard In Prevention":MAILTO:angela.graham@commonspirit.org
END:VEVENT
BEGIN:VEVENT
DTSTART;TZID=UTC:20270226T103000
DTEND;TZID=UTC:20270226T113000
DTSTAMP:20260420T160417
CREATED:20240324T063814Z
LAST-MODIFIED:20240324T064635Z
UID:10001471-1803637800-1803641400@heartlandlakescommunitycalendar.com
SUMMARY:Storytime
DESCRIPTION:Join us for stories and activities for children and the adults who care for them!
URL:https://heartlandlakescommunitycalendar.com/index.php/event/storytime/2027-02-26/
LOCATION:Park Rapids Area Library\, 210 1st St W\, Park Rapids\, MN\, 56470\, United States
CATEGORIES:Education
ATTACH;FMTTYPE=image/png:https://heartlandlakescommunitycalendar.com/wp-content/uploads/2024/03/Storytime-graphic-1-1.png
ORGANIZER;CN="Park Rapids Area Library":MAILTO:parkrapids@krls.org
END:VEVENT
BEGIN:VEVENT
DTSTART;TZID=UTC:20270301T103000
DTEND;TZID=UTC:20270301T120000
DTSTAMP:20260420T160417
CREATED:20250315T222439Z
LAST-MODIFIED:20250315T222439Z
UID:10003424-1803897000-1803902400@heartlandlakescommunitycalendar.com
SUMMARY:Solos of the Heartland Lakes
DESCRIPTION:A growing portion of the population on is composed of “solos”. The group helps solos plan for and manage health and well-being decisions and events—both large and small—during the second half of life. Participants work with each other to create a personal ‘backup plan’ by Linda Camp to make sure they have help and support when they need it.
URL:https://heartlandlakescommunitycalendar.com/index.php/event/solos-of-the-heartland-lakes-3/2027-03-01/
LOCATION:Living at Home\, 218 Industrial Park Rd\, Park Rapids\, MN\, 56470\, United States
CATEGORIES:Education,Social
ORGANIZER;CN="Living at Home":MAILTO:dfc@parkrapidslivingathome.org
END:VEVENT
BEGIN:VEVENT
DTSTART;TZID=UTC:20270305T103000
DTEND;TZID=UTC:20270305T113000
DTSTAMP:20260420T160417
CREATED:20240324T063814Z
LAST-MODIFIED:20240324T064635Z
UID:10001472-1804242600-1804246200@heartlandlakescommunitycalendar.com
SUMMARY:Storytime
DESCRIPTION:Join us for stories and activities for children and the adults who care for them!
URL:https://heartlandlakescommunitycalendar.com/index.php/event/storytime/2027-03-05/
LOCATION:Park Rapids Area Library\, 210 1st St W\, Park Rapids\, MN\, 56470\, United States
CATEGORIES:Education
ATTACH;FMTTYPE=image/png:https://heartlandlakescommunitycalendar.com/wp-content/uploads/2024/03/Storytime-graphic-1-1.png
ORGANIZER;CN="Park Rapids Area Library":MAILTO:parkrapids@krls.org
END:VEVENT
BEGIN:VEVENT
DTSTART;TZID=UTC:20270312T103000
DTEND;TZID=UTC:20270312T113000
DTSTAMP:20260420T160417
CREATED:20240324T063814Z
LAST-MODIFIED:20240324T064635Z
UID:10001473-1804847400-1804851000@heartlandlakescommunitycalendar.com
SUMMARY:Storytime
DESCRIPTION:Join us for stories and activities for children and the adults who care for them!
URL:https://heartlandlakescommunitycalendar.com/index.php/event/storytime/2027-03-12/
LOCATION:Park Rapids Area Library\, 210 1st St W\, Park Rapids\, MN\, 56470\, United States
CATEGORIES:Education
ATTACH;FMTTYPE=image/png:https://heartlandlakescommunitycalendar.com/wp-content/uploads/2024/03/Storytime-graphic-1-1.png
ORGANIZER;CN="Park Rapids Area Library":MAILTO:parkrapids@krls.org
END:VEVENT
BEGIN:VEVENT
DTSTART;TZID=UTC:20270319T103000
DTEND;TZID=UTC:20270319T113000
DTSTAMP:20260420T160417
CREATED:20240324T063814Z
LAST-MODIFIED:20240324T064635Z
UID:10001474-1805452200-1805455800@heartlandlakescommunitycalendar.com
SUMMARY:Storytime
DESCRIPTION:Join us for stories and activities for children and the adults who care for them!
URL:https://heartlandlakescommunitycalendar.com/index.php/event/storytime/2027-03-19/
LOCATION:Park Rapids Area Library\, 210 1st St W\, Park Rapids\, MN\, 56470\, United States
CATEGORIES:Education
ATTACH;FMTTYPE=image/png:https://heartlandlakescommunitycalendar.com/wp-content/uploads/2024/03/Storytime-graphic-1-1.png
ORGANIZER;CN="Park Rapids Area Library":MAILTO:parkrapids@krls.org
END:VEVENT
BEGIN:VEVENT
DTSTART;TZID=UTC:20270324T120000
DTEND;TZID=UTC:20270324T130000
DTSTAMP:20260420T160417
CREATED:20241203T043722Z
LAST-MODIFIED:20241203T043722Z
UID:10003620-1805889600-1805893200@heartlandlakescommunitycalendar.com
SUMMARY:Hubbard in Prevention (HIP) Coalition Monthly Meeting
DESCRIPTION:Hubbard in Prevention (HIP) Coalition is currently funded by a Drug Free Communities Grant to help reduce underage alcohol\, marijuana and tobacco among our youth in Hubbard County\, Minnesota. HIP Coalition is working on strategies to reduced youth substance misuse. Please consider joining us!\nHIP Coalition Meets Monthly from 12:00 pm – 1:00 pm on the 4th Wednesday via Zoom \nJoin Zoom Meeting\nhttps://commonspirit.zoom.us/j/2698627351?pwd=ZzhxbWgxcUx6ZHJnZ2taSWhyTGgrdz09 \nMeeting ID: 269 862 7351\nPasscode: Prevention
URL:https://heartlandlakescommunitycalendar.com/index.php/event/hubbard-in-prevention-hip-coalition-monthly-meeting/2027-03-24/
CATEGORIES:Education,Meeting
ORGANIZER;CN="Hubbard In Prevention":MAILTO:angela.graham@commonspirit.org
END:VEVENT
BEGIN:VEVENT
DTSTART;TZID=UTC:20270326T103000
DTEND;TZID=UTC:20270326T113000
DTSTAMP:20260420T160417
CREATED:20240324T063814Z
LAST-MODIFIED:20240324T064635Z
UID:10001475-1806057000-1806060600@heartlandlakescommunitycalendar.com
SUMMARY:Storytime
DESCRIPTION:Join us for stories and activities for children and the adults who care for them!
URL:https://heartlandlakescommunitycalendar.com/index.php/event/storytime/2027-03-26/
LOCATION:Park Rapids Area Library\, 210 1st St W\, Park Rapids\, MN\, 56470\, United States
CATEGORIES:Education
ATTACH;FMTTYPE=image/png:https://heartlandlakescommunitycalendar.com/wp-content/uploads/2024/03/Storytime-graphic-1-1.png
ORGANIZER;CN="Park Rapids Area Library":MAILTO:parkrapids@krls.org
END:VEVENT
BEGIN:VEVENT
DTSTART;TZID=UTC:20270402T103000
DTEND;TZID=UTC:20270402T113000
DTSTAMP:20260420T160417
CREATED:20240324T063814Z
LAST-MODIFIED:20240324T064635Z
UID:10001476-1806661800-1806665400@heartlandlakescommunitycalendar.com
SUMMARY:Storytime
DESCRIPTION:Join us for stories and activities for children and the adults who care for them!
URL:https://heartlandlakescommunitycalendar.com/index.php/event/storytime/2027-04-02/
LOCATION:Park Rapids Area Library\, 210 1st St W\, Park Rapids\, MN\, 56470\, United States
CATEGORIES:Education
ATTACH;FMTTYPE=image/png:https://heartlandlakescommunitycalendar.com/wp-content/uploads/2024/03/Storytime-graphic-1-1.png
ORGANIZER;CN="Park Rapids Area Library":MAILTO:parkrapids@krls.org
END:VEVENT
BEGIN:VEVENT
DTSTART;TZID=UTC:20270405T103000
DTEND;TZID=UTC:20270405T120000
DTSTAMP:20260420T160417
CREATED:20250315T222439Z
LAST-MODIFIED:20250315T222439Z
UID:10003425-1806921000-1806926400@heartlandlakescommunitycalendar.com
SUMMARY:Solos of the Heartland Lakes
DESCRIPTION:A growing portion of the population on is composed of “solos”. The group helps solos plan for and manage health and well-being decisions and events—both large and small—during the second half of life. Participants work with each other to create a personal ‘backup plan’ by Linda Camp to make sure they have help and support when they need it.
URL:https://heartlandlakescommunitycalendar.com/index.php/event/solos-of-the-heartland-lakes-3/2027-04-05/
LOCATION:Living at Home\, 218 Industrial Park Rd\, Park Rapids\, MN\, 56470\, United States
CATEGORIES:Education,Social
ORGANIZER;CN="Living at Home":MAILTO:dfc@parkrapidslivingathome.org
END:VEVENT
BEGIN:VEVENT
DTSTART;TZID=UTC:20270409T103000
DTEND;TZID=UTC:20270409T113000
DTSTAMP:20260420T160417
CREATED:20240324T063814Z
LAST-MODIFIED:20240324T064635Z
UID:10001477-1807266600-1807270200@heartlandlakescommunitycalendar.com
SUMMARY:Storytime
DESCRIPTION:Join us for stories and activities for children and the adults who care for them!
URL:https://heartlandlakescommunitycalendar.com/index.php/event/storytime/2027-04-09/
LOCATION:Park Rapids Area Library\, 210 1st St W\, Park Rapids\, MN\, 56470\, United States
CATEGORIES:Education
ATTACH;FMTTYPE=image/png:https://heartlandlakescommunitycalendar.com/wp-content/uploads/2024/03/Storytime-graphic-1-1.png
ORGANIZER;CN="Park Rapids Area Library":MAILTO:parkrapids@krls.org
END:VEVENT
BEGIN:VEVENT
DTSTART;TZID=UTC:20270416T103000
DTEND;TZID=UTC:20270416T113000
DTSTAMP:20260420T160417
CREATED:20240324T063814Z
LAST-MODIFIED:20240324T064635Z
UID:10001478-1807871400-1807875000@heartlandlakescommunitycalendar.com
SUMMARY:Storytime
DESCRIPTION:Join us for stories and activities for children and the adults who care for them!
URL:https://heartlandlakescommunitycalendar.com/index.php/event/storytime/2027-04-16/
LOCATION:Park Rapids Area Library\, 210 1st St W\, Park Rapids\, MN\, 56470\, United States
CATEGORIES:Education
ATTACH;FMTTYPE=image/png:https://heartlandlakescommunitycalendar.com/wp-content/uploads/2024/03/Storytime-graphic-1-1.png
ORGANIZER;CN="Park Rapids Area Library":MAILTO:parkrapids@krls.org
END:VEVENT
END:VCALENDAR