BEGIN:VCALENDAR
VERSION:2.0
PRODID:-//The Heartland Lakes Community Calendar - ECPv6.3.7//NONSGML v1.0//EN
CALSCALE:GREGORIAN
METHOD:PUBLISH
X-ORIGINAL-URL:https://heartlandlakescommunitycalendar.com
X-WR-CALDESC:Events for The Heartland Lakes Community Calendar
REFRESH-INTERVAL;VALUE=DURATION:PT1H
X-Robots-Tag:noindex
X-PUBLISHED-TTL:PT1H
BEGIN:VTIMEZONE
TZID:UTC
BEGIN:STANDARD
TZOFFSETFROM:+0000
TZOFFSETTO:+0000
TZNAME:UTC
DTSTART:20270101T000000
END:STANDARD
END:VTIMEZONE
BEGIN:VEVENT
DTSTART;TZID=UTC:20270324T120000
DTEND;TZID=UTC:20270324T130000
DTSTAMP:20260420T113822
CREATED:20241203T043722Z
LAST-MODIFIED:20241203T043722Z
UID:10003620-1805889600-1805893200@heartlandlakescommunitycalendar.com
SUMMARY:Hubbard in Prevention (HIP) Coalition Monthly Meeting
DESCRIPTION:Hubbard in Prevention (HIP) Coalition is currently funded by a Drug Free Communities Grant to help reduce underage alcohol\, marijuana and tobacco among our youth in Hubbard County\, Minnesota. HIP Coalition is working on strategies to reduced youth substance misuse. Please consider joining us!\nHIP Coalition Meets Monthly from 12:00 pm – 1:00 pm on the 4th Wednesday via Zoom \nJoin Zoom Meeting\nhttps://commonspirit.zoom.us/j/2698627351?pwd=ZzhxbWgxcUx6ZHJnZ2taSWhyTGgrdz09 \nMeeting ID: 269 862 7351\nPasscode: Prevention
URL:https://heartlandlakescommunitycalendar.com/index.php/event/hubbard-in-prevention-hip-coalition-monthly-meeting/2027-03-24/
LOCATION:MN
CATEGORIES:Education,Meeting
ORGANIZER;CN="Hubbard In Prevention":MAILTO:angela.graham@commonspirit.org
END:VEVENT
BEGIN:VEVENT
DTSTART;TZID=UTC:20270326T103000
DTEND;TZID=UTC:20270326T113000
DTSTAMP:20260420T113822
CREATED:20240324T063814Z
LAST-MODIFIED:20240324T064635Z
UID:10001475-1806057000-1806060600@heartlandlakescommunitycalendar.com
SUMMARY:Storytime
DESCRIPTION:Join us for stories and activities for children and the adults who care for them!
URL:https://heartlandlakescommunitycalendar.com/index.php/event/storytime/2027-03-26/
LOCATION:Park Rapids Area Library\, 210 1st St W\, Park Rapids\, MN\, 56470\, United States
CATEGORIES:Education
ATTACH;FMTTYPE=image/png:https://heartlandlakescommunitycalendar.com/wp-content/uploads/2024/03/Storytime-graphic-1-1.png
ORGANIZER;CN="Park Rapids Area Library":MAILTO:parkrapids@krls.org
END:VEVENT
BEGIN:VEVENT
DTSTART;TZID=UTC:20270402T103000
DTEND;TZID=UTC:20270402T113000
DTSTAMP:20260420T113822
CREATED:20240324T063814Z
LAST-MODIFIED:20240324T064635Z
UID:10001476-1806661800-1806665400@heartlandlakescommunitycalendar.com
SUMMARY:Storytime
DESCRIPTION:Join us for stories and activities for children and the adults who care for them!
URL:https://heartlandlakescommunitycalendar.com/index.php/event/storytime/2027-04-02/
LOCATION:Park Rapids Area Library\, 210 1st St W\, Park Rapids\, MN\, 56470\, United States
CATEGORIES:Education
ATTACH;FMTTYPE=image/png:https://heartlandlakescommunitycalendar.com/wp-content/uploads/2024/03/Storytime-graphic-1-1.png
ORGANIZER;CN="Park Rapids Area Library":MAILTO:parkrapids@krls.org
END:VEVENT
BEGIN:VEVENT
DTSTART;TZID=UTC:20270405T103000
DTEND;TZID=UTC:20270405T120000
DTSTAMP:20260420T113822
CREATED:20250315T222439Z
LAST-MODIFIED:20250315T222439Z
UID:10003425-1806921000-1806926400@heartlandlakescommunitycalendar.com
SUMMARY:Solos of the Heartland Lakes
DESCRIPTION:A growing portion of the population on is composed of “solos”. The group helps solos plan for and manage health and well-being decisions and events—both large and small—during the second half of life. Participants work with each other to create a personal ‘backup plan’ by Linda Camp to make sure they have help and support when they need it.
URL:https://heartlandlakescommunitycalendar.com/index.php/event/solos-of-the-heartland-lakes-3/2027-04-05/
LOCATION:Living at Home\, 218 Industrial Park Rd\, Park Rapids\, MN\, 56470\, United States
CATEGORIES:Education,Social
ORGANIZER;CN="Living at Home":MAILTO:dfc@parkrapidslivingathome.org
END:VEVENT
BEGIN:VEVENT
DTSTART;TZID=UTC:20270409T103000
DTEND;TZID=UTC:20270409T113000
DTSTAMP:20260420T113822
CREATED:20240324T063814Z
LAST-MODIFIED:20240324T064635Z
UID:10001477-1807266600-1807270200@heartlandlakescommunitycalendar.com
SUMMARY:Storytime
DESCRIPTION:Join us for stories and activities for children and the adults who care for them!
URL:https://heartlandlakescommunitycalendar.com/index.php/event/storytime/2027-04-09/
LOCATION:Park Rapids Area Library\, 210 1st St W\, Park Rapids\, MN\, 56470\, United States
CATEGORIES:Education
ATTACH;FMTTYPE=image/png:https://heartlandlakescommunitycalendar.com/wp-content/uploads/2024/03/Storytime-graphic-1-1.png
ORGANIZER;CN="Park Rapids Area Library":MAILTO:parkrapids@krls.org
END:VEVENT
BEGIN:VEVENT
DTSTART;TZID=UTC:20270416T103000
DTEND;TZID=UTC:20270416T113000
DTSTAMP:20260420T113822
CREATED:20240324T063814Z
LAST-MODIFIED:20240324T064635Z
UID:10001478-1807871400-1807875000@heartlandlakescommunitycalendar.com
SUMMARY:Storytime
DESCRIPTION:Join us for stories and activities for children and the adults who care for them!
URL:https://heartlandlakescommunitycalendar.com/index.php/event/storytime/2027-04-16/
LOCATION:Park Rapids Area Library\, 210 1st St W\, Park Rapids\, MN\, 56470\, United States
CATEGORIES:Education
ATTACH;FMTTYPE=image/png:https://heartlandlakescommunitycalendar.com/wp-content/uploads/2024/03/Storytime-graphic-1-1.png
ORGANIZER;CN="Park Rapids Area Library":MAILTO:parkrapids@krls.org
END:VEVENT
BEGIN:VEVENT
DTSTART;TZID=UTC:20270423T103000
DTEND;TZID=UTC:20270423T113000
DTSTAMP:20260420T113823
CREATED:20240324T063814Z
LAST-MODIFIED:20240324T064635Z
UID:10001479-1808476200-1808479800@heartlandlakescommunitycalendar.com
SUMMARY:Storytime
DESCRIPTION:Join us for stories and activities for children and the adults who care for them!
URL:https://heartlandlakescommunitycalendar.com/index.php/event/storytime/2027-04-23/
LOCATION:Park Rapids Area Library\, 210 1st St W\, Park Rapids\, MN\, 56470\, United States
CATEGORIES:Education
ATTACH;FMTTYPE=image/png:https://heartlandlakescommunitycalendar.com/wp-content/uploads/2024/03/Storytime-graphic-1-1.png
ORGANIZER;CN="Park Rapids Area Library":MAILTO:parkrapids@krls.org
END:VEVENT
BEGIN:VEVENT
DTSTART;TZID=UTC:20270428T120000
DTEND;TZID=UTC:20270428T130000
DTSTAMP:20260420T113823
CREATED:20241203T043722Z
LAST-MODIFIED:20241203T043722Z
UID:10003621-1808913600-1808917200@heartlandlakescommunitycalendar.com
SUMMARY:Hubbard in Prevention (HIP) Coalition Monthly Meeting
DESCRIPTION:Hubbard in Prevention (HIP) Coalition is currently funded by a Drug Free Communities Grant to help reduce underage alcohol\, marijuana and tobacco among our youth in Hubbard County\, Minnesota. HIP Coalition is working on strategies to reduced youth substance misuse. Please consider joining us!\nHIP Coalition Meets Monthly from 12:00 pm – 1:00 pm on the 4th Wednesday via Zoom \nJoin Zoom Meeting\nhttps://commonspirit.zoom.us/j/2698627351?pwd=ZzhxbWgxcUx6ZHJnZ2taSWhyTGgrdz09 \nMeeting ID: 269 862 7351\nPasscode: Prevention
URL:https://heartlandlakescommunitycalendar.com/index.php/event/hubbard-in-prevention-hip-coalition-monthly-meeting/2027-04-28/
LOCATION:MN
CATEGORIES:Education,Meeting
ORGANIZER;CN="Hubbard In Prevention":MAILTO:angela.graham@commonspirit.org
END:VEVENT
BEGIN:VEVENT
DTSTART;TZID=UTC:20270430T103000
DTEND;TZID=UTC:20270430T113000
DTSTAMP:20260420T113823
CREATED:20240324T063814Z
LAST-MODIFIED:20240324T064635Z
UID:10001480-1809081000-1809084600@heartlandlakescommunitycalendar.com
SUMMARY:Storytime
DESCRIPTION:Join us for stories and activities for children and the adults who care for them!
URL:https://heartlandlakescommunitycalendar.com/index.php/event/storytime/2027-04-30/
LOCATION:Park Rapids Area Library\, 210 1st St W\, Park Rapids\, MN\, 56470\, United States
CATEGORIES:Education
ATTACH;FMTTYPE=image/png:https://heartlandlakescommunitycalendar.com/wp-content/uploads/2024/03/Storytime-graphic-1-1.png
ORGANIZER;CN="Park Rapids Area Library":MAILTO:parkrapids@krls.org
END:VEVENT
BEGIN:VEVENT
DTSTART;TZID=UTC:20270503T103000
DTEND;TZID=UTC:20270503T120000
DTSTAMP:20260420T113823
CREATED:20250315T222439Z
LAST-MODIFIED:20250315T222439Z
UID:10003426-1809340200-1809345600@heartlandlakescommunitycalendar.com
SUMMARY:Solos of the Heartland Lakes
DESCRIPTION:A growing portion of the population on is composed of “solos”. The group helps solos plan for and manage health and well-being decisions and events—both large and small—during the second half of life. Participants work with each other to create a personal ‘backup plan’ by Linda Camp to make sure they have help and support when they need it.
URL:https://heartlandlakescommunitycalendar.com/index.php/event/solos-of-the-heartland-lakes-3/2027-05-03/
LOCATION:Living at Home\, 218 Industrial Park Rd\, Park Rapids\, MN\, 56470\, United States
CATEGORIES:Education,Social
ORGANIZER;CN="Living at Home":MAILTO:dfc@parkrapidslivingathome.org
END:VEVENT
BEGIN:VEVENT
DTSTART;TZID=UTC:20270507T103000
DTEND;TZID=UTC:20270507T113000
DTSTAMP:20260420T113823
CREATED:20240324T063814Z
LAST-MODIFIED:20240324T064635Z
UID:10001481-1809685800-1809689400@heartlandlakescommunitycalendar.com
SUMMARY:Storytime
DESCRIPTION:Join us for stories and activities for children and the adults who care for them!
URL:https://heartlandlakescommunitycalendar.com/index.php/event/storytime/2027-05-07/
LOCATION:Park Rapids Area Library\, 210 1st St W\, Park Rapids\, MN\, 56470\, United States
CATEGORIES:Education
ATTACH;FMTTYPE=image/png:https://heartlandlakescommunitycalendar.com/wp-content/uploads/2024/03/Storytime-graphic-1-1.png
ORGANIZER;CN="Park Rapids Area Library":MAILTO:parkrapids@krls.org
END:VEVENT
BEGIN:VEVENT
DTSTART;TZID=UTC:20270514T103000
DTEND;TZID=UTC:20270514T113000
DTSTAMP:20260420T113823
CREATED:20240324T063814Z
LAST-MODIFIED:20240324T064635Z
UID:10001482-1810290600-1810294200@heartlandlakescommunitycalendar.com
SUMMARY:Storytime
DESCRIPTION:Join us for stories and activities for children and the adults who care for them!
URL:https://heartlandlakescommunitycalendar.com/index.php/event/storytime/2027-05-14/
LOCATION:Park Rapids Area Library\, 210 1st St W\, Park Rapids\, MN\, 56470\, United States
CATEGORIES:Education
ATTACH;FMTTYPE=image/png:https://heartlandlakescommunitycalendar.com/wp-content/uploads/2024/03/Storytime-graphic-1-1.png
ORGANIZER;CN="Park Rapids Area Library":MAILTO:parkrapids@krls.org
END:VEVENT
BEGIN:VEVENT
DTSTART;TZID=UTC:20270521T103000
DTEND;TZID=UTC:20270521T113000
DTSTAMP:20260420T113823
CREATED:20240324T063814Z
LAST-MODIFIED:20240324T064635Z
UID:10001483-1810895400-1810899000@heartlandlakescommunitycalendar.com
SUMMARY:Storytime
DESCRIPTION:Join us for stories and activities for children and the adults who care for them!
URL:https://heartlandlakescommunitycalendar.com/index.php/event/storytime/2027-05-21/
LOCATION:Park Rapids Area Library\, 210 1st St W\, Park Rapids\, MN\, 56470\, United States
CATEGORIES:Education
ATTACH;FMTTYPE=image/png:https://heartlandlakescommunitycalendar.com/wp-content/uploads/2024/03/Storytime-graphic-1-1.png
ORGANIZER;CN="Park Rapids Area Library":MAILTO:parkrapids@krls.org
END:VEVENT
BEGIN:VEVENT
DTSTART;TZID=UTC:20270526T120000
DTEND;TZID=UTC:20270526T130000
DTSTAMP:20260420T113823
CREATED:20241203T043722Z
LAST-MODIFIED:20241203T043722Z
UID:10003622-1811332800-1811336400@heartlandlakescommunitycalendar.com
SUMMARY:Hubbard in Prevention (HIP) Coalition Monthly Meeting
DESCRIPTION:Hubbard in Prevention (HIP) Coalition is currently funded by a Drug Free Communities Grant to help reduce underage alcohol\, marijuana and tobacco among our youth in Hubbard County\, Minnesota. HIP Coalition is working on strategies to reduced youth substance misuse. Please consider joining us!\nHIP Coalition Meets Monthly from 12:00 pm – 1:00 pm on the 4th Wednesday via Zoom \nJoin Zoom Meeting\nhttps://commonspirit.zoom.us/j/2698627351?pwd=ZzhxbWgxcUx6ZHJnZ2taSWhyTGgrdz09 \nMeeting ID: 269 862 7351\nPasscode: Prevention
URL:https://heartlandlakescommunitycalendar.com/index.php/event/hubbard-in-prevention-hip-coalition-monthly-meeting/2027-05-26/
LOCATION:MN
CATEGORIES:Education,Meeting
ORGANIZER;CN="Hubbard In Prevention":MAILTO:angela.graham@commonspirit.org
END:VEVENT
BEGIN:VEVENT
DTSTART;TZID=UTC:20270528T103000
DTEND;TZID=UTC:20270528T113000
DTSTAMP:20260420T113823
CREATED:20240324T063814Z
LAST-MODIFIED:20240324T064635Z
UID:10001484-1811500200-1811503800@heartlandlakescommunitycalendar.com
SUMMARY:Storytime
DESCRIPTION:Join us for stories and activities for children and the adults who care for them!
URL:https://heartlandlakescommunitycalendar.com/index.php/event/storytime/2027-05-28/
LOCATION:Park Rapids Area Library\, 210 1st St W\, Park Rapids\, MN\, 56470\, United States
CATEGORIES:Education
ATTACH;FMTTYPE=image/png:https://heartlandlakescommunitycalendar.com/wp-content/uploads/2024/03/Storytime-graphic-1-1.png
ORGANIZER;CN="Park Rapids Area Library":MAILTO:parkrapids@krls.org
END:VEVENT
BEGIN:VEVENT
DTSTART;TZID=UTC:20270604T103000
DTEND;TZID=UTC:20270604T113000
DTSTAMP:20260420T113823
CREATED:20240324T063814Z
LAST-MODIFIED:20240324T064635Z
UID:10001485-1812105000-1812108600@heartlandlakescommunitycalendar.com
SUMMARY:Storytime
DESCRIPTION:Join us for stories and activities for children and the adults who care for them!
URL:https://heartlandlakescommunitycalendar.com/index.php/event/storytime/2027-06-04/
LOCATION:Park Rapids Area Library\, 210 1st St W\, Park Rapids\, MN\, 56470\, United States
CATEGORIES:Education
ATTACH;FMTTYPE=image/png:https://heartlandlakescommunitycalendar.com/wp-content/uploads/2024/03/Storytime-graphic-1-1.png
ORGANIZER;CN="Park Rapids Area Library":MAILTO:parkrapids@krls.org
END:VEVENT
BEGIN:VEVENT
DTSTART;TZID=UTC:20270607T103000
DTEND;TZID=UTC:20270607T120000
DTSTAMP:20260420T113823
CREATED:20250315T222439Z
LAST-MODIFIED:20250315T222439Z
UID:10003427-1812364200-1812369600@heartlandlakescommunitycalendar.com
SUMMARY:Solos of the Heartland Lakes
DESCRIPTION:A growing portion of the population on is composed of “solos”. The group helps solos plan for and manage health and well-being decisions and events—both large and small—during the second half of life. Participants work with each other to create a personal ‘backup plan’ by Linda Camp to make sure they have help and support when they need it.
URL:https://heartlandlakescommunitycalendar.com/index.php/event/solos-of-the-heartland-lakes-3/2027-06-07/
LOCATION:Living at Home\, 218 Industrial Park Rd\, Park Rapids\, MN\, 56470\, United States
CATEGORIES:Education,Social
ORGANIZER;CN="Living at Home":MAILTO:dfc@parkrapidslivingathome.org
END:VEVENT
BEGIN:VEVENT
DTSTART;TZID=UTC:20270611T103000
DTEND;TZID=UTC:20270611T113000
DTSTAMP:20260420T113823
CREATED:20240324T063814Z
LAST-MODIFIED:20240324T064635Z
UID:10001486-1812709800-1812713400@heartlandlakescommunitycalendar.com
SUMMARY:Storytime
DESCRIPTION:Join us for stories and activities for children and the adults who care for them!
URL:https://heartlandlakescommunitycalendar.com/index.php/event/storytime/2027-06-11/
LOCATION:Park Rapids Area Library\, 210 1st St W\, Park Rapids\, MN\, 56470\, United States
CATEGORIES:Education
ATTACH;FMTTYPE=image/png:https://heartlandlakescommunitycalendar.com/wp-content/uploads/2024/03/Storytime-graphic-1-1.png
ORGANIZER;CN="Park Rapids Area Library":MAILTO:parkrapids@krls.org
END:VEVENT
BEGIN:VEVENT
DTSTART;TZID=UTC:20270618T103000
DTEND;TZID=UTC:20270618T113000
DTSTAMP:20260420T113823
CREATED:20240324T063814Z
LAST-MODIFIED:20240324T064635Z
UID:10001487-1813314600-1813318200@heartlandlakescommunitycalendar.com
SUMMARY:Storytime
DESCRIPTION:Join us for stories and activities for children and the adults who care for them!
URL:https://heartlandlakescommunitycalendar.com/index.php/event/storytime/2027-06-18/
LOCATION:Park Rapids Area Library\, 210 1st St W\, Park Rapids\, MN\, 56470\, United States
CATEGORIES:Education
ATTACH;FMTTYPE=image/png:https://heartlandlakescommunitycalendar.com/wp-content/uploads/2024/03/Storytime-graphic-1-1.png
ORGANIZER;CN="Park Rapids Area Library":MAILTO:parkrapids@krls.org
END:VEVENT
BEGIN:VEVENT
DTSTART;TZID=UTC:20270623T120000
DTEND;TZID=UTC:20270623T130000
DTSTAMP:20260420T113823
CREATED:20241203T043722Z
LAST-MODIFIED:20241203T043722Z
UID:10003623-1813752000-1813755600@heartlandlakescommunitycalendar.com
SUMMARY:Hubbard in Prevention (HIP) Coalition Monthly Meeting
DESCRIPTION:Hubbard in Prevention (HIP) Coalition is currently funded by a Drug Free Communities Grant to help reduce underage alcohol\, marijuana and tobacco among our youth in Hubbard County\, Minnesota. HIP Coalition is working on strategies to reduced youth substance misuse. Please consider joining us!\nHIP Coalition Meets Monthly from 12:00 pm – 1:00 pm on the 4th Wednesday via Zoom \nJoin Zoom Meeting\nhttps://commonspirit.zoom.us/j/2698627351?pwd=ZzhxbWgxcUx6ZHJnZ2taSWhyTGgrdz09 \nMeeting ID: 269 862 7351\nPasscode: Prevention
URL:https://heartlandlakescommunitycalendar.com/index.php/event/hubbard-in-prevention-hip-coalition-monthly-meeting/2027-06-23/
LOCATION:MN
CATEGORIES:Education,Meeting
ORGANIZER;CN="Hubbard In Prevention":MAILTO:angela.graham@commonspirit.org
END:VEVENT
BEGIN:VEVENT
DTSTART;TZID=UTC:20270625T103000
DTEND;TZID=UTC:20270625T113000
DTSTAMP:20260420T113823
CREATED:20240324T063814Z
LAST-MODIFIED:20240324T064635Z
UID:10001488-1813919400-1813923000@heartlandlakescommunitycalendar.com
SUMMARY:Storytime
DESCRIPTION:Join us for stories and activities for children and the adults who care for them!
URL:https://heartlandlakescommunitycalendar.com/index.php/event/storytime/2027-06-25/
LOCATION:Park Rapids Area Library\, 210 1st St W\, Park Rapids\, MN\, 56470\, United States
CATEGORIES:Education
ATTACH;FMTTYPE=image/png:https://heartlandlakescommunitycalendar.com/wp-content/uploads/2024/03/Storytime-graphic-1-1.png
ORGANIZER;CN="Park Rapids Area Library":MAILTO:parkrapids@krls.org
END:VEVENT
BEGIN:VEVENT
DTSTART;TZID=UTC:20270702T103000
DTEND;TZID=UTC:20270702T113000
DTSTAMP:20260420T113823
CREATED:20240324T063814Z
LAST-MODIFIED:20240324T064635Z
UID:10001489-1814524200-1814527800@heartlandlakescommunitycalendar.com
SUMMARY:Storytime
DESCRIPTION:Join us for stories and activities for children and the adults who care for them!
URL:https://heartlandlakescommunitycalendar.com/index.php/event/storytime/2027-07-02/
LOCATION:Park Rapids Area Library\, 210 1st St W\, Park Rapids\, MN\, 56470\, United States
CATEGORIES:Education
ATTACH;FMTTYPE=image/png:https://heartlandlakescommunitycalendar.com/wp-content/uploads/2024/03/Storytime-graphic-1-1.png
ORGANIZER;CN="Park Rapids Area Library":MAILTO:parkrapids@krls.org
END:VEVENT
BEGIN:VEVENT
DTSTART;TZID=UTC:20270705T103000
DTEND;TZID=UTC:20270705T120000
DTSTAMP:20260420T113823
CREATED:20250315T222439Z
LAST-MODIFIED:20250315T222439Z
UID:10003428-1814783400-1814788800@heartlandlakescommunitycalendar.com
SUMMARY:Solos of the Heartland Lakes
DESCRIPTION:A growing portion of the population on is composed of “solos”. The group helps solos plan for and manage health and well-being decisions and events—both large and small—during the second half of life. Participants work with each other to create a personal ‘backup plan’ by Linda Camp to make sure they have help and support when they need it.
URL:https://heartlandlakescommunitycalendar.com/index.php/event/solos-of-the-heartland-lakes-3/2027-07-05/
LOCATION:Living at Home\, 218 Industrial Park Rd\, Park Rapids\, MN\, 56470\, United States
CATEGORIES:Education,Social
ORGANIZER;CN="Living at Home":MAILTO:dfc@parkrapidslivingathome.org
END:VEVENT
BEGIN:VEVENT
DTSTART;TZID=UTC:20270709T103000
DTEND;TZID=UTC:20270709T113000
DTSTAMP:20260420T113823
CREATED:20240324T063814Z
LAST-MODIFIED:20240324T064635Z
UID:10001490-1815129000-1815132600@heartlandlakescommunitycalendar.com
SUMMARY:Storytime
DESCRIPTION:Join us for stories and activities for children and the adults who care for them!
URL:https://heartlandlakescommunitycalendar.com/index.php/event/storytime/2027-07-09/
LOCATION:Park Rapids Area Library\, 210 1st St W\, Park Rapids\, MN\, 56470\, United States
CATEGORIES:Education
ATTACH;FMTTYPE=image/png:https://heartlandlakescommunitycalendar.com/wp-content/uploads/2024/03/Storytime-graphic-1-1.png
ORGANIZER;CN="Park Rapids Area Library":MAILTO:parkrapids@krls.org
END:VEVENT
BEGIN:VEVENT
DTSTART;TZID=UTC:20270716T103000
DTEND;TZID=UTC:20270716T113000
DTSTAMP:20260420T113823
CREATED:20240324T063814Z
LAST-MODIFIED:20240324T064635Z
UID:10001491-1815733800-1815737400@heartlandlakescommunitycalendar.com
SUMMARY:Storytime
DESCRIPTION:Join us for stories and activities for children and the adults who care for them!
URL:https://heartlandlakescommunitycalendar.com/index.php/event/storytime/2027-07-16/
LOCATION:Park Rapids Area Library\, 210 1st St W\, Park Rapids\, MN\, 56470\, United States
CATEGORIES:Education
ATTACH;FMTTYPE=image/png:https://heartlandlakescommunitycalendar.com/wp-content/uploads/2024/03/Storytime-graphic-1-1.png
ORGANIZER;CN="Park Rapids Area Library":MAILTO:parkrapids@krls.org
END:VEVENT
BEGIN:VEVENT
DTSTART;TZID=UTC:20270723T103000
DTEND;TZID=UTC:20270723T113000
DTSTAMP:20260420T113823
CREATED:20240324T063814Z
LAST-MODIFIED:20240324T064635Z
UID:10001492-1816338600-1816342200@heartlandlakescommunitycalendar.com
SUMMARY:Storytime
DESCRIPTION:Join us for stories and activities for children and the adults who care for them!
URL:https://heartlandlakescommunitycalendar.com/index.php/event/storytime/2027-07-23/
LOCATION:Park Rapids Area Library\, 210 1st St W\, Park Rapids\, MN\, 56470\, United States
CATEGORIES:Education
ATTACH;FMTTYPE=image/png:https://heartlandlakescommunitycalendar.com/wp-content/uploads/2024/03/Storytime-graphic-1-1.png
ORGANIZER;CN="Park Rapids Area Library":MAILTO:parkrapids@krls.org
END:VEVENT
BEGIN:VEVENT
DTSTART;TZID=UTC:20270728T120000
DTEND;TZID=UTC:20270728T130000
DTSTAMP:20260420T113823
CREATED:20241203T043722Z
LAST-MODIFIED:20241203T043722Z
UID:10003624-1816776000-1816779600@heartlandlakescommunitycalendar.com
SUMMARY:Hubbard in Prevention (HIP) Coalition Monthly Meeting
DESCRIPTION:Hubbard in Prevention (HIP) Coalition is currently funded by a Drug Free Communities Grant to help reduce underage alcohol\, marijuana and tobacco among our youth in Hubbard County\, Minnesota. HIP Coalition is working on strategies to reduced youth substance misuse. Please consider joining us!\nHIP Coalition Meets Monthly from 12:00 pm – 1:00 pm on the 4th Wednesday via Zoom \nJoin Zoom Meeting\nhttps://commonspirit.zoom.us/j/2698627351?pwd=ZzhxbWgxcUx6ZHJnZ2taSWhyTGgrdz09 \nMeeting ID: 269 862 7351\nPasscode: Prevention
URL:https://heartlandlakescommunitycalendar.com/index.php/event/hubbard-in-prevention-hip-coalition-monthly-meeting/2027-07-28/
LOCATION:MN
CATEGORIES:Education,Meeting
ORGANIZER;CN="Hubbard In Prevention":MAILTO:angela.graham@commonspirit.org
END:VEVENT
BEGIN:VEVENT
DTSTART;TZID=UTC:20270730T103000
DTEND;TZID=UTC:20270730T113000
DTSTAMP:20260420T113823
CREATED:20240324T063814Z
LAST-MODIFIED:20240324T064635Z
UID:10001493-1816943400-1816947000@heartlandlakescommunitycalendar.com
SUMMARY:Storytime
DESCRIPTION:Join us for stories and activities for children and the adults who care for them!
URL:https://heartlandlakescommunitycalendar.com/index.php/event/storytime/2027-07-30/
LOCATION:Park Rapids Area Library\, 210 1st St W\, Park Rapids\, MN\, 56470\, United States
CATEGORIES:Education
ATTACH;FMTTYPE=image/png:https://heartlandlakescommunitycalendar.com/wp-content/uploads/2024/03/Storytime-graphic-1-1.png
ORGANIZER;CN="Park Rapids Area Library":MAILTO:parkrapids@krls.org
END:VEVENT
BEGIN:VEVENT
DTSTART;TZID=UTC:20270802T103000
DTEND;TZID=UTC:20270802T120000
DTSTAMP:20260420T113823
CREATED:20250315T222439Z
LAST-MODIFIED:20250315T222439Z
UID:10003429-1817202600-1817208000@heartlandlakescommunitycalendar.com
SUMMARY:Solos of the Heartland Lakes
DESCRIPTION:A growing portion of the population on is composed of “solos”. The group helps solos plan for and manage health and well-being decisions and events—both large and small—during the second half of life. Participants work with each other to create a personal ‘backup plan’ by Linda Camp to make sure they have help and support when they need it.
URL:https://heartlandlakescommunitycalendar.com/index.php/event/solos-of-the-heartland-lakes-3/2027-08-02/
LOCATION:Living at Home\, 218 Industrial Park Rd\, Park Rapids\, MN\, 56470\, United States
CATEGORIES:Education,Social
ORGANIZER;CN="Living at Home":MAILTO:dfc@parkrapidslivingathome.org
END:VEVENT
BEGIN:VEVENT
DTSTART;TZID=UTC:20270806T103000
DTEND;TZID=UTC:20270806T113000
DTSTAMP:20260420T113823
CREATED:20240324T063814Z
LAST-MODIFIED:20240324T064635Z
UID:10001494-1817548200-1817551800@heartlandlakescommunitycalendar.com
SUMMARY:Storytime
DESCRIPTION:Join us for stories and activities for children and the adults who care for them!
URL:https://heartlandlakescommunitycalendar.com/index.php/event/storytime/2027-08-06/
LOCATION:Park Rapids Area Library\, 210 1st St W\, Park Rapids\, MN\, 56470\, United States
CATEGORIES:Education
ATTACH;FMTTYPE=image/png:https://heartlandlakescommunitycalendar.com/wp-content/uploads/2024/03/Storytime-graphic-1-1.png
ORGANIZER;CN="Park Rapids Area Library":MAILTO:parkrapids@krls.org
END:VEVENT
END:VCALENDAR