BEGIN:VCALENDAR
VERSION:2.0
PRODID:-//The Heartland Lakes Community Calendar - ECPv6.3.7//NONSGML v1.0//EN
CALSCALE:GREGORIAN
METHOD:PUBLISH
X-ORIGINAL-URL:https://heartlandlakescommunitycalendar.com
X-WR-CALDESC:Events for The Heartland Lakes Community Calendar
REFRESH-INTERVAL;VALUE=DURATION:PT1H
X-Robots-Tag:noindex
X-PUBLISHED-TTL:PT1H
BEGIN:VTIMEZONE
TZID:America/New_York
BEGIN:DAYLIGHT
TZOFFSETFROM:-0500
TZOFFSETTO:-0400
TZNAME:EDT
DTSTART:20260308T070000
END:DAYLIGHT
BEGIN:STANDARD
TZOFFSETFROM:-0400
TZOFFSETTO:-0500
TZNAME:EST
DTSTART:20261101T060000
END:STANDARD
TZID:UTC
BEGIN:STANDARD
TZOFFSETFROM:+0000
TZOFFSETTO:+0000
TZNAME:UTC
DTSTART:20260101T000000
END:STANDARD
END:VTIMEZONE
BEGIN:VEVENT
DTSTART;TZID=America/New_York:20260301T140000
DTEND;TZID=America/New_York:20260301T160000
DTSTAMP:20260420T042854
CREATED:20260301T092616Z
LAST-MODIFIED:20260301T092616Z
UID:10011822-1772373600-1772380800@heartlandlakescommunitycalendar.com
SUMMARY:Sunday Meat Raffle
DESCRIPTION:Make it a Sunday Funday with Mandatory Fun Outdoors’ weekly meat raffle in Emmaville. Enjoy drinks\, appetizers\, and a good time!
URL:https://heartlandlakescommunitycalendar.com/index.php/event/sunday-meat-raffle/2026-03-01/
LOCATION:Emmaville Inn and Cafe\, 28021 County 4\, Park Rapids\, MN\, 56470\, United States
CATEGORIES:Entertainment
ATTACH;FMTTYPE=image/jpeg:https://heartlandlakescommunitycalendar.com/wp-content/uploads/2026/03/630433450_122172222890776256_5251886797231679564_n.jpg
ORGANIZER;CN="Mandatory Fun Outdoors":MAILTO:mfo.information@gmail.com
END:VEVENT
BEGIN:VEVENT
DTSTART;TZID=UTC:20260303T190000
DTEND;TZID=UTC:20260303T210000
DTSTAMP:20260420T042854
CREATED:20250123T094511Z
LAST-MODIFIED:20250123T095029Z
UID:10004140-1772564400-1772571600@heartlandlakescommunitycalendar.com
SUMMARY:DJ Bingo
DESCRIPTION:Tuesday nights just got way more fun! DJ Bingo kicks off at 7 PM\, and it’s totally FREE to play—so why not grab your crew and join in?💰 Win big! We’ve got a progressive cash prize up to $300 and Zorbaz Gift Cards for regular Bingo wins! 🎵 It’s bingo\, but with a beat! Expect good vibes and a whole lot of fun. 👨‍👩‍👧‍👦 All ages welcome! Don’t miss out—come play\, dance\, and win every Tuesday at 7 PM! See ya there! 🍻🎤🎉
URL:https://heartlandlakescommunitycalendar.com/index.php/event/dj-bingo/2026-03-03/
LOCATION:Zorbaz\, 22036 County 7\, Park Rapids\, 56470\, United States
CATEGORIES:Entertainment
END:VEVENT
BEGIN:VEVENT
DTSTART;TZID=UTC:20260305T190000
DTEND;TZID=UTC:20260305T210000
DTSTAMP:20260420T042854
CREATED:20250123T094947Z
LAST-MODIFIED:20250123T095039Z
UID:10004402-1772737200-1772744400@heartlandlakescommunitycalendar.com
SUMMARY:DJ Trivia
DESCRIPTION:Thursday nights just got a whole lot more fun! DJ Trivia kicks off at 7 PM\, so grab your crew and put your knowledge to the test! Fun questions\, great music\, and tons of laughs! Whether you’re a trivia pro or just in it for the fun\, there’s a spot for you at the table. See ya Thursday at 7 PM—let’s get quizzical! 🍺🔥
URL:https://heartlandlakescommunitycalendar.com/index.php/event/dj-trivia/2026-03-05/
LOCATION:Zorbaz\, 22036 County 7\, Park Rapids\, 56470\, United States
CATEGORIES:Entertainment
END:VEVENT
BEGIN:VEVENT
DTSTART;TZID=UTC:20260308T130000
DTEND;TZID=UTC:20260308T160000
DTSTAMP:20260420T042854
CREATED:20260228T060212Z
LAST-MODIFIED:20260228T060212Z
UID:10011762-1772974800-1772985600@heartlandlakescommunitycalendar.com
SUMMARY:Everybody Dance
DESCRIPTION:Get ready to groove at Everybody Dance\, an afternoon of fun\, music\, and movement! From 1–4 PM\, enjoy a lively mix of old-timey and variety music\, perfect for dancing and making memories. Whether you’re a seasoned dancer or just love great tunes\, this event is for everyone! Come dance the day away – we’ll see you there! 💃🕺 \nBands as Follows \n2026: \nJan 18 Eric’s Dance Band\nFeb 1 Jerry & Joyce Dance Band\nFeb 15 Eric’s Dance Band\nMar 8 Nite Owls\nMar 22 Frankly Country\nApr 26 Eric’s Dance Band\nMay 3 Jerry & Joyce Dance Band\nMay 17 Eric’s Dance Band\nJune 14 Pat\, Dave & John Band\nJuly 12 Julie Lee Band – FREE DANCE\nAug 9 Frankly Country\nSept 20 Eric’s Dance Band\nOct 11 Jerry & Joyce Dance Band\nOct 25 Nite Owls\nNov 15 Frankly Country\nDec 13 Nite Owls\nJan 3\, 2027 Eric’s Dance Band
URL:https://heartlandlakescommunitycalendar.com/index.php/event/everybody-dance-2/2026-03-08/
LOCATION:Park Rapids American Legion\, 900 1st St E\, Park Rapids\, MN\, 56470\, United States
CATEGORIES:Entertainment,Social
ATTACH;FMTTYPE=image/png:https://heartlandlakescommunitycalendar.com/wp-content/uploads/2024/12/Everybody-Dance.png
ORGANIZER;CN="Everybody Dance Park Rapids":MAILTO:lilakalish@gmail.com
END:VEVENT
BEGIN:VEVENT
DTSTART;TZID=America/New_York:20260308T140000
DTEND;TZID=America/New_York:20260308T160000
DTSTAMP:20260420T042854
CREATED:20260301T092616Z
LAST-MODIFIED:20260301T092616Z
UID:10011823-1772978400-1772985600@heartlandlakescommunitycalendar.com
SUMMARY:Sunday Meat Raffle
DESCRIPTION:Make it a Sunday Funday with Mandatory Fun Outdoors’ weekly meat raffle in Emmaville. Enjoy drinks\, appetizers\, and a good time!
URL:https://heartlandlakescommunitycalendar.com/index.php/event/sunday-meat-raffle/2026-03-08/
LOCATION:Emmaville Inn and Cafe\, 28021 County 4\, Park Rapids\, MN\, 56470\, United States
CATEGORIES:Entertainment
ATTACH;FMTTYPE=image/jpeg:https://heartlandlakescommunitycalendar.com/wp-content/uploads/2026/03/630433450_122172222890776256_5251886797231679564_n.jpg
ORGANIZER;CN="Mandatory Fun Outdoors":MAILTO:mfo.information@gmail.com
END:VEVENT
BEGIN:VEVENT
DTSTART;TZID=UTC:20260310T190000
DTEND;TZID=UTC:20260310T210000
DTSTAMP:20260420T042854
CREATED:20250123T094511Z
LAST-MODIFIED:20250123T095029Z
UID:10004141-1773169200-1773176400@heartlandlakescommunitycalendar.com
SUMMARY:DJ Bingo
DESCRIPTION:Tuesday nights just got way more fun! DJ Bingo kicks off at 7 PM\, and it’s totally FREE to play—so why not grab your crew and join in?💰 Win big! We’ve got a progressive cash prize up to $300 and Zorbaz Gift Cards for regular Bingo wins! 🎵 It’s bingo\, but with a beat! Expect good vibes and a whole lot of fun. 👨‍👩‍👧‍👦 All ages welcome! Don’t miss out—come play\, dance\, and win every Tuesday at 7 PM! See ya there! 🍻🎤🎉
URL:https://heartlandlakescommunitycalendar.com/index.php/event/dj-bingo/2026-03-10/
LOCATION:Zorbaz\, 22036 County 7\, Park Rapids\, 56470\, United States
CATEGORIES:Entertainment
END:VEVENT
BEGIN:VEVENT
DTSTART;TZID=UTC:20260312T190000
DTEND;TZID=UTC:20260312T210000
DTSTAMP:20260420T042854
CREATED:20250123T094947Z
LAST-MODIFIED:20250123T095039Z
UID:10004403-1773342000-1773349200@heartlandlakescommunitycalendar.com
SUMMARY:DJ Trivia
DESCRIPTION:Thursday nights just got a whole lot more fun! DJ Trivia kicks off at 7 PM\, so grab your crew and put your knowledge to the test! Fun questions\, great music\, and tons of laughs! Whether you’re a trivia pro or just in it for the fun\, there’s a spot for you at the table. See ya Thursday at 7 PM—let’s get quizzical! 🍺🔥
URL:https://heartlandlakescommunitycalendar.com/index.php/event/dj-trivia/2026-03-12/
LOCATION:Zorbaz\, 22036 County 7\, Park Rapids\, 56470\, United States
CATEGORIES:Entertainment
END:VEVENT
BEGIN:VEVENT
DTSTART;TZID=America/New_York:20260315T140000
DTEND;TZID=America/New_York:20260315T160000
DTSTAMP:20260420T042854
CREATED:20260301T092616Z
LAST-MODIFIED:20260301T092616Z
UID:10011824-1773583200-1773590400@heartlandlakescommunitycalendar.com
SUMMARY:Sunday Meat Raffle
DESCRIPTION:Make it a Sunday Funday with Mandatory Fun Outdoors’ weekly meat raffle in Emmaville. Enjoy drinks\, appetizers\, and a good time!
URL:https://heartlandlakescommunitycalendar.com/index.php/event/sunday-meat-raffle/2026-03-15/
LOCATION:Emmaville Inn and Cafe\, 28021 County 4\, Park Rapids\, MN\, 56470\, United States
CATEGORIES:Entertainment
ATTACH;FMTTYPE=image/jpeg:https://heartlandlakescommunitycalendar.com/wp-content/uploads/2026/03/630433450_122172222890776256_5251886797231679564_n.jpg
ORGANIZER;CN="Mandatory Fun Outdoors":MAILTO:mfo.information@gmail.com
END:VEVENT
BEGIN:VEVENT
DTSTART;TZID=UTC:20260317T190000
DTEND;TZID=UTC:20260317T210000
DTSTAMP:20260420T042854
CREATED:20250123T094511Z
LAST-MODIFIED:20250123T095029Z
UID:10004142-1773774000-1773781200@heartlandlakescommunitycalendar.com
SUMMARY:DJ Bingo
DESCRIPTION:Tuesday nights just got way more fun! DJ Bingo kicks off at 7 PM\, and it’s totally FREE to play—so why not grab your crew and join in?💰 Win big! We’ve got a progressive cash prize up to $300 and Zorbaz Gift Cards for regular Bingo wins! 🎵 It’s bingo\, but with a beat! Expect good vibes and a whole lot of fun. 👨‍👩‍👧‍👦 All ages welcome! Don’t miss out—come play\, dance\, and win every Tuesday at 7 PM! See ya there! 🍻🎤🎉
URL:https://heartlandlakescommunitycalendar.com/index.php/event/dj-bingo/2026-03-17/
LOCATION:Zorbaz\, 22036 County 7\, Park Rapids\, 56470\, United States
CATEGORIES:Entertainment
END:VEVENT
BEGIN:VEVENT
DTSTART;TZID=UTC:20260319T190000
DTEND;TZID=UTC:20260319T210000
DTSTAMP:20260420T042854
CREATED:20250123T094947Z
LAST-MODIFIED:20250123T095039Z
UID:10004404-1773946800-1773954000@heartlandlakescommunitycalendar.com
SUMMARY:DJ Trivia
DESCRIPTION:Thursday nights just got a whole lot more fun! DJ Trivia kicks off at 7 PM\, so grab your crew and put your knowledge to the test! Fun questions\, great music\, and tons of laughs! Whether you’re a trivia pro or just in it for the fun\, there’s a spot for you at the table. See ya Thursday at 7 PM—let’s get quizzical! 🍺🔥
URL:https://heartlandlakescommunitycalendar.com/index.php/event/dj-trivia/2026-03-19/
LOCATION:Zorbaz\, 22036 County 7\, Park Rapids\, 56470\, United States
CATEGORIES:Entertainment
END:VEVENT
BEGIN:VEVENT
DTSTART;TZID=America/New_York:20260319T190000
DTEND;TZID=America/New_York:20260319T210000
DTSTAMP:20260420T042854
CREATED:20260301T065436Z
LAST-MODIFIED:20260301T065436Z
UID:10011785-1773946800-1773954000@heartlandlakescommunitycalendar.com
SUMMARY:Open Mic Night
DESCRIPTION:Open Mic Night will be held from 7 to 9 p.m. Thursday\, March 19 at the Armory Arts & Events Center. Share your talents by calling 218-237-3722 and setting up a 10-minute time slot. Doors open at 6 p.m. Open Mic Nights are free to the public\, but $5 donations are encouraged and welcome. Beverages are available at the AA&EC concession window.
URL:https://heartlandlakescommunitycalendar.com/index.php/event/open-mic-night-3/
LOCATION:Armory Arts & Events Center\, 203 Park Ave. South\, Park Rapids\, MN\, 56470\, United States
CATEGORIES:Entertainment
ATTACH;FMTTYPE=image/jpeg:https://heartlandlakescommunitycalendar.com/wp-content/uploads/2026/03/Open-Mic-Night-768x1008-1.jpeg
ORGANIZER;CN="Armory Arts & Events Center":MAILTO:jkjenaas@parkrapidsarmory.org
END:VEVENT
BEGIN:VEVENT
DTSTART;TZID=America/New_York:20260320T180000
DTEND;TZID=America/New_York:20260320T200000
DTSTAMP:20260420T042854
CREATED:20260323T001233Z
LAST-MODIFIED:20260323T001234Z
UID:10012210-1774029600-1774036800@heartlandlakescommunitycalendar.com
SUMMARY:The Ride: Youth Movie Night and Discussion
DESCRIPTION:Ages 13-18\, The Ride: Movie Night and Discussion of racism\, positive adult support\, youth justice systems\, and community!
URL:https://heartlandlakescommunitycalendar.com/index.php/event/the-ride-youth-movie-night-and-discussion/
LOCATION:Old Music Shop\, 222 Main Ave. S.\, Park Rapids\, MN\, 56470\, United States
CATEGORIES:Entertainment
ATTACH;FMTTYPE=image/webp:https://heartlandlakescommunitycalendar.com/wp-content/uploads/2026/03/YESS-Movie-Night-PIC-bab95f863ee8ff9bfbb5cfdff40158f9.webp
ORGANIZER;CN="YESS Youth Center":MAILTO:youthmatterinhubbardcounty@gmail.com
END:VEVENT
BEGIN:VEVENT
DTSTART;TZID=UTC:20260322T130000
DTEND;TZID=UTC:20260322T160000
DTSTAMP:20260420T042854
CREATED:20260228T060212Z
LAST-MODIFIED:20260228T060212Z
UID:10011763-1774184400-1774195200@heartlandlakescommunitycalendar.com
SUMMARY:Everybody Dance
DESCRIPTION:Get ready to groove at Everybody Dance\, an afternoon of fun\, music\, and movement! From 1–4 PM\, enjoy a lively mix of old-timey and variety music\, perfect for dancing and making memories. Whether you’re a seasoned dancer or just love great tunes\, this event is for everyone! Come dance the day away – we’ll see you there! 💃🕺 \nBands as Follows \n2026: \nJan 18 Eric’s Dance Band\nFeb 1 Jerry & Joyce Dance Band\nFeb 15 Eric’s Dance Band\nMar 8 Nite Owls\nMar 22 Frankly Country\nApr 26 Eric’s Dance Band\nMay 3 Jerry & Joyce Dance Band\nMay 17 Eric’s Dance Band\nJune 14 Pat\, Dave & John Band\nJuly 12 Julie Lee Band – FREE DANCE\nAug 9 Frankly Country\nSept 20 Eric’s Dance Band\nOct 11 Jerry & Joyce Dance Band\nOct 25 Nite Owls\nNov 15 Frankly Country\nDec 13 Nite Owls\nJan 3\, 2027 Eric’s Dance Band
URL:https://heartlandlakescommunitycalendar.com/index.php/event/everybody-dance-2/2026-03-22/
LOCATION:Park Rapids American Legion\, 900 1st St E\, Park Rapids\, MN\, 56470\, United States
CATEGORIES:Entertainment,Social
ATTACH;FMTTYPE=image/png:https://heartlandlakescommunitycalendar.com/wp-content/uploads/2024/12/Everybody-Dance.png
ORGANIZER;CN="Everybody Dance Park Rapids":MAILTO:lilakalish@gmail.com
END:VEVENT
BEGIN:VEVENT
DTSTART;TZID=America/New_York:20260322T140000
DTEND;TZID=America/New_York:20260322T160000
DTSTAMP:20260420T042854
CREATED:20260301T092616Z
LAST-MODIFIED:20260301T092616Z
UID:10011825-1774188000-1774195200@heartlandlakescommunitycalendar.com
SUMMARY:Sunday Meat Raffle
DESCRIPTION:Make it a Sunday Funday with Mandatory Fun Outdoors’ weekly meat raffle in Emmaville. Enjoy drinks\, appetizers\, and a good time!
URL:https://heartlandlakescommunitycalendar.com/index.php/event/sunday-meat-raffle/2026-03-22/
LOCATION:Emmaville Inn and Cafe\, 28021 County 4\, Park Rapids\, MN\, 56470\, United States
CATEGORIES:Entertainment
ATTACH;FMTTYPE=image/jpeg:https://heartlandlakescommunitycalendar.com/wp-content/uploads/2026/03/630433450_122172222890776256_5251886797231679564_n.jpg
ORGANIZER;CN="Mandatory Fun Outdoors":MAILTO:mfo.information@gmail.com
END:VEVENT
BEGIN:VEVENT
DTSTART;TZID=UTC:20260324T190000
DTEND;TZID=UTC:20260324T210000
DTSTAMP:20260420T042854
CREATED:20250123T094511Z
LAST-MODIFIED:20250123T095029Z
UID:10004143-1774378800-1774386000@heartlandlakescommunitycalendar.com
SUMMARY:DJ Bingo
DESCRIPTION:Tuesday nights just got way more fun! DJ Bingo kicks off at 7 PM\, and it’s totally FREE to play—so why not grab your crew and join in?💰 Win big! We’ve got a progressive cash prize up to $300 and Zorbaz Gift Cards for regular Bingo wins! 🎵 It’s bingo\, but with a beat! Expect good vibes and a whole lot of fun. 👨‍👩‍👧‍👦 All ages welcome! Don’t miss out—come play\, dance\, and win every Tuesday at 7 PM! See ya there! 🍻🎤🎉
URL:https://heartlandlakescommunitycalendar.com/index.php/event/dj-bingo/2026-03-24/
LOCATION:Zorbaz\, 22036 County 7\, Park Rapids\, 56470\, United States
CATEGORIES:Entertainment
END:VEVENT
BEGIN:VEVENT
DTSTART;TZID=UTC:20260326T190000
DTEND;TZID=UTC:20260326T210000
DTSTAMP:20260420T042854
CREATED:20250123T094947Z
LAST-MODIFIED:20250123T095039Z
UID:10004405-1774551600-1774558800@heartlandlakescommunitycalendar.com
SUMMARY:DJ Trivia
DESCRIPTION:Thursday nights just got a whole lot more fun! DJ Trivia kicks off at 7 PM\, so grab your crew and put your knowledge to the test! Fun questions\, great music\, and tons of laughs! Whether you’re a trivia pro or just in it for the fun\, there’s a spot for you at the table. See ya Thursday at 7 PM—let’s get quizzical! 🍺🔥
URL:https://heartlandlakescommunitycalendar.com/index.php/event/dj-trivia/2026-03-26/
LOCATION:Zorbaz\, 22036 County 7\, Park Rapids\, 56470\, United States
CATEGORIES:Entertainment
END:VEVENT
BEGIN:VEVENT
DTSTART;TZID=America/New_York:20260329T140000
DTEND;TZID=America/New_York:20260329T160000
DTSTAMP:20260420T042854
CREATED:20260301T092616Z
LAST-MODIFIED:20260301T092616Z
UID:10011826-1774792800-1774800000@heartlandlakescommunitycalendar.com
SUMMARY:Sunday Meat Raffle
DESCRIPTION:Make it a Sunday Funday with Mandatory Fun Outdoors’ weekly meat raffle in Emmaville. Enjoy drinks\, appetizers\, and a good time!
URL:https://heartlandlakescommunitycalendar.com/index.php/event/sunday-meat-raffle/2026-03-29/
LOCATION:Emmaville Inn and Cafe\, 28021 County 4\, Park Rapids\, MN\, 56470\, United States
CATEGORIES:Entertainment
ATTACH;FMTTYPE=image/jpeg:https://heartlandlakescommunitycalendar.com/wp-content/uploads/2026/03/630433450_122172222890776256_5251886797231679564_n.jpg
ORGANIZER;CN="Mandatory Fun Outdoors":MAILTO:mfo.information@gmail.com
END:VEVENT
BEGIN:VEVENT
DTSTART;TZID=UTC:20260331T190000
DTEND;TZID=UTC:20260331T210000
DTSTAMP:20260420T042854
CREATED:20250123T094511Z
LAST-MODIFIED:20250123T095029Z
UID:10004144-1774983600-1774990800@heartlandlakescommunitycalendar.com
SUMMARY:DJ Bingo
DESCRIPTION:Tuesday nights just got way more fun! DJ Bingo kicks off at 7 PM\, and it’s totally FREE to play—so why not grab your crew and join in?💰 Win big! We’ve got a progressive cash prize up to $300 and Zorbaz Gift Cards for regular Bingo wins! 🎵 It’s bingo\, but with a beat! Expect good vibes and a whole lot of fun. 👨‍👩‍👧‍👦 All ages welcome! Don’t miss out—come play\, dance\, and win every Tuesday at 7 PM! See ya there! 🍻🎤🎉
URL:https://heartlandlakescommunitycalendar.com/index.php/event/dj-bingo/2026-03-31/
LOCATION:Zorbaz\, 22036 County 7\, Park Rapids\, 56470\, United States
CATEGORIES:Entertainment
END:VEVENT
END:VCALENDAR