BEGIN:VCALENDAR
VERSION:2.0
PRODID:-//The Heartland Lakes Community Calendar - ECPv6.3.7//NONSGML v1.0//EN
CALSCALE:GREGORIAN
METHOD:PUBLISH
X-WR-CALNAME:The Heartland Lakes Community Calendar
X-ORIGINAL-URL:https://heartlandlakescommunitycalendar.com
X-WR-CALDESC:Events for The Heartland Lakes Community Calendar
REFRESH-INTERVAL;VALUE=DURATION:PT1H
X-Robots-Tag:noindex
X-PUBLISHED-TTL:PT1H
BEGIN:VTIMEZONE
TZID:America/New_York
BEGIN:DAYLIGHT
TZOFFSETFROM:-0500
TZOFFSETTO:-0400
TZNAME:EDT
DTSTART:20260308T070000
END:DAYLIGHT
BEGIN:STANDARD
TZOFFSETFROM:-0400
TZOFFSETTO:-0500
TZNAME:EST
DTSTART:20261101T060000
END:STANDARD
TZID:UTC
BEGIN:STANDARD
TZOFFSETFROM:+0000
TZOFFSETTO:+0000
TZNAME:UTC
DTSTART:20260101T000000
END:STANDARD
END:VTIMEZONE
BEGIN:VEVENT
DTSTART;TZID=America/New_York:20260419T140000
DTEND;TZID=America/New_York:20260419T160000
DTSTAMP:20260424T083839
CREATED:20260301T092616Z
LAST-MODIFIED:20260301T092616Z
UID:10011829-1776607200-1776614400@heartlandlakescommunitycalendar.com
SUMMARY:Sunday Meat Raffle
DESCRIPTION:Make it a Sunday Funday with Mandatory Fun Outdoors’ weekly meat raffle in Emmaville. Enjoy drinks\, appetizers\, and a good time!
URL:https://heartlandlakescommunitycalendar.com/index.php/event/sunday-meat-raffle/2026-04-19/
LOCATION:Emmaville Inn and Cafe\, 28021 County 4\, Park Rapids\, MN\, 56470\, United States
CATEGORIES:Entertainment
ATTACH;FMTTYPE=image/jpeg:https://heartlandlakescommunitycalendar.com/wp-content/uploads/2026/03/630433450_122172222890776256_5251886797231679564_n.jpg
ORGANIZER;CN="Mandatory Fun Outdoors":MAILTO:mfo.information@gmail.com
END:VEVENT
BEGIN:VEVENT
DTSTART;TZID=UTC:20260421T190000
DTEND;TZID=UTC:20260421T210000
DTSTAMP:20260424T083839
CREATED:20250123T094511Z
LAST-MODIFIED:20250123T095029Z
UID:10004147-1776798000-1776805200@heartlandlakescommunitycalendar.com
SUMMARY:DJ Bingo
DESCRIPTION:Tuesday nights just got way more fun! DJ Bingo kicks off at 7 PM\, and it’s totally FREE to play—so why not grab your crew and join in?💰 Win big! We’ve got a progressive cash prize up to $300 and Zorbaz Gift Cards for regular Bingo wins! 🎵 It’s bingo\, but with a beat! Expect good vibes and a whole lot of fun. 👨‍👩‍👧‍👦 All ages welcome! Don’t miss out—come play\, dance\, and win every Tuesday at 7 PM! See ya there! 🍻🎤🎉
URL:https://heartlandlakescommunitycalendar.com/index.php/event/dj-bingo/2026-04-21/
LOCATION:Zorbaz\, 22036 County 7\, Park Rapids\, 56470\, United States
CATEGORIES:Entertainment
END:VEVENT
BEGIN:VEVENT
DTSTART;TZID=UTC:20260423T190000
DTEND;TZID=UTC:20260423T210000
DTSTAMP:20260424T083839
CREATED:20250123T094947Z
LAST-MODIFIED:20250123T095039Z
UID:10004409-1776970800-1776978000@heartlandlakescommunitycalendar.com
SUMMARY:DJ Trivia
DESCRIPTION:Thursday nights just got a whole lot more fun! DJ Trivia kicks off at 7 PM\, so grab your crew and put your knowledge to the test! Fun questions\, great music\, and tons of laughs! Whether you’re a trivia pro or just in it for the fun\, there’s a spot for you at the table. See ya Thursday at 7 PM—let’s get quizzical! 🍺🔥
URL:https://heartlandlakescommunitycalendar.com/index.php/event/dj-trivia/2026-04-23/
LOCATION:Zorbaz\, 22036 County 7\, Park Rapids\, 56470\, United States
CATEGORIES:Entertainment
END:VEVENT
BEGIN:VEVENT
DTSTART;TZID=UTC:20260426T130000
DTEND;TZID=UTC:20260426T160000
DTSTAMP:20260424T083839
CREATED:20260228T060212Z
LAST-MODIFIED:20260228T060212Z
UID:10011764-1777208400-1777219200@heartlandlakescommunitycalendar.com
SUMMARY:Everybody Dance
DESCRIPTION:Get ready to groove at Everybody Dance\, an afternoon of fun\, music\, and movement! From 1–4 PM\, enjoy a lively mix of old-timey and variety music\, perfect for dancing and making memories. Whether you’re a seasoned dancer or just love great tunes\, this event is for everyone! Come dance the day away – we’ll see you there! 💃🕺 \nBands as Follows \n2026: \nJan 18 Eric’s Dance Band\nFeb 1 Jerry & Joyce Dance Band\nFeb 15 Eric’s Dance Band\nMar 8 Nite Owls\nMar 22 Frankly Country\nApr 26 Eric’s Dance Band\nMay 3 Jerry & Joyce Dance Band\nMay 17 Eric’s Dance Band\nJune 14 Pat\, Dave & John Band\nJuly 12 Julie Lee Band – FREE DANCE\nAug 9 Frankly Country\nSept 20 Eric’s Dance Band\nOct 11 Jerry & Joyce Dance Band\nOct 25 Nite Owls\nNov 15 Frankly Country\nDec 13 Nite Owls\nJan 3\, 2027 Eric’s Dance Band
URL:https://heartlandlakescommunitycalendar.com/index.php/event/everybody-dance-2/2026-04-26/
LOCATION:Park Rapids American Legion\, 900 1st St E\, Park Rapids\, MN\, 56470\, United States
CATEGORIES:Entertainment,Social
ATTACH;FMTTYPE=image/png:https://heartlandlakescommunitycalendar.com/wp-content/uploads/2024/12/Everybody-Dance.png
ORGANIZER;CN="Everybody Dance Park Rapids":MAILTO:lilakalish@gmail.com
END:VEVENT
BEGIN:VEVENT
DTSTART;TZID=America/New_York:20260426T140000
DTEND;TZID=America/New_York:20260426T160000
DTSTAMP:20260424T083839
CREATED:20260301T092616Z
LAST-MODIFIED:20260301T092616Z
UID:10011830-1777212000-1777219200@heartlandlakescommunitycalendar.com
SUMMARY:Sunday Meat Raffle
DESCRIPTION:Make it a Sunday Funday with Mandatory Fun Outdoors’ weekly meat raffle in Emmaville. Enjoy drinks\, appetizers\, and a good time!
URL:https://heartlandlakescommunitycalendar.com/index.php/event/sunday-meat-raffle/2026-04-26/
LOCATION:Emmaville Inn and Cafe\, 28021 County 4\, Park Rapids\, MN\, 56470\, United States
CATEGORIES:Entertainment
ATTACH;FMTTYPE=image/jpeg:https://heartlandlakescommunitycalendar.com/wp-content/uploads/2026/03/630433450_122172222890776256_5251886797231679564_n.jpg
ORGANIZER;CN="Mandatory Fun Outdoors":MAILTO:mfo.information@gmail.com
END:VEVENT
BEGIN:VEVENT
DTSTART;TZID=UTC:20260428T190000
DTEND;TZID=UTC:20260428T210000
DTSTAMP:20260424T083839
CREATED:20250123T094511Z
LAST-MODIFIED:20250123T095029Z
UID:10004148-1777402800-1777410000@heartlandlakescommunitycalendar.com
SUMMARY:DJ Bingo
DESCRIPTION:Tuesday nights just got way more fun! DJ Bingo kicks off at 7 PM\, and it’s totally FREE to play—so why not grab your crew and join in?💰 Win big! We’ve got a progressive cash prize up to $300 and Zorbaz Gift Cards for regular Bingo wins! 🎵 It’s bingo\, but with a beat! Expect good vibes and a whole lot of fun. 👨‍👩‍👧‍👦 All ages welcome! Don’t miss out—come play\, dance\, and win every Tuesday at 7 PM! See ya there! 🍻🎤🎉
URL:https://heartlandlakescommunitycalendar.com/index.php/event/dj-bingo/2026-04-28/
LOCATION:Zorbaz\, 22036 County 7\, Park Rapids\, 56470\, United States
CATEGORIES:Entertainment
END:VEVENT
BEGIN:VEVENT
DTSTART;TZID=UTC:20260430T190000
DTEND;TZID=UTC:20260430T210000
DTSTAMP:20260424T083839
CREATED:20250123T094947Z
LAST-MODIFIED:20250123T095039Z
UID:10004410-1777575600-1777582800@heartlandlakescommunitycalendar.com
SUMMARY:DJ Trivia
DESCRIPTION:Thursday nights just got a whole lot more fun! DJ Trivia kicks off at 7 PM\, so grab your crew and put your knowledge to the test! Fun questions\, great music\, and tons of laughs! Whether you’re a trivia pro or just in it for the fun\, there’s a spot for you at the table. See ya Thursday at 7 PM—let’s get quizzical! 🍺🔥
URL:https://heartlandlakescommunitycalendar.com/index.php/event/dj-trivia/2026-04-30/
LOCATION:Zorbaz\, 22036 County 7\, Park Rapids\, 56470\, United States
CATEGORIES:Entertainment
END:VEVENT
BEGIN:VEVENT
DTSTART;TZID=UTC:20260503T130000
DTEND;TZID=UTC:20260503T160000
DTSTAMP:20260424T083839
CREATED:20260228T060212Z
LAST-MODIFIED:20260228T060212Z
UID:10011765-1777813200-1777824000@heartlandlakescommunitycalendar.com
SUMMARY:Everybody Dance
DESCRIPTION:Get ready to groove at Everybody Dance\, an afternoon of fun\, music\, and movement! From 1–4 PM\, enjoy a lively mix of old-timey and variety music\, perfect for dancing and making memories. Whether you’re a seasoned dancer or just love great tunes\, this event is for everyone! Come dance the day away – we’ll see you there! 💃🕺 \nBands as Follows \n2026: \nJan 18 Eric’s Dance Band\nFeb 1 Jerry & Joyce Dance Band\nFeb 15 Eric’s Dance Band\nMar 8 Nite Owls\nMar 22 Frankly Country\nApr 26 Eric’s Dance Band\nMay 3 Jerry & Joyce Dance Band\nMay 17 Eric’s Dance Band\nJune 14 Pat\, Dave & John Band\nJuly 12 Julie Lee Band – FREE DANCE\nAug 9 Frankly Country\nSept 20 Eric’s Dance Band\nOct 11 Jerry & Joyce Dance Band\nOct 25 Nite Owls\nNov 15 Frankly Country\nDec 13 Nite Owls\nJan 3\, 2027 Eric’s Dance Band
URL:https://heartlandlakescommunitycalendar.com/index.php/event/everybody-dance-2/2026-05-03/
LOCATION:Park Rapids American Legion\, 900 1st St E\, Park Rapids\, MN\, 56470\, United States
CATEGORIES:Entertainment,Social
ATTACH;FMTTYPE=image/png:https://heartlandlakescommunitycalendar.com/wp-content/uploads/2024/12/Everybody-Dance.png
ORGANIZER;CN="Everybody Dance Park Rapids":MAILTO:lilakalish@gmail.com
END:VEVENT
BEGIN:VEVENT
DTSTART;TZID=America/New_York:20260503T140000
DTEND;TZID=America/New_York:20260503T160000
DTSTAMP:20260424T083839
CREATED:20260301T092616Z
LAST-MODIFIED:20260301T092616Z
UID:10011831-1777816800-1777824000@heartlandlakescommunitycalendar.com
SUMMARY:Sunday Meat Raffle
DESCRIPTION:Make it a Sunday Funday with Mandatory Fun Outdoors’ weekly meat raffle in Emmaville. Enjoy drinks\, appetizers\, and a good time!
URL:https://heartlandlakescommunitycalendar.com/index.php/event/sunday-meat-raffle/2026-05-03/
LOCATION:Emmaville Inn and Cafe\, 28021 County 4\, Park Rapids\, MN\, 56470\, United States
CATEGORIES:Entertainment
ATTACH;FMTTYPE=image/jpeg:https://heartlandlakescommunitycalendar.com/wp-content/uploads/2026/03/630433450_122172222890776256_5251886797231679564_n.jpg
ORGANIZER;CN="Mandatory Fun Outdoors":MAILTO:mfo.information@gmail.com
END:VEVENT
BEGIN:VEVENT
DTSTART;TZID=UTC:20260505T190000
DTEND;TZID=UTC:20260505T210000
DTSTAMP:20260424T083839
CREATED:20250123T094511Z
LAST-MODIFIED:20250123T095029Z
UID:10004149-1778007600-1778014800@heartlandlakescommunitycalendar.com
SUMMARY:DJ Bingo
DESCRIPTION:Tuesday nights just got way more fun! DJ Bingo kicks off at 7 PM\, and it’s totally FREE to play—so why not grab your crew and join in?💰 Win big! We’ve got a progressive cash prize up to $300 and Zorbaz Gift Cards for regular Bingo wins! 🎵 It’s bingo\, but with a beat! Expect good vibes and a whole lot of fun. 👨‍👩‍👧‍👦 All ages welcome! Don’t miss out—come play\, dance\, and win every Tuesday at 7 PM! See ya there! 🍻🎤🎉
URL:https://heartlandlakescommunitycalendar.com/index.php/event/dj-bingo/2026-05-05/
LOCATION:Zorbaz\, 22036 County 7\, Park Rapids\, 56470\, United States
CATEGORIES:Entertainment
END:VEVENT
BEGIN:VEVENT
DTSTART;TZID=UTC:20260507T190000
DTEND;TZID=UTC:20260507T210000
DTSTAMP:20260424T083839
CREATED:20250123T094947Z
LAST-MODIFIED:20250123T095039Z
UID:10004411-1778180400-1778187600@heartlandlakescommunitycalendar.com
SUMMARY:DJ Trivia
DESCRIPTION:Thursday nights just got a whole lot more fun! DJ Trivia kicks off at 7 PM\, so grab your crew and put your knowledge to the test! Fun questions\, great music\, and tons of laughs! Whether you’re a trivia pro or just in it for the fun\, there’s a spot for you at the table. See ya Thursday at 7 PM—let’s get quizzical! 🍺🔥
URL:https://heartlandlakescommunitycalendar.com/index.php/event/dj-trivia/2026-05-07/
LOCATION:Zorbaz\, 22036 County 7\, Park Rapids\, 56470\, United States
CATEGORIES:Entertainment
END:VEVENT
BEGIN:VEVENT
DTSTART;TZID=America/New_York:20260510T140000
DTEND;TZID=America/New_York:20260510T160000
DTSTAMP:20260424T083839
CREATED:20260301T092616Z
LAST-MODIFIED:20260301T092616Z
UID:10011832-1778421600-1778428800@heartlandlakescommunitycalendar.com
SUMMARY:Sunday Meat Raffle
DESCRIPTION:Make it a Sunday Funday with Mandatory Fun Outdoors’ weekly meat raffle in Emmaville. Enjoy drinks\, appetizers\, and a good time!
URL:https://heartlandlakescommunitycalendar.com/index.php/event/sunday-meat-raffle/2026-05-10/
LOCATION:Emmaville Inn and Cafe\, 28021 County 4\, Park Rapids\, MN\, 56470\, United States
CATEGORIES:Entertainment
ATTACH;FMTTYPE=image/jpeg:https://heartlandlakescommunitycalendar.com/wp-content/uploads/2026/03/630433450_122172222890776256_5251886797231679564_n.jpg
ORGANIZER;CN="Mandatory Fun Outdoors":MAILTO:mfo.information@gmail.com
END:VEVENT
BEGIN:VEVENT
DTSTART;TZID=UTC:20260512T190000
DTEND;TZID=UTC:20260512T210000
DTSTAMP:20260424T083839
CREATED:20250123T094511Z
LAST-MODIFIED:20250123T095029Z
UID:10004150-1778612400-1778619600@heartlandlakescommunitycalendar.com
SUMMARY:DJ Bingo
DESCRIPTION:Tuesday nights just got way more fun! DJ Bingo kicks off at 7 PM\, and it’s totally FREE to play—so why not grab your crew and join in?💰 Win big! We’ve got a progressive cash prize up to $300 and Zorbaz Gift Cards for regular Bingo wins! 🎵 It’s bingo\, but with a beat! Expect good vibes and a whole lot of fun. 👨‍👩‍👧‍👦 All ages welcome! Don’t miss out—come play\, dance\, and win every Tuesday at 7 PM! See ya there! 🍻🎤🎉
URL:https://heartlandlakescommunitycalendar.com/index.php/event/dj-bingo/2026-05-12/
LOCATION:Zorbaz\, 22036 County 7\, Park Rapids\, 56470\, United States
CATEGORIES:Entertainment
END:VEVENT
BEGIN:VEVENT
DTSTART;TZID=UTC:20260514T190000
DTEND;TZID=UTC:20260514T210000
DTSTAMP:20260424T083839
CREATED:20250123T094947Z
LAST-MODIFIED:20250123T095039Z
UID:10004412-1778785200-1778792400@heartlandlakescommunitycalendar.com
SUMMARY:DJ Trivia
DESCRIPTION:Thursday nights just got a whole lot more fun! DJ Trivia kicks off at 7 PM\, so grab your crew and put your knowledge to the test! Fun questions\, great music\, and tons of laughs! Whether you’re a trivia pro or just in it for the fun\, there’s a spot for you at the table. See ya Thursday at 7 PM—let’s get quizzical! 🍺🔥
URL:https://heartlandlakescommunitycalendar.com/index.php/event/dj-trivia/2026-05-14/
LOCATION:Zorbaz\, 22036 County 7\, Park Rapids\, 56470\, United States
CATEGORIES:Entertainment
END:VEVENT
BEGIN:VEVENT
DTSTART;TZID=America/New_York:20260516T080000
DTEND;TZID=America/New_York:20260516T170000
DTSTAMP:20260424T083839
CREATED:20260302T063629Z
LAST-MODIFIED:20260302T063826Z
UID:10012195-1778918400-1778950800@heartlandlakescommunitycalendar.com
SUMMARY:Summer Sip Off 2026
DESCRIPTION:It’s Park Rapids’ own start to summer! The Summer Sip Off will feature craft beer and wine sampling\, live music\, and BBQ sampling. The vendor list is still growing\, so check out the Park Rapids Chamber website for full details and ticket info!
URL:https://heartlandlakescommunitycalendar.com/index.php/event/summer-sip-off-2026/
LOCATION:Ted O’ Johnson Arena\, 204 Helten Ave\, Park Rapids\, MN\, 56470\, United States
CATEGORIES:Entertainment
ATTACH;FMTTYPE=image/png:https://heartlandlakescommunitycalendar.com/wp-content/uploads/2026/03/FrontSSOLiquorStoreNotecard2.png
END:VEVENT
BEGIN:VEVENT
DTSTART;TZID=UTC:20260517T130000
DTEND;TZID=UTC:20260517T160000
DTSTAMP:20260424T083839
CREATED:20260228T060212Z
LAST-MODIFIED:20260228T060212Z
UID:10011766-1779022800-1779033600@heartlandlakescommunitycalendar.com
SUMMARY:Everybody Dance
DESCRIPTION:Get ready to groove at Everybody Dance\, an afternoon of fun\, music\, and movement! From 1–4 PM\, enjoy a lively mix of old-timey and variety music\, perfect for dancing and making memories. Whether you’re a seasoned dancer or just love great tunes\, this event is for everyone! Come dance the day away – we’ll see you there! 💃🕺 \nBands as Follows \n2026: \nJan 18 Eric’s Dance Band\nFeb 1 Jerry & Joyce Dance Band\nFeb 15 Eric’s Dance Band\nMar 8 Nite Owls\nMar 22 Frankly Country\nApr 26 Eric’s Dance Band\nMay 3 Jerry & Joyce Dance Band\nMay 17 Eric’s Dance Band\nJune 14 Pat\, Dave & John Band\nJuly 12 Julie Lee Band – FREE DANCE\nAug 9 Frankly Country\nSept 20 Eric’s Dance Band\nOct 11 Jerry & Joyce Dance Band\nOct 25 Nite Owls\nNov 15 Frankly Country\nDec 13 Nite Owls\nJan 3\, 2027 Eric’s Dance Band
URL:https://heartlandlakescommunitycalendar.com/index.php/event/everybody-dance-2/2026-05-17/
LOCATION:Park Rapids American Legion\, 900 1st St E\, Park Rapids\, MN\, 56470\, United States
CATEGORIES:Entertainment,Social
ATTACH;FMTTYPE=image/png:https://heartlandlakescommunitycalendar.com/wp-content/uploads/2024/12/Everybody-Dance.png
ORGANIZER;CN="Everybody Dance Park Rapids":MAILTO:lilakalish@gmail.com
END:VEVENT
BEGIN:VEVENT
DTSTART;TZID=America/New_York:20260517T140000
DTEND;TZID=America/New_York:20260517T160000
DTSTAMP:20260424T083839
CREATED:20260301T092616Z
LAST-MODIFIED:20260301T092616Z
UID:10011833-1779026400-1779033600@heartlandlakescommunitycalendar.com
SUMMARY:Sunday Meat Raffle
DESCRIPTION:Make it a Sunday Funday with Mandatory Fun Outdoors’ weekly meat raffle in Emmaville. Enjoy drinks\, appetizers\, and a good time!
URL:https://heartlandlakescommunitycalendar.com/index.php/event/sunday-meat-raffle/2026-05-17/
LOCATION:Emmaville Inn and Cafe\, 28021 County 4\, Park Rapids\, MN\, 56470\, United States
CATEGORIES:Entertainment
ATTACH;FMTTYPE=image/jpeg:https://heartlandlakescommunitycalendar.com/wp-content/uploads/2026/03/630433450_122172222890776256_5251886797231679564_n.jpg
ORGANIZER;CN="Mandatory Fun Outdoors":MAILTO:mfo.information@gmail.com
END:VEVENT
BEGIN:VEVENT
DTSTART;TZID=UTC:20260519T190000
DTEND;TZID=UTC:20260519T210000
DTSTAMP:20260424T083839
CREATED:20250123T094511Z
LAST-MODIFIED:20250123T095029Z
UID:10004151-1779217200-1779224400@heartlandlakescommunitycalendar.com
SUMMARY:DJ Bingo
DESCRIPTION:Tuesday nights just got way more fun! DJ Bingo kicks off at 7 PM\, and it’s totally FREE to play—so why not grab your crew and join in?💰 Win big! We’ve got a progressive cash prize up to $300 and Zorbaz Gift Cards for regular Bingo wins! 🎵 It’s bingo\, but with a beat! Expect good vibes and a whole lot of fun. 👨‍👩‍👧‍👦 All ages welcome! Don’t miss out—come play\, dance\, and win every Tuesday at 7 PM! See ya there! 🍻🎤🎉
URL:https://heartlandlakescommunitycalendar.com/index.php/event/dj-bingo/2026-05-19/
LOCATION:Zorbaz\, 22036 County 7\, Park Rapids\, 56470\, United States
CATEGORIES:Entertainment
END:VEVENT
BEGIN:VEVENT
DTSTART;TZID=UTC:20260521T190000
DTEND;TZID=UTC:20260521T210000
DTSTAMP:20260424T083839
CREATED:20250123T094947Z
LAST-MODIFIED:20250123T095039Z
UID:10004413-1779390000-1779397200@heartlandlakescommunitycalendar.com
SUMMARY:DJ Trivia
DESCRIPTION:Thursday nights just got a whole lot more fun! DJ Trivia kicks off at 7 PM\, so grab your crew and put your knowledge to the test! Fun questions\, great music\, and tons of laughs! Whether you’re a trivia pro or just in it for the fun\, there’s a spot for you at the table. See ya Thursday at 7 PM—let’s get quizzical! 🍺🔥
URL:https://heartlandlakescommunitycalendar.com/index.php/event/dj-trivia/2026-05-21/
LOCATION:Zorbaz\, 22036 County 7\, Park Rapids\, 56470\, United States
CATEGORIES:Entertainment
END:VEVENT
BEGIN:VEVENT
DTSTART;TZID=America/New_York:20260524T140000
DTEND;TZID=America/New_York:20260524T160000
DTSTAMP:20260424T083839
CREATED:20260301T092616Z
LAST-MODIFIED:20260301T092616Z
UID:10011834-1779631200-1779638400@heartlandlakescommunitycalendar.com
SUMMARY:Sunday Meat Raffle
DESCRIPTION:Make it a Sunday Funday with Mandatory Fun Outdoors’ weekly meat raffle in Emmaville. Enjoy drinks\, appetizers\, and a good time!
URL:https://heartlandlakescommunitycalendar.com/index.php/event/sunday-meat-raffle/2026-05-24/
LOCATION:Emmaville Inn and Cafe\, 28021 County 4\, Park Rapids\, MN\, 56470\, United States
CATEGORIES:Entertainment
ATTACH;FMTTYPE=image/jpeg:https://heartlandlakescommunitycalendar.com/wp-content/uploads/2026/03/630433450_122172222890776256_5251886797231679564_n.jpg
ORGANIZER;CN="Mandatory Fun Outdoors":MAILTO:mfo.information@gmail.com
END:VEVENT
BEGIN:VEVENT
DTSTART;TZID=UTC:20260526T190000
DTEND;TZID=UTC:20260526T210000
DTSTAMP:20260424T083839
CREATED:20250123T094511Z
LAST-MODIFIED:20250123T095029Z
UID:10004152-1779822000-1779829200@heartlandlakescommunitycalendar.com
SUMMARY:DJ Bingo
DESCRIPTION:Tuesday nights just got way more fun! DJ Bingo kicks off at 7 PM\, and it’s totally FREE to play—so why not grab your crew and join in?💰 Win big! We’ve got a progressive cash prize up to $300 and Zorbaz Gift Cards for regular Bingo wins! 🎵 It’s bingo\, but with a beat! Expect good vibes and a whole lot of fun. 👨‍👩‍👧‍👦 All ages welcome! Don’t miss out—come play\, dance\, and win every Tuesday at 7 PM! See ya there! 🍻🎤🎉
URL:https://heartlandlakescommunitycalendar.com/index.php/event/dj-bingo/2026-05-26/
LOCATION:Zorbaz\, 22036 County 7\, Park Rapids\, 56470\, United States
CATEGORIES:Entertainment
END:VEVENT
BEGIN:VEVENT
DTSTART;TZID=UTC:20260528T190000
DTEND;TZID=UTC:20260528T210000
DTSTAMP:20260424T083839
CREATED:20250123T094947Z
LAST-MODIFIED:20250123T095039Z
UID:10004414-1779994800-1780002000@heartlandlakescommunitycalendar.com
SUMMARY:DJ Trivia
DESCRIPTION:Thursday nights just got a whole lot more fun! DJ Trivia kicks off at 7 PM\, so grab your crew and put your knowledge to the test! Fun questions\, great music\, and tons of laughs! Whether you’re a trivia pro or just in it for the fun\, there’s a spot for you at the table. See ya Thursday at 7 PM—let’s get quizzical! 🍺🔥
URL:https://heartlandlakescommunitycalendar.com/index.php/event/dj-trivia/2026-05-28/
LOCATION:Zorbaz\, 22036 County 7\, Park Rapids\, 56470\, United States
CATEGORIES:Entertainment
END:VEVENT
BEGIN:VEVENT
DTSTART;TZID=America/New_York:20260531T140000
DTEND;TZID=America/New_York:20260531T160000
DTSTAMP:20260424T083840
CREATED:20260301T092616Z
LAST-MODIFIED:20260301T092616Z
UID:10011835-1780236000-1780243200@heartlandlakescommunitycalendar.com
SUMMARY:Sunday Meat Raffle
DESCRIPTION:Make it a Sunday Funday with Mandatory Fun Outdoors’ weekly meat raffle in Emmaville. Enjoy drinks\, appetizers\, and a good time!
URL:https://heartlandlakescommunitycalendar.com/index.php/event/sunday-meat-raffle/2026-05-31/
LOCATION:Emmaville Inn and Cafe\, 28021 County 4\, Park Rapids\, MN\, 56470\, United States
CATEGORIES:Entertainment
ATTACH;FMTTYPE=image/jpeg:https://heartlandlakescommunitycalendar.com/wp-content/uploads/2026/03/630433450_122172222890776256_5251886797231679564_n.jpg
ORGANIZER;CN="Mandatory Fun Outdoors":MAILTO:mfo.information@gmail.com
END:VEVENT
BEGIN:VEVENT
DTSTART;TZID=UTC:20260602T190000
DTEND;TZID=UTC:20260602T210000
DTSTAMP:20260424T083840
CREATED:20250123T094511Z
LAST-MODIFIED:20250123T095029Z
UID:10004153-1780426800-1780434000@heartlandlakescommunitycalendar.com
SUMMARY:DJ Bingo
DESCRIPTION:Tuesday nights just got way more fun! DJ Bingo kicks off at 7 PM\, and it’s totally FREE to play—so why not grab your crew and join in?💰 Win big! We’ve got a progressive cash prize up to $300 and Zorbaz Gift Cards for regular Bingo wins! 🎵 It’s bingo\, but with a beat! Expect good vibes and a whole lot of fun. 👨‍👩‍👧‍👦 All ages welcome! Don’t miss out—come play\, dance\, and win every Tuesday at 7 PM! See ya there! 🍻🎤🎉
URL:https://heartlandlakescommunitycalendar.com/index.php/event/dj-bingo/2026-06-02/
LOCATION:Zorbaz\, 22036 County 7\, Park Rapids\, 56470\, United States
CATEGORIES:Entertainment
END:VEVENT
BEGIN:VEVENT
DTSTART;TZID=UTC:20260604T190000
DTEND;TZID=UTC:20260604T210000
DTSTAMP:20260424T083840
CREATED:20250123T094947Z
LAST-MODIFIED:20250123T095039Z
UID:10004415-1780599600-1780606800@heartlandlakescommunitycalendar.com
SUMMARY:DJ Trivia
DESCRIPTION:Thursday nights just got a whole lot more fun! DJ Trivia kicks off at 7 PM\, so grab your crew and put your knowledge to the test! Fun questions\, great music\, and tons of laughs! Whether you’re a trivia pro or just in it for the fun\, there’s a spot for you at the table. See ya Thursday at 7 PM—let’s get quizzical! 🍺🔥
URL:https://heartlandlakescommunitycalendar.com/index.php/event/dj-trivia/2026-06-04/
LOCATION:Zorbaz\, 22036 County 7\, Park Rapids\, 56470\, United States
CATEGORIES:Entertainment
END:VEVENT
BEGIN:VEVENT
DTSTART;TZID=America/New_York:20260607T140000
DTEND;TZID=America/New_York:20260607T160000
DTSTAMP:20260424T083840
CREATED:20260301T092616Z
LAST-MODIFIED:20260301T092616Z
UID:10011836-1780840800-1780848000@heartlandlakescommunitycalendar.com
SUMMARY:Sunday Meat Raffle
DESCRIPTION:Make it a Sunday Funday with Mandatory Fun Outdoors’ weekly meat raffle in Emmaville. Enjoy drinks\, appetizers\, and a good time!
URL:https://heartlandlakescommunitycalendar.com/index.php/event/sunday-meat-raffle/2026-06-07/
LOCATION:Emmaville Inn and Cafe\, 28021 County 4\, Park Rapids\, MN\, 56470\, United States
CATEGORIES:Entertainment
ATTACH;FMTTYPE=image/jpeg:https://heartlandlakescommunitycalendar.com/wp-content/uploads/2026/03/630433450_122172222890776256_5251886797231679564_n.jpg
ORGANIZER;CN="Mandatory Fun Outdoors":MAILTO:mfo.information@gmail.com
END:VEVENT
BEGIN:VEVENT
DTSTART;TZID=UTC:20260609T190000
DTEND;TZID=UTC:20260609T210000
DTSTAMP:20260424T083840
CREATED:20250123T094511Z
LAST-MODIFIED:20250123T095029Z
UID:10004154-1781031600-1781038800@heartlandlakescommunitycalendar.com
SUMMARY:DJ Bingo
DESCRIPTION:Tuesday nights just got way more fun! DJ Bingo kicks off at 7 PM\, and it’s totally FREE to play—so why not grab your crew and join in?💰 Win big! We’ve got a progressive cash prize up to $300 and Zorbaz Gift Cards for regular Bingo wins! 🎵 It’s bingo\, but with a beat! Expect good vibes and a whole lot of fun. 👨‍👩‍👧‍👦 All ages welcome! Don’t miss out—come play\, dance\, and win every Tuesday at 7 PM! See ya there! 🍻🎤🎉
URL:https://heartlandlakescommunitycalendar.com/index.php/event/dj-bingo/2026-06-09/
LOCATION:Zorbaz\, 22036 County 7\, Park Rapids\, 56470\, United States
CATEGORIES:Entertainment
END:VEVENT
BEGIN:VEVENT
DTSTART;TZID=UTC:20260611T190000
DTEND;TZID=UTC:20260611T210000
DTSTAMP:20260424T083840
CREATED:20250123T094947Z
LAST-MODIFIED:20250123T095039Z
UID:10004416-1781204400-1781211600@heartlandlakescommunitycalendar.com
SUMMARY:DJ Trivia
DESCRIPTION:Thursday nights just got a whole lot more fun! DJ Trivia kicks off at 7 PM\, so grab your crew and put your knowledge to the test! Fun questions\, great music\, and tons of laughs! Whether you’re a trivia pro or just in it for the fun\, there’s a spot for you at the table. See ya Thursday at 7 PM—let’s get quizzical! 🍺🔥
URL:https://heartlandlakescommunitycalendar.com/index.php/event/dj-trivia/2026-06-11/
LOCATION:Zorbaz\, 22036 County 7\, Park Rapids\, 56470\, United States
CATEGORIES:Entertainment
END:VEVENT
BEGIN:VEVENT
DTSTART;TZID=America/New_York:20260614T110000
DTEND;TZID=America/New_York:20260614T150000
DTSTAMP:20260424T083840
CREATED:20260301T075312Z
LAST-MODIFIED:20260301T075312Z
UID:10011788-1781434800-1781449200@heartlandlakescommunitycalendar.com
SUMMARY:Sites n' Bites
DESCRIPTION:Come see what the Nevis community has to offer in great food\, art and musical talent. Stop by the Nevis Chamber building and Food Shelf Booth to purchase your Sites ‘n Bites Passport for $5 or 5 food shelf items. Food shelf items and monetary donations go directly to the Nevis/Akeley Food Shelf. Stroll through town\, visit our local restaurants\, artist booths and shops to get your passport stamped. Return your stamped passport to the Food shelf booth to be entered in a drawing for gift certificates to our local businesses. Live music will be at the Shenanigans stage under the Nevis Water Tower. \nAre you a local ARTIST or CRAFTER? Want to set up your wares? Send in your Sites n’ Bites Vendor Registration form to get signed up!
URL:https://heartlandlakescommunitycalendar.com/index.php/event/sites-n-bites-2/
LOCATION:MN
CATEGORIES:Culinary,Entertainment
ORGANIZER;CN="Nevis Civic & Commerce":MAILTO:nevischamber@gmail.com
END:VEVENT
BEGIN:VEVENT
DTSTART;TZID=UTC:20260614T130000
DTEND;TZID=UTC:20260614T160000
DTSTAMP:20260424T083840
CREATED:20260228T060212Z
LAST-MODIFIED:20260228T060212Z
UID:10011767-1781442000-1781452800@heartlandlakescommunitycalendar.com
SUMMARY:Everybody Dance
DESCRIPTION:Get ready to groove at Everybody Dance\, an afternoon of fun\, music\, and movement! From 1–4 PM\, enjoy a lively mix of old-timey and variety music\, perfect for dancing and making memories. Whether you’re a seasoned dancer or just love great tunes\, this event is for everyone! Come dance the day away – we’ll see you there! 💃🕺 \nBands as Follows \n2026: \nJan 18 Eric’s Dance Band\nFeb 1 Jerry & Joyce Dance Band\nFeb 15 Eric’s Dance Band\nMar 8 Nite Owls\nMar 22 Frankly Country\nApr 26 Eric’s Dance Band\nMay 3 Jerry & Joyce Dance Band\nMay 17 Eric’s Dance Band\nJune 14 Pat\, Dave & John Band\nJuly 12 Julie Lee Band – FREE DANCE\nAug 9 Frankly Country\nSept 20 Eric’s Dance Band\nOct 11 Jerry & Joyce Dance Band\nOct 25 Nite Owls\nNov 15 Frankly Country\nDec 13 Nite Owls\nJan 3\, 2027 Eric’s Dance Band
URL:https://heartlandlakescommunitycalendar.com/index.php/event/everybody-dance-2/2026-06-14/
LOCATION:Park Rapids American Legion\, 900 1st St E\, Park Rapids\, MN\, 56470\, United States
CATEGORIES:Entertainment,Social
ATTACH;FMTTYPE=image/png:https://heartlandlakescommunitycalendar.com/wp-content/uploads/2024/12/Everybody-Dance.png
ORGANIZER;CN="Everybody Dance Park Rapids":MAILTO:lilakalish@gmail.com
END:VEVENT
END:VCALENDAR