BEGIN:VCALENDAR
VERSION:2.0
PRODID:-//The Heartland Lakes Community Calendar - ECPv6.3.7//NONSGML v1.0//EN
CALSCALE:GREGORIAN
METHOD:PUBLISH
X-ORIGINAL-URL:https://heartlandlakescommunitycalendar.com
X-WR-CALDESC:Events for The Heartland Lakes Community Calendar
REFRESH-INTERVAL;VALUE=DURATION:PT1H
X-Robots-Tag:noindex
X-PUBLISHED-TTL:PT1H
BEGIN:VTIMEZONE
TZID:UTC
BEGIN:STANDARD
TZOFFSETFROM:+0000
TZOFFSETTO:+0000
TZNAME:UTC
DTSTART:20260101T000000
END:STANDARD
TZID:America/New_York
BEGIN:DAYLIGHT
TZOFFSETFROM:-0500
TZOFFSETTO:-0400
TZNAME:EDT
DTSTART:20260308T070000
END:DAYLIGHT
BEGIN:STANDARD
TZOFFSETFROM:-0400
TZOFFSETTO:-0500
TZNAME:EST
DTSTART:20261101T060000
END:STANDARD
END:VTIMEZONE
BEGIN:VEVENT
DTSTART;TZID=UTC:20260707T190000
DTEND;TZID=UTC:20260707T210000
DTSTAMP:20260425T080434
CREATED:20250123T094511Z
LAST-MODIFIED:20250123T095029Z
UID:10004158-1783450800-1783458000@heartlandlakescommunitycalendar.com
SUMMARY:DJ Bingo
DESCRIPTION:Tuesday nights just got way more fun! DJ Bingo kicks off at 7 PM\, and it’s totally FREE to play—so why not grab your crew and join in?💰 Win big! We’ve got a progressive cash prize up to $300 and Zorbaz Gift Cards for regular Bingo wins! 🎵 It’s bingo\, but with a beat! Expect good vibes and a whole lot of fun. 👨‍👩‍👧‍👦 All ages welcome! Don’t miss out—come play\, dance\, and win every Tuesday at 7 PM! See ya there! 🍻🎤🎉
URL:https://heartlandlakescommunitycalendar.com/index.php/event/dj-bingo/2026-07-07/
LOCATION:Zorbaz\, 22036 County 7\, Park Rapids\, 56470\, United States
CATEGORIES:Entertainment
END:VEVENT
BEGIN:VEVENT
DTSTART;TZID=UTC:20260709T190000
DTEND;TZID=UTC:20260709T210000
DTSTAMP:20260425T080434
CREATED:20250123T094947Z
LAST-MODIFIED:20250123T095039Z
UID:10004420-1783623600-1783630800@heartlandlakescommunitycalendar.com
SUMMARY:DJ Trivia
DESCRIPTION:Thursday nights just got a whole lot more fun! DJ Trivia kicks off at 7 PM\, so grab your crew and put your knowledge to the test! Fun questions\, great music\, and tons of laughs! Whether you’re a trivia pro or just in it for the fun\, there’s a spot for you at the table. See ya Thursday at 7 PM—let’s get quizzical! 🍺🔥
URL:https://heartlandlakescommunitycalendar.com/index.php/event/dj-trivia/2026-07-09/
LOCATION:Zorbaz\, 22036 County 7\, Park Rapids\, 56470\, United States
CATEGORIES:Entertainment
END:VEVENT
BEGIN:VEVENT
DTSTART;VALUE=DATE:20260710
DTEND;VALUE=DATE:20260713
DTSTAMP:20260425T080434
CREATED:20260301T091103Z
LAST-MODIFIED:20260301T091103Z
UID:10011812-1783641600-1783900799@heartlandlakescommunitycalendar.com
SUMMARY:Menahga Midsummer Celebration
DESCRIPTION:Parade\, craft show\, run\, fireworks and lots of fun planned. This year’s Midsummer event coincides with the United States Semiquicentennial\, marking America’s 250th Birthday.
URL:https://heartlandlakescommunitycalendar.com/index.php/event/menahga-midsummer-celebration-2/
LOCATION:MN
CATEGORIES:Entertainment
END:VEVENT
BEGIN:VEVENT
DTSTART;TZID=UTC:20260712T130000
DTEND;TZID=UTC:20260712T160000
DTSTAMP:20260425T080434
CREATED:20260228T060212Z
LAST-MODIFIED:20260228T060212Z
UID:10011768-1783861200-1783872000@heartlandlakescommunitycalendar.com
SUMMARY:Everybody Dance
DESCRIPTION:Get ready to groove at Everybody Dance\, an afternoon of fun\, music\, and movement! From 1–4 PM\, enjoy a lively mix of old-timey and variety music\, perfect for dancing and making memories. Whether you’re a seasoned dancer or just love great tunes\, this event is for everyone! Come dance the day away – we’ll see you there! 💃🕺 \nBands as Follows \n2026: \nJan 18 Eric’s Dance Band\nFeb 1 Jerry & Joyce Dance Band\nFeb 15 Eric’s Dance Band\nMar 8 Nite Owls\nMar 22 Frankly Country\nApr 26 Eric’s Dance Band\nMay 3 Jerry & Joyce Dance Band\nMay 17 Eric’s Dance Band\nJune 14 Pat\, Dave & John Band\nJuly 12 Julie Lee Band – FREE DANCE\nAug 9 Frankly Country\nSept 20 Eric’s Dance Band\nOct 11 Jerry & Joyce Dance Band\nOct 25 Nite Owls\nNov 15 Frankly Country\nDec 13 Nite Owls\nJan 3\, 2027 Eric’s Dance Band
URL:https://heartlandlakescommunitycalendar.com/index.php/event/everybody-dance-2/2026-07-12/
LOCATION:Park Rapids American Legion\, 900 1st St E\, Park Rapids\, MN\, 56470\, United States
CATEGORIES:Entertainment,Social
ATTACH;FMTTYPE=image/png:https://heartlandlakescommunitycalendar.com/wp-content/uploads/2024/12/Everybody-Dance.png
ORGANIZER;CN="Everybody Dance Park Rapids":MAILTO:lilakalish@gmail.com
END:VEVENT
BEGIN:VEVENT
DTSTART;TZID=America/New_York:20260712T140000
DTEND;TZID=America/New_York:20260712T160000
DTSTAMP:20260425T080434
CREATED:20260301T092616Z
LAST-MODIFIED:20260301T092616Z
UID:10011841-1783864800-1783872000@heartlandlakescommunitycalendar.com
SUMMARY:Sunday Meat Raffle
DESCRIPTION:Make it a Sunday Funday with Mandatory Fun Outdoors’ weekly meat raffle in Emmaville. Enjoy drinks\, appetizers\, and a good time!
URL:https://heartlandlakescommunitycalendar.com/index.php/event/sunday-meat-raffle/2026-07-12/
LOCATION:Emmaville Inn and Cafe\, 28021 County 4\, Park Rapids\, MN\, 56470\, United States
CATEGORIES:Entertainment
ATTACH;FMTTYPE=image/jpeg:https://heartlandlakescommunitycalendar.com/wp-content/uploads/2026/03/630433450_122172222890776256_5251886797231679564_n.jpg
ORGANIZER;CN="Mandatory Fun Outdoors":MAILTO:mfo.information@gmail.com
END:VEVENT
BEGIN:VEVENT
DTSTART;TZID=America/New_York:20260714T080000
DTEND;TZID=America/New_York:20260714T170000
DTSTAMP:20260425T080434
CREATED:20260302T072918Z
LAST-MODIFIED:20260302T073347Z
UID:10012205-1784016000-1784048400@heartlandlakescommunitycalendar.com
SUMMARY:Hubbard County Fair
DESCRIPTION:It’s fair time in Hubbard County! The Hubbard County Fair will feature 4H showings and livestock\, talent show\, carnival rides\, grandstand shows\, vendors\, plus much more! \n2026 Grandstand Shows \nWednesday\, July 15th: Great Frontier Bull Riding \nThursday\, July 16th: Motocity Raceway \nFriday\, July 17th: Tractor Pull \nSaturday\, July 18th: Demo Derby & Baja Race
URL:https://heartlandlakescommunitycalendar.com/index.php/event/hubbard-county-fair-2/2026-07-14/
LOCATION:MN
CATEGORIES:Entertainment
ATTACH;FMTTYPE=image/png:https://heartlandlakescommunitycalendar.com/wp-content/uploads/2026/03/Screenshot-2026-03-02-013311.png
END:VEVENT
BEGIN:VEVENT
DTSTART;TZID=UTC:20260714T190000
DTEND;TZID=UTC:20260714T210000
DTSTAMP:20260425T080434
CREATED:20250123T094511Z
LAST-MODIFIED:20250123T095029Z
UID:10004159-1784055600-1784062800@heartlandlakescommunitycalendar.com
SUMMARY:DJ Bingo
DESCRIPTION:Tuesday nights just got way more fun! DJ Bingo kicks off at 7 PM\, and it’s totally FREE to play—so why not grab your crew and join in?💰 Win big! We’ve got a progressive cash prize up to $300 and Zorbaz Gift Cards for regular Bingo wins! 🎵 It’s bingo\, but with a beat! Expect good vibes and a whole lot of fun. 👨‍👩‍👧‍👦 All ages welcome! Don’t miss out—come play\, dance\, and win every Tuesday at 7 PM! See ya there! 🍻🎤🎉
URL:https://heartlandlakescommunitycalendar.com/index.php/event/dj-bingo/2026-07-14/
LOCATION:Zorbaz\, 22036 County 7\, Park Rapids\, 56470\, United States
CATEGORIES:Entertainment
END:VEVENT
BEGIN:VEVENT
DTSTART;TZID=America/New_York:20260715T080000
DTEND;TZID=America/New_York:20260715T170000
DTSTAMP:20260425T080434
CREATED:20260302T072918Z
LAST-MODIFIED:20260302T073347Z
UID:10012206-1784102400-1784134800@heartlandlakescommunitycalendar.com
SUMMARY:Hubbard County Fair
DESCRIPTION:It’s fair time in Hubbard County! The Hubbard County Fair will feature 4H showings and livestock\, talent show\, carnival rides\, grandstand shows\, vendors\, plus much more! \n2026 Grandstand Shows \nWednesday\, July 15th: Great Frontier Bull Riding \nThursday\, July 16th: Motocity Raceway \nFriday\, July 17th: Tractor Pull \nSaturday\, July 18th: Demo Derby & Baja Race
URL:https://heartlandlakescommunitycalendar.com/index.php/event/hubbard-county-fair-2/2026-07-15/
LOCATION:MN
CATEGORIES:Entertainment
ATTACH;FMTTYPE=image/png:https://heartlandlakescommunitycalendar.com/wp-content/uploads/2026/03/Screenshot-2026-03-02-013311.png
END:VEVENT
BEGIN:VEVENT
DTSTART;TZID=America/New_York:20260716T080000
DTEND;TZID=America/New_York:20260716T170000
DTSTAMP:20260425T080434
CREATED:20260302T072918Z
LAST-MODIFIED:20260302T073347Z
UID:10012207-1784188800-1784221200@heartlandlakescommunitycalendar.com
SUMMARY:Hubbard County Fair
DESCRIPTION:It’s fair time in Hubbard County! The Hubbard County Fair will feature 4H showings and livestock\, talent show\, carnival rides\, grandstand shows\, vendors\, plus much more! \n2026 Grandstand Shows \nWednesday\, July 15th: Great Frontier Bull Riding \nThursday\, July 16th: Motocity Raceway \nFriday\, July 17th: Tractor Pull \nSaturday\, July 18th: Demo Derby & Baja Race
URL:https://heartlandlakescommunitycalendar.com/index.php/event/hubbard-county-fair-2/2026-07-16/
LOCATION:MN
CATEGORIES:Entertainment
ATTACH;FMTTYPE=image/png:https://heartlandlakescommunitycalendar.com/wp-content/uploads/2026/03/Screenshot-2026-03-02-013311.png
END:VEVENT
BEGIN:VEVENT
DTSTART;TZID=UTC:20260716T190000
DTEND;TZID=UTC:20260716T210000
DTSTAMP:20260425T080434
CREATED:20250123T094947Z
LAST-MODIFIED:20250123T095039Z
UID:10004421-1784228400-1784235600@heartlandlakescommunitycalendar.com
SUMMARY:DJ Trivia
DESCRIPTION:Thursday nights just got a whole lot more fun! DJ Trivia kicks off at 7 PM\, so grab your crew and put your knowledge to the test! Fun questions\, great music\, and tons of laughs! Whether you’re a trivia pro or just in it for the fun\, there’s a spot for you at the table. See ya Thursday at 7 PM—let’s get quizzical! 🍺🔥
URL:https://heartlandlakescommunitycalendar.com/index.php/event/dj-trivia/2026-07-16/
LOCATION:Zorbaz\, 22036 County 7\, Park Rapids\, 56470\, United States
CATEGORIES:Entertainment
END:VEVENT
BEGIN:VEVENT
DTSTART;TZID=America/New_York:20260717T080000
DTEND;TZID=America/New_York:20260717T170000
DTSTAMP:20260425T080434
CREATED:20260302T072918Z
LAST-MODIFIED:20260302T073347Z
UID:10012208-1784275200-1784307600@heartlandlakescommunitycalendar.com
SUMMARY:Hubbard County Fair
DESCRIPTION:It’s fair time in Hubbard County! The Hubbard County Fair will feature 4H showings and livestock\, talent show\, carnival rides\, grandstand shows\, vendors\, plus much more! \n2026 Grandstand Shows \nWednesday\, July 15th: Great Frontier Bull Riding \nThursday\, July 16th: Motocity Raceway \nFriday\, July 17th: Tractor Pull \nSaturday\, July 18th: Demo Derby & Baja Race
URL:https://heartlandlakescommunitycalendar.com/index.php/event/hubbard-county-fair-2/2026-07-17/
LOCATION:MN
CATEGORIES:Entertainment
ATTACH;FMTTYPE=image/png:https://heartlandlakescommunitycalendar.com/wp-content/uploads/2026/03/Screenshot-2026-03-02-013311.png
END:VEVENT
BEGIN:VEVENT
DTSTART;TZID=America/New_York:20260717T163000
DTEND;TZID=America/New_York:20260717T233000
DTSTAMP:20260425T080434
CREATED:20260301T081726Z
LAST-MODIFIED:20260301T081726Z
UID:10011792-1784305800-1784331000@heartlandlakescommunitycalendar.com
SUMMARY:Nevis Muskie Days
DESCRIPTION:An annual summer tradition\, Muskie Days are here! No admission fee\, live music\, beer\, and concessions. come celebrate the sounds of summer!
URL:https://heartlandlakescommunitycalendar.com/index.php/event/nevis-muskie-days/2026-07-17/
LOCATION:Muskie Waters Music Stage\, Bunyan Trails Rd\, Nevis\, 56467\, United States
CATEGORIES:Entertainment
ORGANIZER;CN="Nevis Civic & Commerce":MAILTO:nevischamber@gmail.com
END:VEVENT
BEGIN:VEVENT
DTSTART;TZID=America/New_York:20260718T120000
DTEND;TZID=America/New_York:20260718T233000
DTSTAMP:20260425T080434
CREATED:20260301T081726Z
LAST-MODIFIED:20260301T081726Z
UID:10011793-1784376000-1784417400@heartlandlakescommunitycalendar.com
SUMMARY:Nevis Muskie Days
DESCRIPTION:An annual summer tradition\, Muskie Days are here! No admission fee\, live music\, beer\, and concessions. come celebrate the sounds of summer!
URL:https://heartlandlakescommunitycalendar.com/index.php/event/nevis-muskie-days/2026-07-18/
LOCATION:Muskie Waters Music Stage\, Bunyan Trails Rd\, Nevis\, 56467\, United States
CATEGORIES:Entertainment
ORGANIZER;CN="Nevis Civic & Commerce":MAILTO:nevischamber@gmail.com
END:VEVENT
BEGIN:VEVENT
DTSTART;TZID=America/New_York:20260719T140000
DTEND;TZID=America/New_York:20260719T160000
DTSTAMP:20260425T080434
CREATED:20260301T092616Z
LAST-MODIFIED:20260301T092616Z
UID:10011842-1784469600-1784476800@heartlandlakescommunitycalendar.com
SUMMARY:Sunday Meat Raffle
DESCRIPTION:Make it a Sunday Funday with Mandatory Fun Outdoors’ weekly meat raffle in Emmaville. Enjoy drinks\, appetizers\, and a good time!
URL:https://heartlandlakescommunitycalendar.com/index.php/event/sunday-meat-raffle/2026-07-19/
LOCATION:Emmaville Inn and Cafe\, 28021 County 4\, Park Rapids\, MN\, 56470\, United States
CATEGORIES:Entertainment
ATTACH;FMTTYPE=image/jpeg:https://heartlandlakescommunitycalendar.com/wp-content/uploads/2026/03/630433450_122172222890776256_5251886797231679564_n.jpg
ORGANIZER;CN="Mandatory Fun Outdoors":MAILTO:mfo.information@gmail.com
END:VEVENT
BEGIN:VEVENT
DTSTART;TZID=UTC:20260721T190000
DTEND;TZID=UTC:20260721T210000
DTSTAMP:20260425T080434
CREATED:20250123T094511Z
LAST-MODIFIED:20250123T095029Z
UID:10004160-1784660400-1784667600@heartlandlakescommunitycalendar.com
SUMMARY:DJ Bingo
DESCRIPTION:Tuesday nights just got way more fun! DJ Bingo kicks off at 7 PM\, and it’s totally FREE to play—so why not grab your crew and join in?💰 Win big! We’ve got a progressive cash prize up to $300 and Zorbaz Gift Cards for regular Bingo wins! 🎵 It’s bingo\, but with a beat! Expect good vibes and a whole lot of fun. 👨‍👩‍👧‍👦 All ages welcome! Don’t miss out—come play\, dance\, and win every Tuesday at 7 PM! See ya there! 🍻🎤🎉
URL:https://heartlandlakescommunitycalendar.com/index.php/event/dj-bingo/2026-07-21/
LOCATION:Zorbaz\, 22036 County 7\, Park Rapids\, 56470\, United States
CATEGORIES:Entertainment
END:VEVENT
BEGIN:VEVENT
DTSTART;TZID=UTC:20260723T190000
DTEND;TZID=UTC:20260723T210000
DTSTAMP:20260425T080434
CREATED:20250123T094947Z
LAST-MODIFIED:20250123T095039Z
UID:10004422-1784833200-1784840400@heartlandlakescommunitycalendar.com
SUMMARY:DJ Trivia
DESCRIPTION:Thursday nights just got a whole lot more fun! DJ Trivia kicks off at 7 PM\, so grab your crew and put your knowledge to the test! Fun questions\, great music\, and tons of laughs! Whether you’re a trivia pro or just in it for the fun\, there’s a spot for you at the table. See ya Thursday at 7 PM—let’s get quizzical! 🍺🔥
URL:https://heartlandlakescommunitycalendar.com/index.php/event/dj-trivia/2026-07-23/
LOCATION:Zorbaz\, 22036 County 7\, Park Rapids\, 56470\, United States
CATEGORIES:Entertainment
END:VEVENT
BEGIN:VEVENT
DTSTART;TZID=America/New_York:20260726T140000
DTEND;TZID=America/New_York:20260726T160000
DTSTAMP:20260425T080434
CREATED:20260301T092616Z
LAST-MODIFIED:20260301T092616Z
UID:10011843-1785074400-1785081600@heartlandlakescommunitycalendar.com
SUMMARY:Sunday Meat Raffle
DESCRIPTION:Make it a Sunday Funday with Mandatory Fun Outdoors’ weekly meat raffle in Emmaville. Enjoy drinks\, appetizers\, and a good time!
URL:https://heartlandlakescommunitycalendar.com/index.php/event/sunday-meat-raffle/2026-07-26/
LOCATION:Emmaville Inn and Cafe\, 28021 County 4\, Park Rapids\, MN\, 56470\, United States
CATEGORIES:Entertainment
ATTACH;FMTTYPE=image/jpeg:https://heartlandlakescommunitycalendar.com/wp-content/uploads/2026/03/630433450_122172222890776256_5251886797231679564_n.jpg
ORGANIZER;CN="Mandatory Fun Outdoors":MAILTO:mfo.information@gmail.com
END:VEVENT
BEGIN:VEVENT
DTSTART;TZID=UTC:20260728T190000
DTEND;TZID=UTC:20260728T210000
DTSTAMP:20260425T080434
CREATED:20250123T094511Z
LAST-MODIFIED:20250123T095029Z
UID:10004161-1785265200-1785272400@heartlandlakescommunitycalendar.com
SUMMARY:DJ Bingo
DESCRIPTION:Tuesday nights just got way more fun! DJ Bingo kicks off at 7 PM\, and it’s totally FREE to play—so why not grab your crew and join in?💰 Win big! We’ve got a progressive cash prize up to $300 and Zorbaz Gift Cards for regular Bingo wins! 🎵 It’s bingo\, but with a beat! Expect good vibes and a whole lot of fun. 👨‍👩‍👧‍👦 All ages welcome! Don’t miss out—come play\, dance\, and win every Tuesday at 7 PM! See ya there! 🍻🎤🎉
URL:https://heartlandlakescommunitycalendar.com/index.php/event/dj-bingo/2026-07-28/
LOCATION:Zorbaz\, 22036 County 7\, Park Rapids\, 56470\, United States
CATEGORIES:Entertainment
END:VEVENT
BEGIN:VEVENT
DTSTART;TZID=UTC:20260730T190000
DTEND;TZID=UTC:20260730T210000
DTSTAMP:20260425T080434
CREATED:20250123T094947Z
LAST-MODIFIED:20250123T095039Z
UID:10004423-1785438000-1785445200@heartlandlakescommunitycalendar.com
SUMMARY:DJ Trivia
DESCRIPTION:Thursday nights just got a whole lot more fun! DJ Trivia kicks off at 7 PM\, so grab your crew and put your knowledge to the test! Fun questions\, great music\, and tons of laughs! Whether you’re a trivia pro or just in it for the fun\, there’s a spot for you at the table. See ya Thursday at 7 PM—let’s get quizzical! 🍺🔥
URL:https://heartlandlakescommunitycalendar.com/index.php/event/dj-trivia/2026-07-30/
LOCATION:Zorbaz\, 22036 County 7\, Park Rapids\, 56470\, United States
CATEGORIES:Entertainment
END:VEVENT
BEGIN:VEVENT
DTSTART;TZID=America/New_York:20260802T140000
DTEND;TZID=America/New_York:20260802T160000
DTSTAMP:20260425T080434
CREATED:20260301T092616Z
LAST-MODIFIED:20260301T092616Z
UID:10011844-1785679200-1785686400@heartlandlakescommunitycalendar.com
SUMMARY:Sunday Meat Raffle
DESCRIPTION:Make it a Sunday Funday with Mandatory Fun Outdoors’ weekly meat raffle in Emmaville. Enjoy drinks\, appetizers\, and a good time!
URL:https://heartlandlakescommunitycalendar.com/index.php/event/sunday-meat-raffle/2026-08-02/
LOCATION:Emmaville Inn and Cafe\, 28021 County 4\, Park Rapids\, MN\, 56470\, United States
CATEGORIES:Entertainment
ATTACH;FMTTYPE=image/jpeg:https://heartlandlakescommunitycalendar.com/wp-content/uploads/2026/03/630433450_122172222890776256_5251886797231679564_n.jpg
ORGANIZER;CN="Mandatory Fun Outdoors":MAILTO:mfo.information@gmail.com
END:VEVENT
BEGIN:VEVENT
DTSTART;TZID=UTC:20260804T190000
DTEND;TZID=UTC:20260804T210000
DTSTAMP:20260425T080434
CREATED:20250123T094511Z
LAST-MODIFIED:20250123T095029Z
UID:10004162-1785870000-1785877200@heartlandlakescommunitycalendar.com
SUMMARY:DJ Bingo
DESCRIPTION:Tuesday nights just got way more fun! DJ Bingo kicks off at 7 PM\, and it’s totally FREE to play—so why not grab your crew and join in?💰 Win big! We’ve got a progressive cash prize up to $300 and Zorbaz Gift Cards for regular Bingo wins! 🎵 It’s bingo\, but with a beat! Expect good vibes and a whole lot of fun. 👨‍👩‍👧‍👦 All ages welcome! Don’t miss out—come play\, dance\, and win every Tuesday at 7 PM! See ya there! 🍻🎤🎉
URL:https://heartlandlakescommunitycalendar.com/index.php/event/dj-bingo/2026-08-04/
LOCATION:Zorbaz\, 22036 County 7\, Park Rapids\, 56470\, United States
CATEGORIES:Entertainment
END:VEVENT
BEGIN:VEVENT
DTSTART;TZID=UTC:20260806T190000
DTEND;TZID=UTC:20260806T210000
DTSTAMP:20260425T080434
CREATED:20250123T094947Z
LAST-MODIFIED:20250123T095039Z
UID:10004424-1786042800-1786050000@heartlandlakescommunitycalendar.com
SUMMARY:DJ Trivia
DESCRIPTION:Thursday nights just got a whole lot more fun! DJ Trivia kicks off at 7 PM\, so grab your crew and put your knowledge to the test! Fun questions\, great music\, and tons of laughs! Whether you’re a trivia pro or just in it for the fun\, there’s a spot for you at the table. See ya Thursday at 7 PM—let’s get quizzical! 🍺🔥
URL:https://heartlandlakescommunitycalendar.com/index.php/event/dj-trivia/2026-08-06/
LOCATION:Zorbaz\, 22036 County 7\, Park Rapids\, 56470\, United States
CATEGORIES:Entertainment
END:VEVENT
BEGIN:VEVENT
DTSTART;TZID=UTC:20260809T130000
DTEND;TZID=UTC:20260809T160000
DTSTAMP:20260425T080434
CREATED:20260228T060212Z
LAST-MODIFIED:20260228T060212Z
UID:10011769-1786280400-1786291200@heartlandlakescommunitycalendar.com
SUMMARY:Everybody Dance
DESCRIPTION:Get ready to groove at Everybody Dance\, an afternoon of fun\, music\, and movement! From 1–4 PM\, enjoy a lively mix of old-timey and variety music\, perfect for dancing and making memories. Whether you’re a seasoned dancer or just love great tunes\, this event is for everyone! Come dance the day away – we’ll see you there! 💃🕺 \nBands as Follows \n2026: \nJan 18 Eric’s Dance Band\nFeb 1 Jerry & Joyce Dance Band\nFeb 15 Eric’s Dance Band\nMar 8 Nite Owls\nMar 22 Frankly Country\nApr 26 Eric’s Dance Band\nMay 3 Jerry & Joyce Dance Band\nMay 17 Eric’s Dance Band\nJune 14 Pat\, Dave & John Band\nJuly 12 Julie Lee Band – FREE DANCE\nAug 9 Frankly Country\nSept 20 Eric’s Dance Band\nOct 11 Jerry & Joyce Dance Band\nOct 25 Nite Owls\nNov 15 Frankly Country\nDec 13 Nite Owls\nJan 3\, 2027 Eric’s Dance Band
URL:https://heartlandlakescommunitycalendar.com/index.php/event/everybody-dance-2/2026-08-09/
LOCATION:Park Rapids American Legion\, 900 1st St E\, Park Rapids\, MN\, 56470\, United States
CATEGORIES:Entertainment,Social
ATTACH;FMTTYPE=image/png:https://heartlandlakescommunitycalendar.com/wp-content/uploads/2024/12/Everybody-Dance.png
ORGANIZER;CN="Everybody Dance Park Rapids":MAILTO:lilakalish@gmail.com
END:VEVENT
BEGIN:VEVENT
DTSTART;TZID=America/New_York:20260809T140000
DTEND;TZID=America/New_York:20260809T160000
DTSTAMP:20260425T080434
CREATED:20260301T092616Z
LAST-MODIFIED:20260301T092616Z
UID:10011845-1786284000-1786291200@heartlandlakescommunitycalendar.com
SUMMARY:Sunday Meat Raffle
DESCRIPTION:Make it a Sunday Funday with Mandatory Fun Outdoors’ weekly meat raffle in Emmaville. Enjoy drinks\, appetizers\, and a good time!
URL:https://heartlandlakescommunitycalendar.com/index.php/event/sunday-meat-raffle/2026-08-09/
LOCATION:Emmaville Inn and Cafe\, 28021 County 4\, Park Rapids\, MN\, 56470\, United States
CATEGORIES:Entertainment
ATTACH;FMTTYPE=image/jpeg:https://heartlandlakescommunitycalendar.com/wp-content/uploads/2026/03/630433450_122172222890776256_5251886797231679564_n.jpg
ORGANIZER;CN="Mandatory Fun Outdoors":MAILTO:mfo.information@gmail.com
END:VEVENT
BEGIN:VEVENT
DTSTART;TZID=UTC:20260811T190000
DTEND;TZID=UTC:20260811T210000
DTSTAMP:20260425T080434
CREATED:20250123T094511Z
LAST-MODIFIED:20250123T095029Z
UID:10004163-1786474800-1786482000@heartlandlakescommunitycalendar.com
SUMMARY:DJ Bingo
DESCRIPTION:Tuesday nights just got way more fun! DJ Bingo kicks off at 7 PM\, and it’s totally FREE to play—so why not grab your crew and join in?💰 Win big! We’ve got a progressive cash prize up to $300 and Zorbaz Gift Cards for regular Bingo wins! 🎵 It’s bingo\, but with a beat! Expect good vibes and a whole lot of fun. 👨‍👩‍👧‍👦 All ages welcome! Don’t miss out—come play\, dance\, and win every Tuesday at 7 PM! See ya there! 🍻🎤🎉
URL:https://heartlandlakescommunitycalendar.com/index.php/event/dj-bingo/2026-08-11/
LOCATION:Zorbaz\, 22036 County 7\, Park Rapids\, 56470\, United States
CATEGORIES:Entertainment
END:VEVENT
BEGIN:VEVENT
DTSTART;TZID=UTC:20260813T190000
DTEND;TZID=UTC:20260813T210000
DTSTAMP:20260425T080434
CREATED:20250123T094947Z
LAST-MODIFIED:20250123T095039Z
UID:10004425-1786647600-1786654800@heartlandlakescommunitycalendar.com
SUMMARY:DJ Trivia
DESCRIPTION:Thursday nights just got a whole lot more fun! DJ Trivia kicks off at 7 PM\, so grab your crew and put your knowledge to the test! Fun questions\, great music\, and tons of laughs! Whether you’re a trivia pro or just in it for the fun\, there’s a spot for you at the table. See ya Thursday at 7 PM—let’s get quizzical! 🍺🔥
URL:https://heartlandlakescommunitycalendar.com/index.php/event/dj-trivia/2026-08-13/
LOCATION:Zorbaz\, 22036 County 7\, Park Rapids\, 56470\, United States
CATEGORIES:Entertainment
END:VEVENT
BEGIN:VEVENT
DTSTART;TZID=America/New_York:20260816T140000
DTEND;TZID=America/New_York:20260816T160000
DTSTAMP:20260425T080434
CREATED:20260301T092616Z
LAST-MODIFIED:20260301T092616Z
UID:10011846-1786888800-1786896000@heartlandlakescommunitycalendar.com
SUMMARY:Sunday Meat Raffle
DESCRIPTION:Make it a Sunday Funday with Mandatory Fun Outdoors’ weekly meat raffle in Emmaville. Enjoy drinks\, appetizers\, and a good time!
URL:https://heartlandlakescommunitycalendar.com/index.php/event/sunday-meat-raffle/2026-08-16/
LOCATION:Emmaville Inn and Cafe\, 28021 County 4\, Park Rapids\, MN\, 56470\, United States
CATEGORIES:Entertainment
ATTACH;FMTTYPE=image/jpeg:https://heartlandlakescommunitycalendar.com/wp-content/uploads/2026/03/630433450_122172222890776256_5251886797231679564_n.jpg
ORGANIZER;CN="Mandatory Fun Outdoors":MAILTO:mfo.information@gmail.com
END:VEVENT
BEGIN:VEVENT
DTSTART;TZID=UTC:20260818T190000
DTEND;TZID=UTC:20260818T210000
DTSTAMP:20260425T080434
CREATED:20250123T094511Z
LAST-MODIFIED:20250123T095029Z
UID:10004164-1787079600-1787086800@heartlandlakescommunitycalendar.com
SUMMARY:DJ Bingo
DESCRIPTION:Tuesday nights just got way more fun! DJ Bingo kicks off at 7 PM\, and it’s totally FREE to play—so why not grab your crew and join in?💰 Win big! We’ve got a progressive cash prize up to $300 and Zorbaz Gift Cards for regular Bingo wins! 🎵 It’s bingo\, but with a beat! Expect good vibes and a whole lot of fun. 👨‍👩‍👧‍👦 All ages welcome! Don’t miss out—come play\, dance\, and win every Tuesday at 7 PM! See ya there! 🍻🎤🎉
URL:https://heartlandlakescommunitycalendar.com/index.php/event/dj-bingo/2026-08-18/
LOCATION:Zorbaz\, 22036 County 7\, Park Rapids\, 56470\, United States
CATEGORIES:Entertainment
END:VEVENT
BEGIN:VEVENT
DTSTART;TZID=UTC:20260820T190000
DTEND;TZID=UTC:20260820T210000
DTSTAMP:20260425T080434
CREATED:20250123T094947Z
LAST-MODIFIED:20250123T095039Z
UID:10004426-1787252400-1787259600@heartlandlakescommunitycalendar.com
SUMMARY:DJ Trivia
DESCRIPTION:Thursday nights just got a whole lot more fun! DJ Trivia kicks off at 7 PM\, so grab your crew and put your knowledge to the test! Fun questions\, great music\, and tons of laughs! Whether you’re a trivia pro or just in it for the fun\, there’s a spot for you at the table. See ya Thursday at 7 PM—let’s get quizzical! 🍺🔥
URL:https://heartlandlakescommunitycalendar.com/index.php/event/dj-trivia/2026-08-20/
LOCATION:Zorbaz\, 22036 County 7\, Park Rapids\, 56470\, United States
CATEGORIES:Entertainment
END:VEVENT
BEGIN:VEVENT
DTSTART;TZID=America/New_York:20260823T140000
DTEND;TZID=America/New_York:20260823T160000
DTSTAMP:20260425T080434
CREATED:20260301T092616Z
LAST-MODIFIED:20260301T092616Z
UID:10011847-1787493600-1787500800@heartlandlakescommunitycalendar.com
SUMMARY:Sunday Meat Raffle
DESCRIPTION:Make it a Sunday Funday with Mandatory Fun Outdoors’ weekly meat raffle in Emmaville. Enjoy drinks\, appetizers\, and a good time!
URL:https://heartlandlakescommunitycalendar.com/index.php/event/sunday-meat-raffle/2026-08-23/
LOCATION:Emmaville Inn and Cafe\, 28021 County 4\, Park Rapids\, MN\, 56470\, United States
CATEGORIES:Entertainment
ATTACH;FMTTYPE=image/jpeg:https://heartlandlakescommunitycalendar.com/wp-content/uploads/2026/03/630433450_122172222890776256_5251886797231679564_n.jpg
ORGANIZER;CN="Mandatory Fun Outdoors":MAILTO:mfo.information@gmail.com
END:VEVENT
END:VCALENDAR