BEGIN:VCALENDAR
VERSION:2.0
PRODID:-//The Heartland Lakes Community Calendar - ECPv6.3.7//NONSGML v1.0//EN
CALSCALE:GREGORIAN
METHOD:PUBLISH
X-ORIGINAL-URL:https://heartlandlakescommunitycalendar.com
X-WR-CALDESC:Events for The Heartland Lakes Community Calendar
REFRESH-INTERVAL;VALUE=DURATION:PT1H
X-Robots-Tag:noindex
X-PUBLISHED-TTL:PT1H
BEGIN:VTIMEZONE
TZID:America/New_York
BEGIN:DAYLIGHT
TZOFFSETFROM:-0500
TZOFFSETTO:-0400
TZNAME:EDT
DTSTART:20260308T070000
END:DAYLIGHT
BEGIN:STANDARD
TZOFFSETFROM:-0400
TZOFFSETTO:-0500
TZNAME:EST
DTSTART:20261101T060000
END:STANDARD
TZID:UTC
BEGIN:STANDARD
TZOFFSETFROM:+0000
TZOFFSETTO:+0000
TZNAME:UTC
DTSTART:20260101T000000
END:STANDARD
END:VTIMEZONE
BEGIN:VEVENT
DTSTART;TZID=America/New_York:20260705T140000
DTEND;TZID=America/New_York:20260705T160000
DTSTAMP:20260425T135948
CREATED:20260301T092616Z
LAST-MODIFIED:20260301T092616Z
UID:10011840-1783260000-1783267200@heartlandlakescommunitycalendar.com
SUMMARY:Sunday Meat Raffle
DESCRIPTION:Make it a Sunday Funday with Mandatory Fun Outdoors’ weekly meat raffle in Emmaville. Enjoy drinks\, appetizers\, and a good time!
URL:https://heartlandlakescommunitycalendar.com/index.php/event/sunday-meat-raffle/2026-07-05/
LOCATION:Emmaville Inn and Cafe\, 28021 County 4\, Park Rapids\, MN\, 56470\, United States
CATEGORIES:Entertainment
ATTACH;FMTTYPE=image/jpeg:https://heartlandlakescommunitycalendar.com/wp-content/uploads/2026/03/630433450_122172222890776256_5251886797231679564_n.jpg
ORGANIZER;CN="Mandatory Fun Outdoors":MAILTO:mfo.information@gmail.com
END:VEVENT
BEGIN:VEVENT
DTSTART;TZID=UTC:20260707T190000
DTEND;TZID=UTC:20260707T210000
DTSTAMP:20260425T135948
CREATED:20250123T094511Z
LAST-MODIFIED:20250123T095029Z
UID:10004158-1783450800-1783458000@heartlandlakescommunitycalendar.com
SUMMARY:DJ Bingo
DESCRIPTION:Tuesday nights just got way more fun! DJ Bingo kicks off at 7 PM\, and it’s totally FREE to play—so why not grab your crew and join in?💰 Win big! We’ve got a progressive cash prize up to $300 and Zorbaz Gift Cards for regular Bingo wins! 🎵 It’s bingo\, but with a beat! Expect good vibes and a whole lot of fun. 👨‍👩‍👧‍👦 All ages welcome! Don’t miss out—come play\, dance\, and win every Tuesday at 7 PM! See ya there! 🍻🎤🎉
URL:https://heartlandlakescommunitycalendar.com/index.php/event/dj-bingo/2026-07-07/
LOCATION:Zorbaz\, 22036 County 7\, Park Rapids\, 56470\, United States
CATEGORIES:Entertainment
END:VEVENT
BEGIN:VEVENT
DTSTART;TZID=UTC:20260709T190000
DTEND;TZID=UTC:20260709T210000
DTSTAMP:20260425T135948
CREATED:20250123T094947Z
LAST-MODIFIED:20250123T095039Z
UID:10004420-1783623600-1783630800@heartlandlakescommunitycalendar.com
SUMMARY:DJ Trivia
DESCRIPTION:Thursday nights just got a whole lot more fun! DJ Trivia kicks off at 7 PM\, so grab your crew and put your knowledge to the test! Fun questions\, great music\, and tons of laughs! Whether you’re a trivia pro or just in it for the fun\, there’s a spot for you at the table. See ya Thursday at 7 PM—let’s get quizzical! 🍺🔥
URL:https://heartlandlakescommunitycalendar.com/index.php/event/dj-trivia/2026-07-09/
LOCATION:Zorbaz\, 22036 County 7\, Park Rapids\, 56470\, United States
CATEGORIES:Entertainment
END:VEVENT
BEGIN:VEVENT
DTSTART;VALUE=DATE:20260710
DTEND;VALUE=DATE:20260713
DTSTAMP:20260425T135948
CREATED:20260301T091103Z
LAST-MODIFIED:20260301T091103Z
UID:10011812-1783641600-1783900799@heartlandlakescommunitycalendar.com
SUMMARY:Menahga Midsummer Celebration
DESCRIPTION:Parade\, craft show\, run\, fireworks and lots of fun planned. This year’s Midsummer event coincides with the United States Semiquicentennial\, marking America’s 250th Birthday.
URL:https://heartlandlakescommunitycalendar.com/index.php/event/menahga-midsummer-celebration-2/
LOCATION:MN
CATEGORIES:Entertainment
END:VEVENT
END:VCALENDAR