BEGIN:VCALENDAR
VERSION:2.0
PRODID:-//The Heartland Lakes Community Calendar - ECPv6.3.7//NONSGML v1.0//EN
CALSCALE:GREGORIAN
METHOD:PUBLISH
X-WR-CALNAME:The Heartland Lakes Community Calendar
X-ORIGINAL-URL:https://heartlandlakescommunitycalendar.com
X-WR-CALDESC:Events for The Heartland Lakes Community Calendar
REFRESH-INTERVAL;VALUE=DURATION:PT1H
X-Robots-Tag:noindex
X-PUBLISHED-TTL:PT1H
BEGIN:VTIMEZONE
TZID:America/New_York
BEGIN:DAYLIGHT
TZOFFSETFROM:-0500
TZOFFSETTO:-0400
TZNAME:EDT
DTSTART:20250309T070000
END:DAYLIGHT
BEGIN:STANDARD
TZOFFSETFROM:-0400
TZOFFSETTO:-0500
TZNAME:EST
DTSTART:20251102T060000
END:STANDARD
TZID:UTC
BEGIN:STANDARD
TZOFFSETFROM:+0000
TZOFFSETTO:+0000
TZNAME:UTC
DTSTART:20250101T000000
END:STANDARD
END:VTIMEZONE
BEGIN:VEVENT
DTSTART;TZID=America/New_York:20251101T190000
DTEND;TZID=America/New_York:20251101T210000
DTSTAMP:20260422T000923
CREATED:20250818T072659Z
LAST-MODIFIED:20250818T072659Z
UID:10010726-1762023600-1762030800@heartlandlakescommunitycalendar.com
SUMMARY:Music Bingo
DESCRIPTION:It’s bingo with a beat! Instead of numbers\, we’ll play clips of your favorite songs — you mark them off your card and shout “Bingo!” when you win. Enjoy great music\, laughs\, and prizes in a fun\, social atmosphere. No music knowledge needed — just bring your listening ears and a good time. Ages 18 and over.
URL:https://heartlandlakescommunitycalendar.com/index.php/event/music-bingo/
LOCATION:Armory Arts & Events Center\, 203 Park Ave. South\, Park Rapids\, MN\, 56470\, United States
CATEGORIES:Entertainment,Music
ORGANIZER;CN="Armory Arts & Events Center":MAILTO:jkjenaas@parkrapidsarmory.org
END:VEVENT
BEGIN:VEVENT
DTSTART;TZID=UTC:20251107T190000
DTEND;TZID=UTC:20251107T230000
DTSTAMP:20260422T000923
CREATED:20250129T002340Z
LAST-MODIFIED:20250129T002340Z
UID:10007512-1762542000-1762556400@heartlandlakescommunitycalendar.com
SUMMARY:Karaoke
DESCRIPTION:Step into the spotlight and sing your heart out at Karaoke Night! Whether you’re a seasoned performer or just love belting out your favorite tunes\, this is your chance to shine. Bring your friends\, pick your favorite songs\, and let the good vibes flow. With a lively atmosphere\, plenty of laughs\, and a playlist packed with hits\, it’s guaranteed to be a night to remember. 🎵 No experience required—just a love for music and fun! \n 
URL:https://heartlandlakescommunitycalendar.com/index.php/event/karaoke/2025-11-07/
LOCATION:Park Rapids American Legion\, 900 1st St E\, Park Rapids\, MN\, 56470\, United States
CATEGORIES:Music,Social
ATTACH;FMTTYPE=image/png:https://heartlandlakescommunitycalendar.com/wp-content/uploads/2025/01/karaoke-night.png
ORGANIZER;CN="Park Rapids American Legion":MAILTO:barmanagerpost212@arvig.net
END:VEVENT
BEGIN:VEVENT
DTSTART;TZID=UTC:20251114T190000
DTEND;TZID=UTC:20251114T230000
DTSTAMP:20260422T000923
CREATED:20250129T002340Z
LAST-MODIFIED:20250129T002340Z
UID:10007513-1763146800-1763161200@heartlandlakescommunitycalendar.com
SUMMARY:Karaoke
DESCRIPTION:Step into the spotlight and sing your heart out at Karaoke Night! Whether you’re a seasoned performer or just love belting out your favorite tunes\, this is your chance to shine. Bring your friends\, pick your favorite songs\, and let the good vibes flow. With a lively atmosphere\, plenty of laughs\, and a playlist packed with hits\, it’s guaranteed to be a night to remember. 🎵 No experience required—just a love for music and fun! \n 
URL:https://heartlandlakescommunitycalendar.com/index.php/event/karaoke/2025-11-14/
LOCATION:Park Rapids American Legion\, 900 1st St E\, Park Rapids\, MN\, 56470\, United States
CATEGORIES:Music,Social
ATTACH;FMTTYPE=image/png:https://heartlandlakescommunitycalendar.com/wp-content/uploads/2025/01/karaoke-night.png
ORGANIZER;CN="Park Rapids American Legion":MAILTO:barmanagerpost212@arvig.net
END:VEVENT
BEGIN:VEVENT
DTSTART;TZID=America/New_York:20251120T190000
DTEND;TZID=America/New_York:20251120T210000
DTSTAMP:20260422T000923
CREATED:20250818T071557Z
LAST-MODIFIED:20250818T071557Z
UID:10010717-1763665200-1763672400@heartlandlakescommunitycalendar.com
SUMMARY:Open Mic Nights
DESCRIPTION:Your voice. Your stage. Show us what you got! Open Mic Night at the Armory Main Stage– Where the spotlight is yours. Big stage. Your moment! Doors open at 6\, show starts at 7. Free admission! $5 Donations are encouraged and welcome!!
URL:https://heartlandlakescommunitycalendar.com/index.php/event/open-mic-nights/2025-11-20/
LOCATION:Armory Arts & Events Center\, 203 Park Ave. South\, Park Rapids\, MN\, 56470\, United States
CATEGORIES:Arts,Entertainment,Music
ORGANIZER;CN="Armory Arts & Events Center":MAILTO:jkjenaas@parkrapidsarmory.org
END:VEVENT
BEGIN:VEVENT
DTSTART;TZID=UTC:20251121T190000
DTEND;TZID=UTC:20251121T230000
DTSTAMP:20260422T000923
CREATED:20250129T002340Z
LAST-MODIFIED:20250129T002340Z
UID:10007514-1763751600-1763766000@heartlandlakescommunitycalendar.com
SUMMARY:Karaoke
DESCRIPTION:Step into the spotlight and sing your heart out at Karaoke Night! Whether you’re a seasoned performer or just love belting out your favorite tunes\, this is your chance to shine. Bring your friends\, pick your favorite songs\, and let the good vibes flow. With a lively atmosphere\, plenty of laughs\, and a playlist packed with hits\, it’s guaranteed to be a night to remember. 🎵 No experience required—just a love for music and fun! \n 
URL:https://heartlandlakescommunitycalendar.com/index.php/event/karaoke/2025-11-21/
LOCATION:Park Rapids American Legion\, 900 1st St E\, Park Rapids\, MN\, 56470\, United States
CATEGORIES:Music,Social
ATTACH;FMTTYPE=image/png:https://heartlandlakescommunitycalendar.com/wp-content/uploads/2025/01/karaoke-night.png
ORGANIZER;CN="Park Rapids American Legion":MAILTO:barmanagerpost212@arvig.net
END:VEVENT
BEGIN:VEVENT
DTSTART;TZID=America/New_York:20251122T190000
DTEND;TZID=America/New_York:20251122T200000
DTSTAMP:20260422T000923
CREATED:20250724T062333Z
LAST-MODIFIED:20250724T062333Z
UID:10010605-1763838000-1763841600@heartlandlakescommunitycalendar.com
SUMMARY:Nate Hance - Piano Potpourri: Heartland Concert Association
DESCRIPTION:Pianist Nate Hance possesses a unique blend of skill\, emotional depth\, and engaging showmanship. His repertoire includes timeless classics and original compositions\, and offers something for everyone\, making his concerts a delightful journey through music. With his warm presence and exceptional talent\, Nate Hance promises to make a lasting impression on all attendees. \nTickets available at to door. The Heartland Concert Association invites you to become a season ticket holder and join your friends for this wonderful opportunity to see and hear exceptional entertainment – 5 concerts in Park Rapids\, plus reciprocity at all of the concerts held in Wadena for a very reasonable amount of $70. Consider giving a gift of season tickets to a relative\, cleaning lady\, senior citizen friend\,\nwedding/birthday gift\, or as a special “thank you”. It’s a gift that gives all year long – each time the recipient uses it\, they will think of you. They are available at the performance door or by mail.
URL:https://heartlandlakescommunitycalendar.com/index.php/event/nate-hance-piano-potpourri-heartland-concert-association/
LOCATION:Park Rapids High School\, 401 Huntsinger Ave\, Park Rapids\, Park Rapids\, 56470\, United States
CATEGORIES:Music
ATTACH;FMTTYPE=image/avif:https://heartlandlakescommunitycalendar.com/wp-content/uploads/2025/07/nate-hance-1-YanqXN474yUOMkp0.avif
END:VEVENT
BEGIN:VEVENT
DTSTART;TZID=America/New_York:20251122T190000
DTEND;TZID=America/New_York:20251122T210000
DTSTAMP:20260422T000923
CREATED:20250818T072839Z
LAST-MODIFIED:20250818T072839Z
UID:10010728-1763838000-1763845200@heartlandlakescommunitycalendar.com
SUMMARY:The Fat Cats
DESCRIPTION:Straight out of Fargo\, ND\, The Fat Cats bring a high-energy mix of rock and blues\, sharing the stage over the years with legends like ZZ Top and Boston — and still packing dance floors across the Midwest
URL:https://heartlandlakescommunitycalendar.com/index.php/event/the-fat-cats/
LOCATION:Armory Arts & Events Center\, 203 Park Ave. South\, Park Rapids\, MN\, 56470\, United States
CATEGORIES:Music
ORGANIZER;CN="Armory Arts & Events Center":MAILTO:jkjenaas@parkrapidsarmory.org
END:VEVENT
BEGIN:VEVENT
DTSTART;TZID=UTC:20251128T190000
DTEND;TZID=UTC:20251128T230000
DTSTAMP:20260422T000923
CREATED:20250129T002340Z
LAST-MODIFIED:20250129T002340Z
UID:10007515-1764356400-1764370800@heartlandlakescommunitycalendar.com
SUMMARY:Karaoke
DESCRIPTION:Step into the spotlight and sing your heart out at Karaoke Night! Whether you’re a seasoned performer or just love belting out your favorite tunes\, this is your chance to shine. Bring your friends\, pick your favorite songs\, and let the good vibes flow. With a lively atmosphere\, plenty of laughs\, and a playlist packed with hits\, it’s guaranteed to be a night to remember. 🎵 No experience required—just a love for music and fun! \n 
URL:https://heartlandlakescommunitycalendar.com/index.php/event/karaoke/2025-11-28/
LOCATION:Park Rapids American Legion\, 900 1st St E\, Park Rapids\, MN\, 56470\, United States
CATEGORIES:Music,Social
ATTACH;FMTTYPE=image/png:https://heartlandlakescommunitycalendar.com/wp-content/uploads/2025/01/karaoke-night.png
ORGANIZER;CN="Park Rapids American Legion":MAILTO:barmanagerpost212@arvig.net
END:VEVENT
END:VCALENDAR