BEGIN:VCALENDAR
VERSION:2.0
PRODID:-//The Heartland Lakes Community Calendar - ECPv6.3.7//NONSGML v1.0//EN
CALSCALE:GREGORIAN
METHOD:PUBLISH
X-WR-CALNAME:The Heartland Lakes Community Calendar
X-ORIGINAL-URL:https://heartlandlakescommunitycalendar.com
X-WR-CALDESC:Events for The Heartland Lakes Community Calendar
REFRESH-INTERVAL;VALUE=DURATION:PT1H
X-Robots-Tag:noindex
X-PUBLISHED-TTL:PT1H
BEGIN:VTIMEZONE
TZID:UTC
BEGIN:STANDARD
TZOFFSETFROM:+0000
TZOFFSETTO:+0000
TZNAME:UTC
DTSTART:20250101T000000
END:STANDARD
TZID:America/Chicago
BEGIN:DAYLIGHT
TZOFFSETFROM:-0600
TZOFFSETTO:-0500
TZNAME:CDT
DTSTART:20250309T080000
END:DAYLIGHT
BEGIN:STANDARD
TZOFFSETFROM:-0500
TZOFFSETTO:-0600
TZNAME:CST
DTSTART:20251102T070000
END:STANDARD
TZID:America/New_York
BEGIN:DAYLIGHT
TZOFFSETFROM:-0500
TZOFFSETTO:-0400
TZNAME:EDT
DTSTART:20250309T070000
END:DAYLIGHT
BEGIN:STANDARD
TZOFFSETFROM:-0400
TZOFFSETTO:-0500
TZNAME:EST
DTSTART:20251102T060000
END:STANDARD
END:VTIMEZONE
BEGIN:VEVENT
DTSTART;TZID=UTC:20251205T190000
DTEND;TZID=UTC:20251205T230000
DTSTAMP:20260421T221725
CREATED:20250129T002340Z
LAST-MODIFIED:20250129T002340Z
UID:10007516-1764961200-1764975600@heartlandlakescommunitycalendar.com
SUMMARY:Karaoke
DESCRIPTION:Step into the spotlight and sing your heart out at Karaoke Night! Whether you’re a seasoned performer or just love belting out your favorite tunes\, this is your chance to shine. Bring your friends\, pick your favorite songs\, and let the good vibes flow. With a lively atmosphere\, plenty of laughs\, and a playlist packed with hits\, it’s guaranteed to be a night to remember. 🎵 No experience required—just a love for music and fun! \n 
URL:https://heartlandlakescommunitycalendar.com/index.php/event/karaoke/2025-12-05/
LOCATION:Park Rapids American Legion\, 900 1st St E\, Park Rapids\, MN\, 56470\, United States
CATEGORIES:Music,Social
ATTACH;FMTTYPE=image/png:https://heartlandlakescommunitycalendar.com/wp-content/uploads/2025/01/karaoke-night.png
ORGANIZER;CN="Park Rapids American Legion":MAILTO:barmanagerpost212@arvig.net
END:VEVENT
BEGIN:VEVENT
DTSTART;TZID=America/Chicago:20251205T193000
DTEND;TZID=America/Chicago:20251205T210000
DTSTAMP:20260421T221725
CREATED:20251207T133437Z
LAST-MODIFIED:20251207T133437Z
UID:10011033-1764963000-1764968400@heartlandlakescommunitycalendar.com
SUMMARY:Classic Chorale - Colors of Winter
DESCRIPTION:Free will offering and all are welcome! Park Rapids own Classic Chorale will perform their winter concert\, Colors of Winter at Calvary Lutheran Church
URL:https://heartlandlakescommunitycalendar.com/index.php/event/classic-chorale-colors-of-winter/2025-12-05/
LOCATION:Calvary Lutheran Church\, 112 Park Ave\, Park Rapids\, MN\, 56470\, United States
CATEGORIES:Arts,Music
ATTACH;FMTTYPE=image/jpeg:https://heartlandlakescommunitycalendar.com/wp-content/uploads/2025/12/Colorsofwinter.jpg
ORGANIZER;CN="Park Rapids Classic Chorale":MAILTO:classicchorale@gmail.com
END:VEVENT
BEGIN:VEVENT
DTSTART;TZID=America/Chicago:20251207T150000
DTEND;TZID=America/Chicago:20251207T163000
DTSTAMP:20260421T221725
CREATED:20251207T133437Z
LAST-MODIFIED:20251207T133437Z
UID:10011034-1765119600-1765125000@heartlandlakescommunitycalendar.com
SUMMARY:Classic Chorale - Colors of Winter
DESCRIPTION:Free will offering and all are welcome! Park Rapids own Classic Chorale will perform their winter concert\, Colors of Winter at Calvary Lutheran Church
URL:https://heartlandlakescommunitycalendar.com/index.php/event/classic-chorale-colors-of-winter/2025-12-07/
LOCATION:Calvary Lutheran Church\, 112 Park Ave\, Park Rapids\, MN\, 56470\, United States
CATEGORIES:Arts,Music
ATTACH;FMTTYPE=image/jpeg:https://heartlandlakescommunitycalendar.com/wp-content/uploads/2025/12/Colorsofwinter.jpg
ORGANIZER;CN="Park Rapids Classic Chorale":MAILTO:classicchorale@gmail.com
END:VEVENT
BEGIN:VEVENT
DTSTART;TZID=UTC:20251212T190000
DTEND;TZID=UTC:20251212T230000
DTSTAMP:20260421T221725
CREATED:20250129T002340Z
LAST-MODIFIED:20250129T002340Z
UID:10007517-1765566000-1765580400@heartlandlakescommunitycalendar.com
SUMMARY:Karaoke
DESCRIPTION:Step into the spotlight and sing your heart out at Karaoke Night! Whether you’re a seasoned performer or just love belting out your favorite tunes\, this is your chance to shine. Bring your friends\, pick your favorite songs\, and let the good vibes flow. With a lively atmosphere\, plenty of laughs\, and a playlist packed with hits\, it’s guaranteed to be a night to remember. 🎵 No experience required—just a love for music and fun! \n 
URL:https://heartlandlakescommunitycalendar.com/index.php/event/karaoke/2025-12-12/
LOCATION:Park Rapids American Legion\, 900 1st St E\, Park Rapids\, MN\, 56470\, United States
CATEGORIES:Music,Social
ATTACH;FMTTYPE=image/png:https://heartlandlakescommunitycalendar.com/wp-content/uploads/2025/01/karaoke-night.png
ORGANIZER;CN="Park Rapids American Legion":MAILTO:barmanagerpost212@arvig.net
END:VEVENT
BEGIN:VEVENT
DTSTART;TZID=America/New_York:20251213T140000
DTEND;TZID=America/New_York:20251213T153000
DTSTAMP:20260421T221725
CREATED:20251207T151235Z
LAST-MODIFIED:20251207T151235Z
UID:10011043-1765634400-1765639800@heartlandlakescommunitycalendar.com
SUMMARY:Christmas Concert & Carols
DESCRIPTION:Come celebrate the season with the Christmas Concert and Carols featuring organists Joshua Miller & Cheryl Hilgemann\, joined by the St. Johns Bell Choir.
URL:https://heartlandlakescommunitycalendar.com/index.php/event/christmas-concert-carols/
LOCATION:St. Johns Lutheran Church\, 803 First St W\, Park Rapids\, MN\, 56470\, United States
CATEGORIES:Holiday,Music
ATTACH;FMTTYPE=image/png:https://heartlandlakescommunitycalendar.com/wp-content/uploads/2025/12/Christmas_Concert_Chamber_Main_Event_Photo.png
ORGANIZER;CN="St. Johns Lutheran Church":MAILTO:stjohnslutheranpr@gmail.com
END:VEVENT
BEGIN:VEVENT
DTSTART;TZID=UTC:20251219T190000
DTEND;TZID=UTC:20251219T230000
DTSTAMP:20260421T221725
CREATED:20250129T002340Z
LAST-MODIFIED:20250129T002340Z
UID:10007518-1766170800-1766185200@heartlandlakescommunitycalendar.com
SUMMARY:Karaoke
DESCRIPTION:Step into the spotlight and sing your heart out at Karaoke Night! Whether you’re a seasoned performer or just love belting out your favorite tunes\, this is your chance to shine. Bring your friends\, pick your favorite songs\, and let the good vibes flow. With a lively atmosphere\, plenty of laughs\, and a playlist packed with hits\, it’s guaranteed to be a night to remember. 🎵 No experience required—just a love for music and fun! \n 
URL:https://heartlandlakescommunitycalendar.com/index.php/event/karaoke/2025-12-19/
LOCATION:Park Rapids American Legion\, 900 1st St E\, Park Rapids\, MN\, 56470\, United States
CATEGORIES:Music,Social
ATTACH;FMTTYPE=image/png:https://heartlandlakescommunitycalendar.com/wp-content/uploads/2025/01/karaoke-night.png
ORGANIZER;CN="Park Rapids American Legion":MAILTO:barmanagerpost212@arvig.net
END:VEVENT
BEGIN:VEVENT
DTSTART;TZID=UTC:20251226T190000
DTEND;TZID=UTC:20251226T230000
DTSTAMP:20260421T221725
CREATED:20250129T002340Z
LAST-MODIFIED:20250129T002340Z
UID:10007519-1766775600-1766790000@heartlandlakescommunitycalendar.com
SUMMARY:Karaoke
DESCRIPTION:Step into the spotlight and sing your heart out at Karaoke Night! Whether you’re a seasoned performer or just love belting out your favorite tunes\, this is your chance to shine. Bring your friends\, pick your favorite songs\, and let the good vibes flow. With a lively atmosphere\, plenty of laughs\, and a playlist packed with hits\, it’s guaranteed to be a night to remember. 🎵 No experience required—just a love for music and fun! \n 
URL:https://heartlandlakescommunitycalendar.com/index.php/event/karaoke/2025-12-26/
LOCATION:Park Rapids American Legion\, 900 1st St E\, Park Rapids\, MN\, 56470\, United States
CATEGORIES:Music,Social
ATTACH;FMTTYPE=image/png:https://heartlandlakescommunitycalendar.com/wp-content/uploads/2025/01/karaoke-night.png
ORGANIZER;CN="Park Rapids American Legion":MAILTO:barmanagerpost212@arvig.net
END:VEVENT
END:VCALENDAR