BEGIN:VCALENDAR
VERSION:2.0
PRODID:-//The Heartland Lakes Community Calendar - ECPv6.3.7//NONSGML v1.0//EN
CALSCALE:GREGORIAN
METHOD:PUBLISH
X-WR-CALNAME:The Heartland Lakes Community Calendar
X-ORIGINAL-URL:https://heartlandlakescommunitycalendar.com
X-WR-CALDESC:Events for The Heartland Lakes Community Calendar
REFRESH-INTERVAL;VALUE=DURATION:PT1H
X-Robots-Tag:noindex
X-PUBLISHED-TTL:PT1H
BEGIN:VTIMEZONE
TZID:UTC
BEGIN:STANDARD
TZOFFSETFROM:+0000
TZOFFSETTO:+0000
TZNAME:UTC
DTSTART:20260101T000000
END:STANDARD
TZID:America/New_York
BEGIN:DAYLIGHT
TZOFFSETFROM:-0500
TZOFFSETTO:-0400
TZNAME:EDT
DTSTART:20260308T070000
END:DAYLIGHT
BEGIN:STANDARD
TZOFFSETFROM:-0400
TZOFFSETTO:-0500
TZNAME:EST
DTSTART:20261101T060000
END:STANDARD
END:VTIMEZONE
BEGIN:VEVENT
DTSTART;TZID=UTC:20260102T190000
DTEND;TZID=UTC:20260102T230000
DTSTAMP:20260421T202400
CREATED:20250129T002340Z
LAST-MODIFIED:20250129T002340Z
UID:10007520-1767380400-1767394800@heartlandlakescommunitycalendar.com
SUMMARY:Karaoke
DESCRIPTION:Step into the spotlight and sing your heart out at Karaoke Night! Whether you’re a seasoned performer or just love belting out your favorite tunes\, this is your chance to shine. Bring your friends\, pick your favorite songs\, and let the good vibes flow. With a lively atmosphere\, plenty of laughs\, and a playlist packed with hits\, it’s guaranteed to be a night to remember. 🎵 No experience required—just a love for music and fun! \n 
URL:https://heartlandlakescommunitycalendar.com/index.php/event/karaoke/2026-01-02/
LOCATION:Park Rapids American Legion\, 900 1st St E\, Park Rapids\, MN\, 56470\, United States
CATEGORIES:Music,Social
ATTACH;FMTTYPE=image/png:https://heartlandlakescommunitycalendar.com/wp-content/uploads/2025/01/karaoke-night.png
ORGANIZER;CN="Park Rapids American Legion":MAILTO:barmanagerpost212@arvig.net
END:VEVENT
BEGIN:VEVENT
DTSTART;TZID=America/New_York:20260108T170000
DTEND;TZID=America/New_York:20260108T200000
DTSTAMP:20260421T202400
CREATED:20260105T151445Z
LAST-MODIFIED:20260105T151509Z
UID:10011065-1767891600-1767902400@heartlandlakescommunitycalendar.com
SUMMARY:Live Music with Don Holmen
DESCRIPTION:Join us for live music with Don Holmen every Thursday night at 218 Venture Bar and Eatery
URL:https://heartlandlakescommunitycalendar.com/index.php/event/live-music-with-don-holmen/2026-01-08/
LOCATION:218 Venture Bar and Eatery\, 20456 MN-226\, Park Rapids\, MN\, 56470\, United States
CATEGORIES:Music
ATTACH;FMTTYPE=image/jpeg:https://heartlandlakescommunitycalendar.com/wp-content/uploads/2026/01/donholmenthursday.jpg
ORGANIZER;CN="218 Venture Bar and Eatery":MAILTO:218venture@gmail.com
END:VEVENT
BEGIN:VEVENT
DTSTART;TZID=America/New_York:20260109T183000
DTEND;TZID=America/New_York:20260109T213000
DTSTAMP:20260421T202400
CREATED:20260105T151741Z
LAST-MODIFIED:20260105T151741Z
UID:10011326-1767983400-1767994200@heartlandlakescommunitycalendar.com
SUMMARY:One Knight Stand featuring Kirk Brock
DESCRIPTION:Join us every Friday at Clancy’s Restaurant and Bar for One Knight Stand featuring Kirk Brock
URL:https://heartlandlakescommunitycalendar.com/index.php/event/one-knight-stand-featuring-kirk-brock/2026-01-09/
LOCATION:Clancy’s – Vacationaire\, 26333 Icon Dr\, Park Rapids\, 56470\, United States
CATEGORIES:Music
ATTACH;FMTTYPE=image/jpeg:https://heartlandlakescommunitycalendar.com/wp-content/uploads/2026/01/KirkBrock2019FridayNights.jpg
END:VEVENT
BEGIN:VEVENT
DTSTART;TZID=UTC:20260109T190000
DTEND;TZID=UTC:20260109T230000
DTSTAMP:20260421T202400
CREATED:20250129T002340Z
LAST-MODIFIED:20250129T002340Z
UID:10007521-1767985200-1767999600@heartlandlakescommunitycalendar.com
SUMMARY:Karaoke
DESCRIPTION:Step into the spotlight and sing your heart out at Karaoke Night! Whether you’re a seasoned performer or just love belting out your favorite tunes\, this is your chance to shine. Bring your friends\, pick your favorite songs\, and let the good vibes flow. With a lively atmosphere\, plenty of laughs\, and a playlist packed with hits\, it’s guaranteed to be a night to remember. 🎵 No experience required—just a love for music and fun! \n 
URL:https://heartlandlakescommunitycalendar.com/index.php/event/karaoke/2026-01-09/
LOCATION:Park Rapids American Legion\, 900 1st St E\, Park Rapids\, MN\, 56470\, United States
CATEGORIES:Music,Social
ATTACH;FMTTYPE=image/png:https://heartlandlakescommunitycalendar.com/wp-content/uploads/2025/01/karaoke-night.png
ORGANIZER;CN="Park Rapids American Legion":MAILTO:barmanagerpost212@arvig.net
END:VEVENT
BEGIN:VEVENT
DTSTART;TZID=America/New_York:20260111T190000
DTEND;TZID=America/New_York:20260111T200000
DTSTAMP:20260421T202400
CREATED:20260105T141127Z
LAST-MODIFIED:20260105T141127Z
UID:10011059-1768158000-1768161600@heartlandlakescommunitycalendar.com
SUMMARY:Music with The Brothers Burn Mountain
DESCRIPTION:The Brothers Burn Mountain are a soulful\, energetic\, eclectic duo of real-life brothers\, Ryan and Jesse Dermody. They’ve been playing music together everyday as a duo for more than 22 years.
URL:https://heartlandlakescommunitycalendar.com/index.php/event/music-with-the-brothers-burn-mountain/
LOCATION:Revel Brewing\, 201 Main Avenue South\, Park Rapids\, MN\, 56470\, United States
CATEGORIES:Music
ATTACH;FMTTYPE=image/jpeg:https://heartlandlakescommunitycalendar.com/wp-content/uploads/2026/01/595838994_1513235370410658_141234124439758031_n.jpg
ORGANIZER;CN="Revel Brewing":MAILTO:katie@revelingbrew.com
END:VEVENT
BEGIN:VEVENT
DTSTART;TZID=America/New_York:20260115T170000
DTEND;TZID=America/New_York:20260115T200000
DTSTAMP:20260421T202400
CREATED:20260105T151445Z
LAST-MODIFIED:20260105T151509Z
UID:10011066-1768496400-1768507200@heartlandlakescommunitycalendar.com
SUMMARY:Live Music with Don Holmen
DESCRIPTION:Join us for live music with Don Holmen every Thursday night at 218 Venture Bar and Eatery
URL:https://heartlandlakescommunitycalendar.com/index.php/event/live-music-with-don-holmen/2026-01-15/
LOCATION:218 Venture Bar and Eatery\, 20456 MN-226\, Park Rapids\, MN\, 56470\, United States
CATEGORIES:Music
ATTACH;FMTTYPE=image/jpeg:https://heartlandlakescommunitycalendar.com/wp-content/uploads/2026/01/donholmenthursday.jpg
ORGANIZER;CN="218 Venture Bar and Eatery":MAILTO:218venture@gmail.com
END:VEVENT
BEGIN:VEVENT
DTSTART;TZID=America/New_York:20260116T183000
DTEND;TZID=America/New_York:20260116T213000
DTSTAMP:20260421T202400
CREATED:20260105T151741Z
LAST-MODIFIED:20260105T151741Z
UID:10011327-1768588200-1768599000@heartlandlakescommunitycalendar.com
SUMMARY:One Knight Stand featuring Kirk Brock
DESCRIPTION:Join us every Friday at Clancy’s Restaurant and Bar for One Knight Stand featuring Kirk Brock
URL:https://heartlandlakescommunitycalendar.com/index.php/event/one-knight-stand-featuring-kirk-brock/2026-01-16/
LOCATION:Clancy’s – Vacationaire\, 26333 Icon Dr\, Park Rapids\, 56470\, United States
CATEGORIES:Music
ATTACH;FMTTYPE=image/jpeg:https://heartlandlakescommunitycalendar.com/wp-content/uploads/2026/01/KirkBrock2019FridayNights.jpg
END:VEVENT
BEGIN:VEVENT
DTSTART;TZID=UTC:20260116T190000
DTEND;TZID=UTC:20260116T230000
DTSTAMP:20260421T202400
CREATED:20250129T002340Z
LAST-MODIFIED:20250129T002340Z
UID:10007522-1768590000-1768604400@heartlandlakescommunitycalendar.com
SUMMARY:Karaoke
DESCRIPTION:Step into the spotlight and sing your heart out at Karaoke Night! Whether you’re a seasoned performer or just love belting out your favorite tunes\, this is your chance to shine. Bring your friends\, pick your favorite songs\, and let the good vibes flow. With a lively atmosphere\, plenty of laughs\, and a playlist packed with hits\, it’s guaranteed to be a night to remember. 🎵 No experience required—just a love for music and fun! \n 
URL:https://heartlandlakescommunitycalendar.com/index.php/event/karaoke/2026-01-16/
LOCATION:Park Rapids American Legion\, 900 1st St E\, Park Rapids\, MN\, 56470\, United States
CATEGORIES:Music,Social
ATTACH;FMTTYPE=image/png:https://heartlandlakescommunitycalendar.com/wp-content/uploads/2025/01/karaoke-night.png
ORGANIZER;CN="Park Rapids American Legion":MAILTO:barmanagerpost212@arvig.net
END:VEVENT
BEGIN:VEVENT
DTSTART;TZID=America/New_York:20260117T180000
DTEND;TZID=America/New_York:20260117T210000
DTSTAMP:20260421T202400
CREATED:20260105T153100Z
LAST-MODIFIED:20260105T153101Z
UID:10011707-1768672800-1768683600@heartlandlakescommunitycalendar.com
SUMMARY:Corey Medina and The Brothers Live at the Armory
DESCRIPTION:Corey Medina and The Brothers rock the Armory Main Stage January 17\, 2026
URL:https://heartlandlakescommunitycalendar.com/index.php/event/corey-medina-and-the-brothers-live-at-the-armory/
LOCATION:Armory Arts & Events Center\, 203 Park Ave. South\, Park Rapids\, MN\, 56470\, United States
CATEGORIES:Music
ATTACH;FMTTYPE=image/jpeg:https://heartlandlakescommunitycalendar.com/wp-content/uploads/2026/01/corey1.jpg
ORGANIZER;CN="Armory Arts & Events Center":MAILTO:jkjenaas@parkrapidsarmory.org
END:VEVENT
BEGIN:VEVENT
DTSTART;TZID=America/New_York:20260122T170000
DTEND;TZID=America/New_York:20260122T200000
DTSTAMP:20260421T202400
CREATED:20260105T151445Z
LAST-MODIFIED:20260105T151509Z
UID:10011067-1769101200-1769112000@heartlandlakescommunitycalendar.com
SUMMARY:Live Music with Don Holmen
DESCRIPTION:Join us for live music with Don Holmen every Thursday night at 218 Venture Bar and Eatery
URL:https://heartlandlakescommunitycalendar.com/index.php/event/live-music-with-don-holmen/2026-01-22/
LOCATION:218 Venture Bar and Eatery\, 20456 MN-226\, Park Rapids\, MN\, 56470\, United States
CATEGORIES:Music
ATTACH;FMTTYPE=image/jpeg:https://heartlandlakescommunitycalendar.com/wp-content/uploads/2026/01/donholmenthursday.jpg
ORGANIZER;CN="218 Venture Bar and Eatery":MAILTO:218venture@gmail.com
END:VEVENT
BEGIN:VEVENT
DTSTART;TZID=America/New_York:20260123T183000
DTEND;TZID=America/New_York:20260123T213000
DTSTAMP:20260421T202400
CREATED:20260105T151741Z
LAST-MODIFIED:20260105T151741Z
UID:10011328-1769193000-1769203800@heartlandlakescommunitycalendar.com
SUMMARY:One Knight Stand featuring Kirk Brock
DESCRIPTION:Join us every Friday at Clancy’s Restaurant and Bar for One Knight Stand featuring Kirk Brock
URL:https://heartlandlakescommunitycalendar.com/index.php/event/one-knight-stand-featuring-kirk-brock/2026-01-23/
LOCATION:Clancy’s – Vacationaire\, 26333 Icon Dr\, Park Rapids\, 56470\, United States
CATEGORIES:Music
ATTACH;FMTTYPE=image/jpeg:https://heartlandlakescommunitycalendar.com/wp-content/uploads/2026/01/KirkBrock2019FridayNights.jpg
END:VEVENT
BEGIN:VEVENT
DTSTART;TZID=UTC:20260123T190000
DTEND;TZID=UTC:20260123T230000
DTSTAMP:20260421T202400
CREATED:20250129T002340Z
LAST-MODIFIED:20250129T002340Z
UID:10007523-1769194800-1769209200@heartlandlakescommunitycalendar.com
SUMMARY:Karaoke
DESCRIPTION:Step into the spotlight and sing your heart out at Karaoke Night! Whether you’re a seasoned performer or just love belting out your favorite tunes\, this is your chance to shine. Bring your friends\, pick your favorite songs\, and let the good vibes flow. With a lively atmosphere\, plenty of laughs\, and a playlist packed with hits\, it’s guaranteed to be a night to remember. 🎵 No experience required—just a love for music and fun! \n 
URL:https://heartlandlakescommunitycalendar.com/index.php/event/karaoke/2026-01-23/
LOCATION:Park Rapids American Legion\, 900 1st St E\, Park Rapids\, MN\, 56470\, United States
CATEGORIES:Music,Social
ATTACH;FMTTYPE=image/png:https://heartlandlakescommunitycalendar.com/wp-content/uploads/2025/01/karaoke-night.png
ORGANIZER;CN="Park Rapids American Legion":MAILTO:barmanagerpost212@arvig.net
END:VEVENT
BEGIN:VEVENT
DTSTART;TZID=America/New_York:20260124T190000
DTEND;TZID=America/New_York:20260124T210000
DTSTAMP:20260421T202400
CREATED:20260105T150639Z
LAST-MODIFIED:20260105T150639Z
UID:10011063-1769281200-1769288400@heartlandlakescommunitycalendar.com
SUMMARY:Bruce Archer @ Revel Brewing!
DESCRIPTION:Infused by my many influences—blues\, bluegrass\, folk\, rock—my guitar style combines finger-picking and slide\, and my banjo playing usually makes people ask\, “What are you doing\, there?” I strive to make every performance authentically mine.\n\nI may not be for everyone\, but I do hope to see you out there!
URL:https://heartlandlakescommunitycalendar.com/index.php/event/bruce-archer-revel-brewing/
LOCATION:Revel Brewing\, 201 Main Avenue South\, Park Rapids\, MN\, 56470\, United States
CATEGORIES:Music
ATTACH;FMTTYPE=image/jpeg:https://heartlandlakescommunitycalendar.com/wp-content/uploads/2026/01/605776113_1287004780116027_6636992140316758578_n.jpg
ORGANIZER;CN="Revel Brewing":MAILTO:katie@revelingbrew.com
END:VEVENT
BEGIN:VEVENT
DTSTART;TZID=America/New_York:20260129T170000
DTEND;TZID=America/New_York:20260129T200000
DTSTAMP:20260421T202400
CREATED:20260105T151445Z
LAST-MODIFIED:20260105T151509Z
UID:10011068-1769706000-1769716800@heartlandlakescommunitycalendar.com
SUMMARY:Live Music with Don Holmen
DESCRIPTION:Join us for live music with Don Holmen every Thursday night at 218 Venture Bar and Eatery
URL:https://heartlandlakescommunitycalendar.com/index.php/event/live-music-with-don-holmen/2026-01-29/
LOCATION:218 Venture Bar and Eatery\, 20456 MN-226\, Park Rapids\, MN\, 56470\, United States
CATEGORIES:Music
ATTACH;FMTTYPE=image/jpeg:https://heartlandlakescommunitycalendar.com/wp-content/uploads/2026/01/donholmenthursday.jpg
ORGANIZER;CN="218 Venture Bar and Eatery":MAILTO:218venture@gmail.com
END:VEVENT
BEGIN:VEVENT
DTSTART;TZID=America/New_York:20260130T183000
DTEND;TZID=America/New_York:20260130T213000
DTSTAMP:20260421T202400
CREATED:20260105T151741Z
LAST-MODIFIED:20260105T151741Z
UID:10011329-1769797800-1769808600@heartlandlakescommunitycalendar.com
SUMMARY:One Knight Stand featuring Kirk Brock
DESCRIPTION:Join us every Friday at Clancy’s Restaurant and Bar for One Knight Stand featuring Kirk Brock
URL:https://heartlandlakescommunitycalendar.com/index.php/event/one-knight-stand-featuring-kirk-brock/2026-01-30/
LOCATION:Clancy’s – Vacationaire\, 26333 Icon Dr\, Park Rapids\, 56470\, United States
CATEGORIES:Music
ATTACH;FMTTYPE=image/jpeg:https://heartlandlakescommunitycalendar.com/wp-content/uploads/2026/01/KirkBrock2019FridayNights.jpg
END:VEVENT
BEGIN:VEVENT
DTSTART;TZID=UTC:20260130T190000
DTEND;TZID=UTC:20260130T230000
DTSTAMP:20260421T202400
CREATED:20250129T002340Z
LAST-MODIFIED:20250129T002340Z
UID:10007524-1769799600-1769814000@heartlandlakescommunitycalendar.com
SUMMARY:Karaoke
DESCRIPTION:Step into the spotlight and sing your heart out at Karaoke Night! Whether you’re a seasoned performer or just love belting out your favorite tunes\, this is your chance to shine. Bring your friends\, pick your favorite songs\, and let the good vibes flow. With a lively atmosphere\, plenty of laughs\, and a playlist packed with hits\, it’s guaranteed to be a night to remember. 🎵 No experience required—just a love for music and fun! \n 
URL:https://heartlandlakescommunitycalendar.com/index.php/event/karaoke/2026-01-30/
LOCATION:Park Rapids American Legion\, 900 1st St E\, Park Rapids\, MN\, 56470\, United States
CATEGORIES:Music,Social
ATTACH;FMTTYPE=image/png:https://heartlandlakescommunitycalendar.com/wp-content/uploads/2025/01/karaoke-night.png
ORGANIZER;CN="Park Rapids American Legion":MAILTO:barmanagerpost212@arvig.net
END:VEVENT
END:VCALENDAR