BEGIN:VCALENDAR
VERSION:2.0
PRODID:-//The Heartland Lakes Community Calendar - ECPv6.3.7//NONSGML v1.0//EN
CALSCALE:GREGORIAN
METHOD:PUBLISH
X-ORIGINAL-URL:https://heartlandlakescommunitycalendar.com
X-WR-CALDESC:Events for The Heartland Lakes Community Calendar
REFRESH-INTERVAL;VALUE=DURATION:PT1H
X-Robots-Tag:noindex
X-PUBLISHED-TTL:PT1H
BEGIN:VTIMEZONE
TZID:UTC
BEGIN:STANDARD
TZOFFSETFROM:+0000
TZOFFSETTO:+0000
TZNAME:UTC
DTSTART:20250101T000000
END:STANDARD
END:VTIMEZONE
BEGIN:VEVENT
DTSTART;TZID=UTC:20250807T121500
DTEND;TZID=UTC:20250807T124500
DTSTAMP:20260422T085409
CREATED:20250514T081841Z
LAST-MODIFIED:20250825T203128Z
UID:10008758-1754568900-1754570700@heartlandlakescommunitycalendar.com
SUMMARY:Summer Noon Hour Concerts
DESCRIPTION:Take a break in the middle of your day and enjoy the sounds of the Noon Hour Concert Series—a curated lineup of live performances featuring local and visiting musicians. Each concert offers a refreshing dose of culture and creativity to energize your afternoon. \nJune 5  – Emily Kjenaas Mezzo-Soprano \nJune 12 – Melanie Hanson\, Violin & Piano; Michael Hanson\, Soprano Saxophone; Rebekah Sundsrud\, Cello & Piano \nJune 19 – Jennie Anderson\, Flute; Rebekah Sundsrud\, Piano \nJune 26 – Bemidji Brass Quintet: Kyle Riess\, Trumpet; Alyssa Konecne\, Trombone; Steve Radley\, Bass Trombone; Eve Sumsky\, Horn; Craig Swartz\, Trumpet \nJuly 3- Brady Kacon: Percussion; Xylophone\, Snare\, Drum\, Drumset\, Marimba\, Vibraphone & Glockenspiel; Sarah Carlson\, Piano \nJuly 10 – North Wind Clarinets: Deane Johnson\, Beth Hahn\, Vickie Magnuson\, Peg Rickert\, Sarah Sundeen \nJuly 17 – Sarah Carlson\, Piano; Hannah Lewis\, Soprano \nJuly 24 – Sarah Kaufenberg\, Piano; Luke Helm\, Guitar \nJuly 31 – Sage Gonzales\, Cello \nAugust 7 – Blake Staines\, Baritone Soloist \nAugust 14 – Paul Lawrence\, Guitar and Vocal \nAugust 21 – Bob Madeson\, Euphonium; Sarah Carlson\, Piano; Merideth Klingbeil\, Organ \nAugust 28 – Matthew Lorenz\, Piano
URL:https://heartlandlakescommunitycalendar.com/index.php/event/summer-noon-hour-concerts/2025-08-07/
LOCATION:Calvary Lutheran Church\, 112 Park Ave\, Park Rapids\, MN\, 56470\, United States
CATEGORIES:Arts,Music
ORGANIZER;CN="Heartland Arts":MAILTO:parkrapidsarts@gmail.com
END:VEVENT
BEGIN:VEVENT
DTSTART;TZID=UTC:20250807T140000
DTEND;TZID=UTC:20250807T160000
DTSTAMP:20260422T085409
CREATED:20250313T195300Z
LAST-MODIFIED:20250313T195300Z
UID:10007794-1754575200-1754582400@heartlandlakescommunitycalendar.com
SUMMARY:Jukebox Parade - Hits of the 50's\, 60's\, & 70's
DESCRIPTION:Jasper’s Theater presents Live Music\, Magic\, Comedy and dance variety shows! Great family friendly\nvariety!
URL:https://heartlandlakescommunitycalendar.com/index.php/event/jukebox-parade-hits-of-the-50s-60s-70s/2025-08-07/
LOCATION:Jasper’s Theater\, 17339 State. Hwy 34\, Park Rapids\, MN\, 56470\, United States
CATEGORIES:Arts,Music
ATTACH;FMTTYPE=image/webp:https://heartlandlakescommunitycalendar.com/wp-content/uploads/2025/03/IMG_2123-649dbd1274782dfe7088889abba7220d.webp
ORGANIZER;CN="Jasper's Theater":MAILTO:jasperstheater@gmail.com
END:VEVENT
BEGIN:VEVENT
DTSTART;TZID=UTC:20250807T180000
DTEND;TZID=UTC:20250807T200000
DTSTAMP:20260422T085409
CREATED:20250122T215142Z
LAST-MODIFIED:20250528T184302Z
UID:10003885-1754589600-1754596800@heartlandlakescommunitycalendar.com
SUMMARY:2nd Street Stage - Farewell Milwaukee
DESCRIPTION:🎶 Summer Concert Series on 2nd Street! 🌟Join us for a FREE summer concert filled with live music\, dancing\, and community fun! Bring your family\, grab your lawn chairs\, and enjoy a night with your community. Say hi to local vendors and unwind with the famous Tap Castle beer garden while the music plays on. Whether you’re tapping your toes or dancing the night away\, there’s something for everyone. Don’t miss out on this perfect summer evening—see you there! 🌅🎤✨
URL:https://heartlandlakescommunitycalendar.com/index.php/event/2nd-street-stage-farewell-milwaukee-2/
LOCATION:2nd Street Stage\, 201 Main Ave So\, Park Rapids\, MN\, 56470\, United States
CATEGORIES:Entertainment,Music
ATTACH;FMTTYPE=image/jpeg:https://heartlandlakescommunitycalendar.com/wp-content/uploads/2025/01/473167037_1015605300588299_308728130926842442_n.jpg
ORGANIZER;CN="Park Rapids Downtown Business Association":MAILTO:parkrapidsdba@gmail.com
END:VEVENT
END:VCALENDAR