BEGIN:VCALENDAR
VERSION:2.0
PRODID:-//The Heartland Lakes Community Calendar - ECPv6.3.7//NONSGML v1.0//EN
CALSCALE:GREGORIAN
METHOD:PUBLISH
X-WR-CALNAME:The Heartland Lakes Community Calendar
X-ORIGINAL-URL:https://heartlandlakescommunitycalendar.com
X-WR-CALDESC:Events for The Heartland Lakes Community Calendar
REFRESH-INTERVAL;VALUE=DURATION:PT1H
X-Robots-Tag:noindex
X-PUBLISHED-TTL:PT1H
BEGIN:VTIMEZONE
TZID:America/New_York
BEGIN:DAYLIGHT
TZOFFSETFROM:-0500
TZOFFSETTO:-0400
TZNAME:EDT
DTSTART:20250309T070000
END:DAYLIGHT
BEGIN:STANDARD
TZOFFSETFROM:-0400
TZOFFSETTO:-0500
TZNAME:EST
DTSTART:20251102T060000
END:STANDARD
END:VTIMEZONE
BEGIN:VEVENT
DTSTART;TZID=America/New_York:20251101T190000
DTEND;TZID=America/New_York:20251101T210000
DTSTAMP:20260422T021100
CREATED:20250818T072659Z
LAST-MODIFIED:20250818T072659Z
UID:10010726-1762023600-1762030800@heartlandlakescommunitycalendar.com
SUMMARY:Music Bingo
DESCRIPTION:It’s bingo with a beat! Instead of numbers\, we’ll play clips of your favorite songs — you mark them off your card and shout “Bingo!” when you win. Enjoy great music\, laughs\, and prizes in a fun\, social atmosphere. No music knowledge needed — just bring your listening ears and a good time. Ages 18 and over.
URL:https://heartlandlakescommunitycalendar.com/index.php/event/music-bingo/
LOCATION:Armory Arts & Events Center\, 203 Park Ave. South\, Park Rapids\, MN\, 56470\, United States
CATEGORIES:Entertainment,Music
ORGANIZER;CN="Armory Arts & Events Center":MAILTO:jkjenaas@parkrapidsarmory.org
END:VEVENT
END:VCALENDAR