BEGIN:VCALENDAR
VERSION:2.0
PRODID:-//The Heartland Lakes Community Calendar - ECPv6.3.7//NONSGML v1.0//EN
CALSCALE:GREGORIAN
METHOD:PUBLISH
X-ORIGINAL-URL:https://heartlandlakescommunitycalendar.com
X-WR-CALDESC:Events for The Heartland Lakes Community Calendar
REFRESH-INTERVAL;VALUE=DURATION:PT1H
X-Robots-Tag:noindex
X-PUBLISHED-TTL:PT1H
BEGIN:VTIMEZONE
TZID:America/New_York
BEGIN:DAYLIGHT
TZOFFSETFROM:-0500
TZOFFSETTO:-0400
TZNAME:EDT
DTSTART:20270314T070000
END:DAYLIGHT
BEGIN:STANDARD
TZOFFSETFROM:-0400
TZOFFSETTO:-0500
TZNAME:EST
DTSTART:20271107T060000
END:STANDARD
TZID:UTC
BEGIN:STANDARD
TZOFFSETFROM:+0000
TZOFFSETTO:+0000
TZNAME:UTC
DTSTART:20270101T000000
END:STANDARD
END:VTIMEZONE
BEGIN:VEVENT
DTSTART;TZID=America/New_York:20270128T170000
DTEND;TZID=America/New_York:20270128T200000
DTSTAMP:20260424T101814
CREATED:20260105T151445Z
LAST-MODIFIED:20260105T151509Z
UID:10011120-1801155600-1801166400@heartlandlakescommunitycalendar.com
SUMMARY:Live Music with Don Holmen
DESCRIPTION:Join us for live music with Don Holmen every Thursday night at 218 Venture Bar and Eatery
URL:https://heartlandlakescommunitycalendar.com/index.php/event/live-music-with-don-holmen/2027-01-28/
LOCATION:218 Venture Bar and Eatery\, 20456 MN-226\, Park Rapids\, MN\, 56470\, United States
CATEGORIES:Music
ATTACH;FMTTYPE=image/jpeg:https://heartlandlakescommunitycalendar.com/wp-content/uploads/2026/01/donholmenthursday.jpg
ORGANIZER;CN="218 Venture Bar and Eatery":MAILTO:218venture@gmail.com
END:VEVENT
BEGIN:VEVENT
DTSTART;TZID=America/New_York:20270129T183000
DTEND;TZID=America/New_York:20270129T213000
DTSTAMP:20260424T101814
CREATED:20260105T151741Z
LAST-MODIFIED:20260105T151741Z
UID:10011381-1801247400-1801258200@heartlandlakescommunitycalendar.com
SUMMARY:One Knight Stand featuring Kirk Brock
DESCRIPTION:Join us every Friday at Clancy’s Restaurant and Bar for One Knight Stand featuring Kirk Brock
URL:https://heartlandlakescommunitycalendar.com/index.php/event/one-knight-stand-featuring-kirk-brock/2027-01-29/
LOCATION:Clancy’s – Vacationaire\, 26333 Icon Dr\, Park Rapids\, 56470\, United States
CATEGORIES:Music
ATTACH;FMTTYPE=image/jpeg:https://heartlandlakescommunitycalendar.com/wp-content/uploads/2026/01/KirkBrock2019FridayNights.jpg
END:VEVENT
BEGIN:VEVENT
DTSTART;TZID=UTC:20270129T190000
DTEND;TZID=UTC:20270129T230000
DTSTAMP:20260424T101814
CREATED:20250129T002340Z
LAST-MODIFIED:20250129T002340Z
UID:10007576-1801249200-1801263600@heartlandlakescommunitycalendar.com
SUMMARY:Karaoke
DESCRIPTION:Step into the spotlight and sing your heart out at Karaoke Night! Whether you’re a seasoned performer or just love belting out your favorite tunes\, this is your chance to shine. Bring your friends\, pick your favorite songs\, and let the good vibes flow. With a lively atmosphere\, plenty of laughs\, and a playlist packed with hits\, it’s guaranteed to be a night to remember. 🎵 No experience required—just a love for music and fun! \n 
URL:https://heartlandlakescommunitycalendar.com/index.php/event/karaoke/2027-01-29/
LOCATION:Park Rapids American Legion\, 900 1st St E\, Park Rapids\, MN\, 56470\, United States
CATEGORIES:Music,Social
ATTACH;FMTTYPE=image/png:https://heartlandlakescommunitycalendar.com/wp-content/uploads/2025/01/karaoke-night.png
ORGANIZER;CN="Park Rapids American Legion":MAILTO:barmanagerpost212@arvig.net
END:VEVENT
BEGIN:VEVENT
DTSTART;TZID=America/New_York:20270204T170000
DTEND;TZID=America/New_York:20270204T200000
DTSTAMP:20260424T101814
CREATED:20260105T151445Z
LAST-MODIFIED:20260105T151509Z
UID:10011121-1801760400-1801771200@heartlandlakescommunitycalendar.com
SUMMARY:Live Music with Don Holmen
DESCRIPTION:Join us for live music with Don Holmen every Thursday night at 218 Venture Bar and Eatery
URL:https://heartlandlakescommunitycalendar.com/index.php/event/live-music-with-don-holmen/2027-02-04/
LOCATION:218 Venture Bar and Eatery\, 20456 MN-226\, Park Rapids\, MN\, 56470\, United States
CATEGORIES:Music
ATTACH;FMTTYPE=image/jpeg:https://heartlandlakescommunitycalendar.com/wp-content/uploads/2026/01/donholmenthursday.jpg
ORGANIZER;CN="218 Venture Bar and Eatery":MAILTO:218venture@gmail.com
END:VEVENT
BEGIN:VEVENT
DTSTART;TZID=America/New_York:20270205T183000
DTEND;TZID=America/New_York:20270205T213000
DTSTAMP:20260424T101814
CREATED:20260105T151741Z
LAST-MODIFIED:20260105T151741Z
UID:10011382-1801852200-1801863000@heartlandlakescommunitycalendar.com
SUMMARY:One Knight Stand featuring Kirk Brock
DESCRIPTION:Join us every Friday at Clancy’s Restaurant and Bar for One Knight Stand featuring Kirk Brock
URL:https://heartlandlakescommunitycalendar.com/index.php/event/one-knight-stand-featuring-kirk-brock/2027-02-05/
LOCATION:Clancy’s – Vacationaire\, 26333 Icon Dr\, Park Rapids\, 56470\, United States
CATEGORIES:Music
ATTACH;FMTTYPE=image/jpeg:https://heartlandlakescommunitycalendar.com/wp-content/uploads/2026/01/KirkBrock2019FridayNights.jpg
END:VEVENT
BEGIN:VEVENT
DTSTART;TZID=UTC:20270205T190000
DTEND;TZID=UTC:20270205T230000
DTSTAMP:20260424T101814
CREATED:20250129T002340Z
LAST-MODIFIED:20250129T002340Z
UID:10007577-1801854000-1801868400@heartlandlakescommunitycalendar.com
SUMMARY:Karaoke
DESCRIPTION:Step into the spotlight and sing your heart out at Karaoke Night! Whether you’re a seasoned performer or just love belting out your favorite tunes\, this is your chance to shine. Bring your friends\, pick your favorite songs\, and let the good vibes flow. With a lively atmosphere\, plenty of laughs\, and a playlist packed with hits\, it’s guaranteed to be a night to remember. 🎵 No experience required—just a love for music and fun! \n 
URL:https://heartlandlakescommunitycalendar.com/index.php/event/karaoke/2027-02-05/
LOCATION:Park Rapids American Legion\, 900 1st St E\, Park Rapids\, MN\, 56470\, United States
CATEGORIES:Music,Social
ATTACH;FMTTYPE=image/png:https://heartlandlakescommunitycalendar.com/wp-content/uploads/2025/01/karaoke-night.png
ORGANIZER;CN="Park Rapids American Legion":MAILTO:barmanagerpost212@arvig.net
END:VEVENT
BEGIN:VEVENT
DTSTART;TZID=America/New_York:20270211T170000
DTEND;TZID=America/New_York:20270211T200000
DTSTAMP:20260424T101814
CREATED:20260105T151445Z
LAST-MODIFIED:20260105T151509Z
UID:10011122-1802365200-1802376000@heartlandlakescommunitycalendar.com
SUMMARY:Live Music with Don Holmen
DESCRIPTION:Join us for live music with Don Holmen every Thursday night at 218 Venture Bar and Eatery
URL:https://heartlandlakescommunitycalendar.com/index.php/event/live-music-with-don-holmen/2027-02-11/
LOCATION:218 Venture Bar and Eatery\, 20456 MN-226\, Park Rapids\, MN\, 56470\, United States
CATEGORIES:Music
ATTACH;FMTTYPE=image/jpeg:https://heartlandlakescommunitycalendar.com/wp-content/uploads/2026/01/donholmenthursday.jpg
ORGANIZER;CN="218 Venture Bar and Eatery":MAILTO:218venture@gmail.com
END:VEVENT
BEGIN:VEVENT
DTSTART;TZID=America/New_York:20270212T183000
DTEND;TZID=America/New_York:20270212T213000
DTSTAMP:20260424T101815
CREATED:20260105T151741Z
LAST-MODIFIED:20260105T151741Z
UID:10011383-1802457000-1802467800@heartlandlakescommunitycalendar.com
SUMMARY:One Knight Stand featuring Kirk Brock
DESCRIPTION:Join us every Friday at Clancy’s Restaurant and Bar for One Knight Stand featuring Kirk Brock
URL:https://heartlandlakescommunitycalendar.com/index.php/event/one-knight-stand-featuring-kirk-brock/2027-02-12/
LOCATION:Clancy’s – Vacationaire\, 26333 Icon Dr\, Park Rapids\, 56470\, United States
CATEGORIES:Music
ATTACH;FMTTYPE=image/jpeg:https://heartlandlakescommunitycalendar.com/wp-content/uploads/2026/01/KirkBrock2019FridayNights.jpg
END:VEVENT
BEGIN:VEVENT
DTSTART;TZID=UTC:20270212T190000
DTEND;TZID=UTC:20270212T230000
DTSTAMP:20260424T101815
CREATED:20250129T002340Z
LAST-MODIFIED:20250129T002340Z
UID:10007578-1802458800-1802473200@heartlandlakescommunitycalendar.com
SUMMARY:Karaoke
DESCRIPTION:Step into the spotlight and sing your heart out at Karaoke Night! Whether you’re a seasoned performer or just love belting out your favorite tunes\, this is your chance to shine. Bring your friends\, pick your favorite songs\, and let the good vibes flow. With a lively atmosphere\, plenty of laughs\, and a playlist packed with hits\, it’s guaranteed to be a night to remember. 🎵 No experience required—just a love for music and fun! \n 
URL:https://heartlandlakescommunitycalendar.com/index.php/event/karaoke/2027-02-12/
LOCATION:Park Rapids American Legion\, 900 1st St E\, Park Rapids\, MN\, 56470\, United States
CATEGORIES:Music,Social
ATTACH;FMTTYPE=image/png:https://heartlandlakescommunitycalendar.com/wp-content/uploads/2025/01/karaoke-night.png
ORGANIZER;CN="Park Rapids American Legion":MAILTO:barmanagerpost212@arvig.net
END:VEVENT
BEGIN:VEVENT
DTSTART;TZID=America/New_York:20270218T170000
DTEND;TZID=America/New_York:20270218T200000
DTSTAMP:20260424T101815
CREATED:20260105T151445Z
LAST-MODIFIED:20260105T151509Z
UID:10011123-1802970000-1802980800@heartlandlakescommunitycalendar.com
SUMMARY:Live Music with Don Holmen
DESCRIPTION:Join us for live music with Don Holmen every Thursday night at 218 Venture Bar and Eatery
URL:https://heartlandlakescommunitycalendar.com/index.php/event/live-music-with-don-holmen/2027-02-18/
LOCATION:218 Venture Bar and Eatery\, 20456 MN-226\, Park Rapids\, MN\, 56470\, United States
CATEGORIES:Music
ATTACH;FMTTYPE=image/jpeg:https://heartlandlakescommunitycalendar.com/wp-content/uploads/2026/01/donholmenthursday.jpg
ORGANIZER;CN="218 Venture Bar and Eatery":MAILTO:218venture@gmail.com
END:VEVENT
BEGIN:VEVENT
DTSTART;TZID=America/New_York:20270219T183000
DTEND;TZID=America/New_York:20270219T213000
DTSTAMP:20260424T101815
CREATED:20260105T151741Z
LAST-MODIFIED:20260105T151741Z
UID:10011384-1803061800-1803072600@heartlandlakescommunitycalendar.com
SUMMARY:One Knight Stand featuring Kirk Brock
DESCRIPTION:Join us every Friday at Clancy’s Restaurant and Bar for One Knight Stand featuring Kirk Brock
URL:https://heartlandlakescommunitycalendar.com/index.php/event/one-knight-stand-featuring-kirk-brock/2027-02-19/
LOCATION:Clancy’s – Vacationaire\, 26333 Icon Dr\, Park Rapids\, 56470\, United States
CATEGORIES:Music
ATTACH;FMTTYPE=image/jpeg:https://heartlandlakescommunitycalendar.com/wp-content/uploads/2026/01/KirkBrock2019FridayNights.jpg
END:VEVENT
BEGIN:VEVENT
DTSTART;TZID=UTC:20270219T190000
DTEND;TZID=UTC:20270219T230000
DTSTAMP:20260424T101815
CREATED:20250129T002340Z
LAST-MODIFIED:20250129T002340Z
UID:10007579-1803063600-1803078000@heartlandlakescommunitycalendar.com
SUMMARY:Karaoke
DESCRIPTION:Step into the spotlight and sing your heart out at Karaoke Night! Whether you’re a seasoned performer or just love belting out your favorite tunes\, this is your chance to shine. Bring your friends\, pick your favorite songs\, and let the good vibes flow. With a lively atmosphere\, plenty of laughs\, and a playlist packed with hits\, it’s guaranteed to be a night to remember. 🎵 No experience required—just a love for music and fun! \n 
URL:https://heartlandlakescommunitycalendar.com/index.php/event/karaoke/2027-02-19/
LOCATION:Park Rapids American Legion\, 900 1st St E\, Park Rapids\, MN\, 56470\, United States
CATEGORIES:Music,Social
ATTACH;FMTTYPE=image/png:https://heartlandlakescommunitycalendar.com/wp-content/uploads/2025/01/karaoke-night.png
ORGANIZER;CN="Park Rapids American Legion":MAILTO:barmanagerpost212@arvig.net
END:VEVENT
BEGIN:VEVENT
DTSTART;TZID=America/New_York:20270225T170000
DTEND;TZID=America/New_York:20270225T200000
DTSTAMP:20260424T101815
CREATED:20260105T151445Z
LAST-MODIFIED:20260105T151509Z
UID:10011124-1803574800-1803585600@heartlandlakescommunitycalendar.com
SUMMARY:Live Music with Don Holmen
DESCRIPTION:Join us for live music with Don Holmen every Thursday night at 218 Venture Bar and Eatery
URL:https://heartlandlakescommunitycalendar.com/index.php/event/live-music-with-don-holmen/2027-02-25/
LOCATION:218 Venture Bar and Eatery\, 20456 MN-226\, Park Rapids\, MN\, 56470\, United States
CATEGORIES:Music
ATTACH;FMTTYPE=image/jpeg:https://heartlandlakescommunitycalendar.com/wp-content/uploads/2026/01/donholmenthursday.jpg
ORGANIZER;CN="218 Venture Bar and Eatery":MAILTO:218venture@gmail.com
END:VEVENT
BEGIN:VEVENT
DTSTART;TZID=America/New_York:20270226T183000
DTEND;TZID=America/New_York:20270226T213000
DTSTAMP:20260424T101815
CREATED:20260105T151741Z
LAST-MODIFIED:20260105T151741Z
UID:10011385-1803666600-1803677400@heartlandlakescommunitycalendar.com
SUMMARY:One Knight Stand featuring Kirk Brock
DESCRIPTION:Join us every Friday at Clancy’s Restaurant and Bar for One Knight Stand featuring Kirk Brock
URL:https://heartlandlakescommunitycalendar.com/index.php/event/one-knight-stand-featuring-kirk-brock/2027-02-26/
LOCATION:Clancy’s – Vacationaire\, 26333 Icon Dr\, Park Rapids\, 56470\, United States
CATEGORIES:Music
ATTACH;FMTTYPE=image/jpeg:https://heartlandlakescommunitycalendar.com/wp-content/uploads/2026/01/KirkBrock2019FridayNights.jpg
END:VEVENT
BEGIN:VEVENT
DTSTART;TZID=UTC:20270226T190000
DTEND;TZID=UTC:20270226T230000
DTSTAMP:20260424T101815
CREATED:20250129T002340Z
LAST-MODIFIED:20250129T002340Z
UID:10007580-1803668400-1803682800@heartlandlakescommunitycalendar.com
SUMMARY:Karaoke
DESCRIPTION:Step into the spotlight and sing your heart out at Karaoke Night! Whether you’re a seasoned performer or just love belting out your favorite tunes\, this is your chance to shine. Bring your friends\, pick your favorite songs\, and let the good vibes flow. With a lively atmosphere\, plenty of laughs\, and a playlist packed with hits\, it’s guaranteed to be a night to remember. 🎵 No experience required—just a love for music and fun! \n 
URL:https://heartlandlakescommunitycalendar.com/index.php/event/karaoke/2027-02-26/
LOCATION:Park Rapids American Legion\, 900 1st St E\, Park Rapids\, MN\, 56470\, United States
CATEGORIES:Music,Social
ATTACH;FMTTYPE=image/png:https://heartlandlakescommunitycalendar.com/wp-content/uploads/2025/01/karaoke-night.png
ORGANIZER;CN="Park Rapids American Legion":MAILTO:barmanagerpost212@arvig.net
END:VEVENT
BEGIN:VEVENT
DTSTART;TZID=America/New_York:20270304T170000
DTEND;TZID=America/New_York:20270304T200000
DTSTAMP:20260424T101815
CREATED:20260105T151445Z
LAST-MODIFIED:20260105T151509Z
UID:10011125-1804179600-1804190400@heartlandlakescommunitycalendar.com
SUMMARY:Live Music with Don Holmen
DESCRIPTION:Join us for live music with Don Holmen every Thursday night at 218 Venture Bar and Eatery
URL:https://heartlandlakescommunitycalendar.com/index.php/event/live-music-with-don-holmen/2027-03-04/
LOCATION:218 Venture Bar and Eatery\, 20456 MN-226\, Park Rapids\, MN\, 56470\, United States
CATEGORIES:Music
ATTACH;FMTTYPE=image/jpeg:https://heartlandlakescommunitycalendar.com/wp-content/uploads/2026/01/donholmenthursday.jpg
ORGANIZER;CN="218 Venture Bar and Eatery":MAILTO:218venture@gmail.com
END:VEVENT
BEGIN:VEVENT
DTSTART;TZID=America/New_York:20270305T183000
DTEND;TZID=America/New_York:20270305T213000
DTSTAMP:20260424T101815
CREATED:20260105T151741Z
LAST-MODIFIED:20260105T151741Z
UID:10011386-1804271400-1804282200@heartlandlakescommunitycalendar.com
SUMMARY:One Knight Stand featuring Kirk Brock
DESCRIPTION:Join us every Friday at Clancy’s Restaurant and Bar for One Knight Stand featuring Kirk Brock
URL:https://heartlandlakescommunitycalendar.com/index.php/event/one-knight-stand-featuring-kirk-brock/2027-03-05/
LOCATION:Clancy’s – Vacationaire\, 26333 Icon Dr\, Park Rapids\, 56470\, United States
CATEGORIES:Music
ATTACH;FMTTYPE=image/jpeg:https://heartlandlakescommunitycalendar.com/wp-content/uploads/2026/01/KirkBrock2019FridayNights.jpg
END:VEVENT
BEGIN:VEVENT
DTSTART;TZID=UTC:20270305T190000
DTEND;TZID=UTC:20270305T230000
DTSTAMP:20260424T101815
CREATED:20250129T002340Z
LAST-MODIFIED:20250129T002340Z
UID:10007581-1804273200-1804287600@heartlandlakescommunitycalendar.com
SUMMARY:Karaoke
DESCRIPTION:Step into the spotlight and sing your heart out at Karaoke Night! Whether you’re a seasoned performer or just love belting out your favorite tunes\, this is your chance to shine. Bring your friends\, pick your favorite songs\, and let the good vibes flow. With a lively atmosphere\, plenty of laughs\, and a playlist packed with hits\, it’s guaranteed to be a night to remember. 🎵 No experience required—just a love for music and fun! \n 
URL:https://heartlandlakescommunitycalendar.com/index.php/event/karaoke/2027-03-05/
LOCATION:Park Rapids American Legion\, 900 1st St E\, Park Rapids\, MN\, 56470\, United States
CATEGORIES:Music,Social
ATTACH;FMTTYPE=image/png:https://heartlandlakescommunitycalendar.com/wp-content/uploads/2025/01/karaoke-night.png
ORGANIZER;CN="Park Rapids American Legion":MAILTO:barmanagerpost212@arvig.net
END:VEVENT
BEGIN:VEVENT
DTSTART;TZID=America/New_York:20270311T170000
DTEND;TZID=America/New_York:20270311T200000
DTSTAMP:20260424T101815
CREATED:20260105T151445Z
LAST-MODIFIED:20260105T151509Z
UID:10011126-1804784400-1804795200@heartlandlakescommunitycalendar.com
SUMMARY:Live Music with Don Holmen
DESCRIPTION:Join us for live music with Don Holmen every Thursday night at 218 Venture Bar and Eatery
URL:https://heartlandlakescommunitycalendar.com/index.php/event/live-music-with-don-holmen/2027-03-11/
LOCATION:218 Venture Bar and Eatery\, 20456 MN-226\, Park Rapids\, MN\, 56470\, United States
CATEGORIES:Music
ATTACH;FMTTYPE=image/jpeg:https://heartlandlakescommunitycalendar.com/wp-content/uploads/2026/01/donholmenthursday.jpg
ORGANIZER;CN="218 Venture Bar and Eatery":MAILTO:218venture@gmail.com
END:VEVENT
BEGIN:VEVENT
DTSTART;TZID=America/New_York:20270312T183000
DTEND;TZID=America/New_York:20270312T213000
DTSTAMP:20260424T101815
CREATED:20260105T151741Z
LAST-MODIFIED:20260105T151741Z
UID:10011387-1804876200-1804887000@heartlandlakescommunitycalendar.com
SUMMARY:One Knight Stand featuring Kirk Brock
DESCRIPTION:Join us every Friday at Clancy’s Restaurant and Bar for One Knight Stand featuring Kirk Brock
URL:https://heartlandlakescommunitycalendar.com/index.php/event/one-knight-stand-featuring-kirk-brock/2027-03-12/
LOCATION:Clancy’s – Vacationaire\, 26333 Icon Dr\, Park Rapids\, 56470\, United States
CATEGORIES:Music
ATTACH;FMTTYPE=image/jpeg:https://heartlandlakescommunitycalendar.com/wp-content/uploads/2026/01/KirkBrock2019FridayNights.jpg
END:VEVENT
BEGIN:VEVENT
DTSTART;TZID=UTC:20270312T190000
DTEND;TZID=UTC:20270312T230000
DTSTAMP:20260424T101815
CREATED:20250129T002340Z
LAST-MODIFIED:20250129T002340Z
UID:10007582-1804878000-1804892400@heartlandlakescommunitycalendar.com
SUMMARY:Karaoke
DESCRIPTION:Step into the spotlight and sing your heart out at Karaoke Night! Whether you’re a seasoned performer or just love belting out your favorite tunes\, this is your chance to shine. Bring your friends\, pick your favorite songs\, and let the good vibes flow. With a lively atmosphere\, plenty of laughs\, and a playlist packed with hits\, it’s guaranteed to be a night to remember. 🎵 No experience required—just a love for music and fun! \n 
URL:https://heartlandlakescommunitycalendar.com/index.php/event/karaoke/2027-03-12/
LOCATION:Park Rapids American Legion\, 900 1st St E\, Park Rapids\, MN\, 56470\, United States
CATEGORIES:Music,Social
ATTACH;FMTTYPE=image/png:https://heartlandlakescommunitycalendar.com/wp-content/uploads/2025/01/karaoke-night.png
ORGANIZER;CN="Park Rapids American Legion":MAILTO:barmanagerpost212@arvig.net
END:VEVENT
BEGIN:VEVENT
DTSTART;TZID=America/New_York:20270318T170000
DTEND;TZID=America/New_York:20270318T200000
DTSTAMP:20260424T101815
CREATED:20260105T151445Z
LAST-MODIFIED:20260105T151509Z
UID:10011127-1805389200-1805400000@heartlandlakescommunitycalendar.com
SUMMARY:Live Music with Don Holmen
DESCRIPTION:Join us for live music with Don Holmen every Thursday night at 218 Venture Bar and Eatery
URL:https://heartlandlakescommunitycalendar.com/index.php/event/live-music-with-don-holmen/2027-03-18/
LOCATION:218 Venture Bar and Eatery\, 20456 MN-226\, Park Rapids\, MN\, 56470\, United States
CATEGORIES:Music
ATTACH;FMTTYPE=image/jpeg:https://heartlandlakescommunitycalendar.com/wp-content/uploads/2026/01/donholmenthursday.jpg
ORGANIZER;CN="218 Venture Bar and Eatery":MAILTO:218venture@gmail.com
END:VEVENT
BEGIN:VEVENT
DTSTART;TZID=America/New_York:20270319T183000
DTEND;TZID=America/New_York:20270319T213000
DTSTAMP:20260424T101815
CREATED:20260105T151741Z
LAST-MODIFIED:20260105T151741Z
UID:10011388-1805481000-1805491800@heartlandlakescommunitycalendar.com
SUMMARY:One Knight Stand featuring Kirk Brock
DESCRIPTION:Join us every Friday at Clancy’s Restaurant and Bar for One Knight Stand featuring Kirk Brock
URL:https://heartlandlakescommunitycalendar.com/index.php/event/one-knight-stand-featuring-kirk-brock/2027-03-19/
LOCATION:Clancy’s – Vacationaire\, 26333 Icon Dr\, Park Rapids\, 56470\, United States
CATEGORIES:Music
ATTACH;FMTTYPE=image/jpeg:https://heartlandlakescommunitycalendar.com/wp-content/uploads/2026/01/KirkBrock2019FridayNights.jpg
END:VEVENT
BEGIN:VEVENT
DTSTART;TZID=UTC:20270319T190000
DTEND;TZID=UTC:20270319T230000
DTSTAMP:20260424T101815
CREATED:20250129T002340Z
LAST-MODIFIED:20250129T002340Z
UID:10007583-1805482800-1805497200@heartlandlakescommunitycalendar.com
SUMMARY:Karaoke
DESCRIPTION:Step into the spotlight and sing your heart out at Karaoke Night! Whether you’re a seasoned performer or just love belting out your favorite tunes\, this is your chance to shine. Bring your friends\, pick your favorite songs\, and let the good vibes flow. With a lively atmosphere\, plenty of laughs\, and a playlist packed with hits\, it’s guaranteed to be a night to remember. 🎵 No experience required—just a love for music and fun! \n 
URL:https://heartlandlakescommunitycalendar.com/index.php/event/karaoke/2027-03-19/
LOCATION:Park Rapids American Legion\, 900 1st St E\, Park Rapids\, MN\, 56470\, United States
CATEGORIES:Music,Social
ATTACH;FMTTYPE=image/png:https://heartlandlakescommunitycalendar.com/wp-content/uploads/2025/01/karaoke-night.png
ORGANIZER;CN="Park Rapids American Legion":MAILTO:barmanagerpost212@arvig.net
END:VEVENT
BEGIN:VEVENT
DTSTART;TZID=America/New_York:20270325T170000
DTEND;TZID=America/New_York:20270325T200000
DTSTAMP:20260424T101815
CREATED:20260105T151445Z
LAST-MODIFIED:20260105T151509Z
UID:10011128-1805994000-1806004800@heartlandlakescommunitycalendar.com
SUMMARY:Live Music with Don Holmen
DESCRIPTION:Join us for live music with Don Holmen every Thursday night at 218 Venture Bar and Eatery
URL:https://heartlandlakescommunitycalendar.com/index.php/event/live-music-with-don-holmen/2027-03-25/
LOCATION:218 Venture Bar and Eatery\, 20456 MN-226\, Park Rapids\, MN\, 56470\, United States
CATEGORIES:Music
ATTACH;FMTTYPE=image/jpeg:https://heartlandlakescommunitycalendar.com/wp-content/uploads/2026/01/donholmenthursday.jpg
ORGANIZER;CN="218 Venture Bar and Eatery":MAILTO:218venture@gmail.com
END:VEVENT
BEGIN:VEVENT
DTSTART;TZID=America/New_York:20270326T183000
DTEND;TZID=America/New_York:20270326T213000
DTSTAMP:20260424T101815
CREATED:20260105T151741Z
LAST-MODIFIED:20260105T151741Z
UID:10011389-1806085800-1806096600@heartlandlakescommunitycalendar.com
SUMMARY:One Knight Stand featuring Kirk Brock
DESCRIPTION:Join us every Friday at Clancy’s Restaurant and Bar for One Knight Stand featuring Kirk Brock
URL:https://heartlandlakescommunitycalendar.com/index.php/event/one-knight-stand-featuring-kirk-brock/2027-03-26/
LOCATION:Clancy’s – Vacationaire\, 26333 Icon Dr\, Park Rapids\, 56470\, United States
CATEGORIES:Music
ATTACH;FMTTYPE=image/jpeg:https://heartlandlakescommunitycalendar.com/wp-content/uploads/2026/01/KirkBrock2019FridayNights.jpg
END:VEVENT
BEGIN:VEVENT
DTSTART;TZID=UTC:20270326T190000
DTEND;TZID=UTC:20270326T230000
DTSTAMP:20260424T101815
CREATED:20250129T002340Z
LAST-MODIFIED:20250129T002340Z
UID:10007584-1806087600-1806102000@heartlandlakescommunitycalendar.com
SUMMARY:Karaoke
DESCRIPTION:Step into the spotlight and sing your heart out at Karaoke Night! Whether you’re a seasoned performer or just love belting out your favorite tunes\, this is your chance to shine. Bring your friends\, pick your favorite songs\, and let the good vibes flow. With a lively atmosphere\, plenty of laughs\, and a playlist packed with hits\, it’s guaranteed to be a night to remember. 🎵 No experience required—just a love for music and fun! \n 
URL:https://heartlandlakescommunitycalendar.com/index.php/event/karaoke/2027-03-26/
LOCATION:Park Rapids American Legion\, 900 1st St E\, Park Rapids\, MN\, 56470\, United States
CATEGORIES:Music,Social
ATTACH;FMTTYPE=image/png:https://heartlandlakescommunitycalendar.com/wp-content/uploads/2025/01/karaoke-night.png
ORGANIZER;CN="Park Rapids American Legion":MAILTO:barmanagerpost212@arvig.net
END:VEVENT
BEGIN:VEVENT
DTSTART;TZID=America/New_York:20270401T170000
DTEND;TZID=America/New_York:20270401T200000
DTSTAMP:20260424T101815
CREATED:20260105T151445Z
LAST-MODIFIED:20260105T151509Z
UID:10011129-1806598800-1806609600@heartlandlakescommunitycalendar.com
SUMMARY:Live Music with Don Holmen
DESCRIPTION:Join us for live music with Don Holmen every Thursday night at 218 Venture Bar and Eatery
URL:https://heartlandlakescommunitycalendar.com/index.php/event/live-music-with-don-holmen/2027-04-01/
LOCATION:218 Venture Bar and Eatery\, 20456 MN-226\, Park Rapids\, MN\, 56470\, United States
CATEGORIES:Music
ATTACH;FMTTYPE=image/jpeg:https://heartlandlakescommunitycalendar.com/wp-content/uploads/2026/01/donholmenthursday.jpg
ORGANIZER;CN="218 Venture Bar and Eatery":MAILTO:218venture@gmail.com
END:VEVENT
BEGIN:VEVENT
DTSTART;TZID=America/New_York:20270402T183000
DTEND;TZID=America/New_York:20270402T213000
DTSTAMP:20260424T101815
CREATED:20260105T151741Z
LAST-MODIFIED:20260105T151741Z
UID:10011390-1806690600-1806701400@heartlandlakescommunitycalendar.com
SUMMARY:One Knight Stand featuring Kirk Brock
DESCRIPTION:Join us every Friday at Clancy’s Restaurant and Bar for One Knight Stand featuring Kirk Brock
URL:https://heartlandlakescommunitycalendar.com/index.php/event/one-knight-stand-featuring-kirk-brock/2027-04-02/
LOCATION:Clancy’s – Vacationaire\, 26333 Icon Dr\, Park Rapids\, 56470\, United States
CATEGORIES:Music
ATTACH;FMTTYPE=image/jpeg:https://heartlandlakescommunitycalendar.com/wp-content/uploads/2026/01/KirkBrock2019FridayNights.jpg
END:VEVENT
BEGIN:VEVENT
DTSTART;TZID=UTC:20270402T190000
DTEND;TZID=UTC:20270402T230000
DTSTAMP:20260424T101815
CREATED:20250129T002340Z
LAST-MODIFIED:20250129T002340Z
UID:10007585-1806692400-1806706800@heartlandlakescommunitycalendar.com
SUMMARY:Karaoke
DESCRIPTION:Step into the spotlight and sing your heart out at Karaoke Night! Whether you’re a seasoned performer or just love belting out your favorite tunes\, this is your chance to shine. Bring your friends\, pick your favorite songs\, and let the good vibes flow. With a lively atmosphere\, plenty of laughs\, and a playlist packed with hits\, it’s guaranteed to be a night to remember. 🎵 No experience required—just a love for music and fun! \n 
URL:https://heartlandlakescommunitycalendar.com/index.php/event/karaoke/2027-04-02/
LOCATION:Park Rapids American Legion\, 900 1st St E\, Park Rapids\, MN\, 56470\, United States
CATEGORIES:Music,Social
ATTACH;FMTTYPE=image/png:https://heartlandlakescommunitycalendar.com/wp-content/uploads/2025/01/karaoke-night.png
ORGANIZER;CN="Park Rapids American Legion":MAILTO:barmanagerpost212@arvig.net
END:VEVENT
END:VCALENDAR