BEGIN:VCALENDAR
VERSION:2.0
PRODID:-//The Heartland Lakes Community Calendar - ECPv6.3.7//NONSGML v1.0//EN
CALSCALE:GREGORIAN
METHOD:PUBLISH
X-WR-CALNAME:The Heartland Lakes Community Calendar
X-ORIGINAL-URL:https://heartlandlakescommunitycalendar.com
X-WR-CALDESC:Events for The Heartland Lakes Community Calendar
REFRESH-INTERVAL;VALUE=DURATION:PT1H
X-Robots-Tag:noindex
X-PUBLISHED-TTL:PT1H
BEGIN:VTIMEZONE
TZID:America/New_York
BEGIN:DAYLIGHT
TZOFFSETFROM:-0500
TZOFFSETTO:-0400
TZNAME:EDT
DTSTART:20270314T070000
END:DAYLIGHT
BEGIN:STANDARD
TZOFFSETFROM:-0400
TZOFFSETTO:-0500
TZNAME:EST
DTSTART:20271107T060000
END:STANDARD
TZID:UTC
BEGIN:STANDARD
TZOFFSETFROM:+0000
TZOFFSETTO:+0000
TZNAME:UTC
DTSTART:20270101T000000
END:STANDARD
END:VTIMEZONE
BEGIN:VEVENT
DTSTART;TZID=America/New_York:20270422T170000
DTEND;TZID=America/New_York:20270422T200000
DTSTAMP:20260424T083543
CREATED:20260105T151445Z
LAST-MODIFIED:20260105T151509Z
UID:10011132-1808413200-1808424000@heartlandlakescommunitycalendar.com
SUMMARY:Live Music with Don Holmen
DESCRIPTION:Join us for live music with Don Holmen every Thursday night at 218 Venture Bar and Eatery
URL:https://heartlandlakescommunitycalendar.com/index.php/event/live-music-with-don-holmen/2027-04-22/
LOCATION:218 Venture Bar and Eatery\, 20456 MN-226\, Park Rapids\, MN\, 56470\, United States
CATEGORIES:Music
ATTACH;FMTTYPE=image/jpeg:https://heartlandlakescommunitycalendar.com/wp-content/uploads/2026/01/donholmenthursday.jpg
ORGANIZER;CN="218 Venture Bar and Eatery":MAILTO:218venture@gmail.com
END:VEVENT
BEGIN:VEVENT
DTSTART;TZID=America/New_York:20270423T183000
DTEND;TZID=America/New_York:20270423T213000
DTSTAMP:20260424T083543
CREATED:20260105T151741Z
LAST-MODIFIED:20260105T151741Z
UID:10011393-1808505000-1808515800@heartlandlakescommunitycalendar.com
SUMMARY:One Knight Stand featuring Kirk Brock
DESCRIPTION:Join us every Friday at Clancy’s Restaurant and Bar for One Knight Stand featuring Kirk Brock
URL:https://heartlandlakescommunitycalendar.com/index.php/event/one-knight-stand-featuring-kirk-brock/2027-04-23/
LOCATION:Clancy’s – Vacationaire\, 26333 Icon Dr\, Park Rapids\, 56470\, United States
CATEGORIES:Music
ATTACH;FMTTYPE=image/jpeg:https://heartlandlakescommunitycalendar.com/wp-content/uploads/2026/01/KirkBrock2019FridayNights.jpg
END:VEVENT
BEGIN:VEVENT
DTSTART;TZID=UTC:20270423T190000
DTEND;TZID=UTC:20270423T230000
DTSTAMP:20260424T083543
CREATED:20250129T002340Z
LAST-MODIFIED:20250129T002340Z
UID:10007588-1808506800-1808521200@heartlandlakescommunitycalendar.com
SUMMARY:Karaoke
DESCRIPTION:Step into the spotlight and sing your heart out at Karaoke Night! Whether you’re a seasoned performer or just love belting out your favorite tunes\, this is your chance to shine. Bring your friends\, pick your favorite songs\, and let the good vibes flow. With a lively atmosphere\, plenty of laughs\, and a playlist packed with hits\, it’s guaranteed to be a night to remember. 🎵 No experience required—just a love for music and fun! \n 
URL:https://heartlandlakescommunitycalendar.com/index.php/event/karaoke/2027-04-23/
LOCATION:Park Rapids American Legion\, 900 1st St E\, Park Rapids\, MN\, 56470\, United States
CATEGORIES:Music,Social
ATTACH;FMTTYPE=image/png:https://heartlandlakescommunitycalendar.com/wp-content/uploads/2025/01/karaoke-night.png
ORGANIZER;CN="Park Rapids American Legion":MAILTO:barmanagerpost212@arvig.net
END:VEVENT
BEGIN:VEVENT
DTSTART;TZID=America/New_York:20270429T170000
DTEND;TZID=America/New_York:20270429T200000
DTSTAMP:20260424T083543
CREATED:20260105T151445Z
LAST-MODIFIED:20260105T151509Z
UID:10011133-1809018000-1809028800@heartlandlakescommunitycalendar.com
SUMMARY:Live Music with Don Holmen
DESCRIPTION:Join us for live music with Don Holmen every Thursday night at 218 Venture Bar and Eatery
URL:https://heartlandlakescommunitycalendar.com/index.php/event/live-music-with-don-holmen/2027-04-29/
LOCATION:218 Venture Bar and Eatery\, 20456 MN-226\, Park Rapids\, MN\, 56470\, United States
CATEGORIES:Music
ATTACH;FMTTYPE=image/jpeg:https://heartlandlakescommunitycalendar.com/wp-content/uploads/2026/01/donholmenthursday.jpg
ORGANIZER;CN="218 Venture Bar and Eatery":MAILTO:218venture@gmail.com
END:VEVENT
BEGIN:VEVENT
DTSTART;TZID=America/New_York:20270430T183000
DTEND;TZID=America/New_York:20270430T213000
DTSTAMP:20260424T083543
CREATED:20260105T151741Z
LAST-MODIFIED:20260105T151741Z
UID:10011394-1809109800-1809120600@heartlandlakescommunitycalendar.com
SUMMARY:One Knight Stand featuring Kirk Brock
DESCRIPTION:Join us every Friday at Clancy’s Restaurant and Bar for One Knight Stand featuring Kirk Brock
URL:https://heartlandlakescommunitycalendar.com/index.php/event/one-knight-stand-featuring-kirk-brock/2027-04-30/
LOCATION:Clancy’s – Vacationaire\, 26333 Icon Dr\, Park Rapids\, 56470\, United States
CATEGORIES:Music
ATTACH;FMTTYPE=image/jpeg:https://heartlandlakescommunitycalendar.com/wp-content/uploads/2026/01/KirkBrock2019FridayNights.jpg
END:VEVENT
BEGIN:VEVENT
DTSTART;TZID=UTC:20270430T190000
DTEND;TZID=UTC:20270430T230000
DTSTAMP:20260424T083543
CREATED:20250129T002340Z
LAST-MODIFIED:20250129T002340Z
UID:10007589-1809111600-1809126000@heartlandlakescommunitycalendar.com
SUMMARY:Karaoke
DESCRIPTION:Step into the spotlight and sing your heart out at Karaoke Night! Whether you’re a seasoned performer or just love belting out your favorite tunes\, this is your chance to shine. Bring your friends\, pick your favorite songs\, and let the good vibes flow. With a lively atmosphere\, plenty of laughs\, and a playlist packed with hits\, it’s guaranteed to be a night to remember. 🎵 No experience required—just a love for music and fun! \n 
URL:https://heartlandlakescommunitycalendar.com/index.php/event/karaoke/2027-04-30/
LOCATION:Park Rapids American Legion\, 900 1st St E\, Park Rapids\, MN\, 56470\, United States
CATEGORIES:Music,Social
ATTACH;FMTTYPE=image/png:https://heartlandlakescommunitycalendar.com/wp-content/uploads/2025/01/karaoke-night.png
ORGANIZER;CN="Park Rapids American Legion":MAILTO:barmanagerpost212@arvig.net
END:VEVENT
BEGIN:VEVENT
DTSTART;TZID=America/New_York:20270506T170000
DTEND;TZID=America/New_York:20270506T200000
DTSTAMP:20260424T083543
CREATED:20260105T151445Z
LAST-MODIFIED:20260105T151509Z
UID:10011134-1809622800-1809633600@heartlandlakescommunitycalendar.com
SUMMARY:Live Music with Don Holmen
DESCRIPTION:Join us for live music with Don Holmen every Thursday night at 218 Venture Bar and Eatery
URL:https://heartlandlakescommunitycalendar.com/index.php/event/live-music-with-don-holmen/2027-05-06/
LOCATION:218 Venture Bar and Eatery\, 20456 MN-226\, Park Rapids\, MN\, 56470\, United States
CATEGORIES:Music
ATTACH;FMTTYPE=image/jpeg:https://heartlandlakescommunitycalendar.com/wp-content/uploads/2026/01/donholmenthursday.jpg
ORGANIZER;CN="218 Venture Bar and Eatery":MAILTO:218venture@gmail.com
END:VEVENT
BEGIN:VEVENT
DTSTART;TZID=America/New_York:20270507T183000
DTEND;TZID=America/New_York:20270507T213000
DTSTAMP:20260424T083543
CREATED:20260105T151741Z
LAST-MODIFIED:20260105T151741Z
UID:10011395-1809714600-1809725400@heartlandlakescommunitycalendar.com
SUMMARY:One Knight Stand featuring Kirk Brock
DESCRIPTION:Join us every Friday at Clancy’s Restaurant and Bar for One Knight Stand featuring Kirk Brock
URL:https://heartlandlakescommunitycalendar.com/index.php/event/one-knight-stand-featuring-kirk-brock/2027-05-07/
LOCATION:Clancy’s – Vacationaire\, 26333 Icon Dr\, Park Rapids\, 56470\, United States
CATEGORIES:Music
ATTACH;FMTTYPE=image/jpeg:https://heartlandlakescommunitycalendar.com/wp-content/uploads/2026/01/KirkBrock2019FridayNights.jpg
END:VEVENT
BEGIN:VEVENT
DTSTART;TZID=UTC:20270507T190000
DTEND;TZID=UTC:20270507T230000
DTSTAMP:20260424T083543
CREATED:20250129T002340Z
LAST-MODIFIED:20250129T002340Z
UID:10007590-1809716400-1809730800@heartlandlakescommunitycalendar.com
SUMMARY:Karaoke
DESCRIPTION:Step into the spotlight and sing your heart out at Karaoke Night! Whether you’re a seasoned performer or just love belting out your favorite tunes\, this is your chance to shine. Bring your friends\, pick your favorite songs\, and let the good vibes flow. With a lively atmosphere\, plenty of laughs\, and a playlist packed with hits\, it’s guaranteed to be a night to remember. 🎵 No experience required—just a love for music and fun! \n 
URL:https://heartlandlakescommunitycalendar.com/index.php/event/karaoke/2027-05-07/
LOCATION:Park Rapids American Legion\, 900 1st St E\, Park Rapids\, MN\, 56470\, United States
CATEGORIES:Music,Social
ATTACH;FMTTYPE=image/png:https://heartlandlakescommunitycalendar.com/wp-content/uploads/2025/01/karaoke-night.png
ORGANIZER;CN="Park Rapids American Legion":MAILTO:barmanagerpost212@arvig.net
END:VEVENT
BEGIN:VEVENT
DTSTART;TZID=America/New_York:20270513T170000
DTEND;TZID=America/New_York:20270513T200000
DTSTAMP:20260424T083543
CREATED:20260105T151445Z
LAST-MODIFIED:20260105T151509Z
UID:10011135-1810227600-1810238400@heartlandlakescommunitycalendar.com
SUMMARY:Live Music with Don Holmen
DESCRIPTION:Join us for live music with Don Holmen every Thursday night at 218 Venture Bar and Eatery
URL:https://heartlandlakescommunitycalendar.com/index.php/event/live-music-with-don-holmen/2027-05-13/
LOCATION:218 Venture Bar and Eatery\, 20456 MN-226\, Park Rapids\, MN\, 56470\, United States
CATEGORIES:Music
ATTACH;FMTTYPE=image/jpeg:https://heartlandlakescommunitycalendar.com/wp-content/uploads/2026/01/donholmenthursday.jpg
ORGANIZER;CN="218 Venture Bar and Eatery":MAILTO:218venture@gmail.com
END:VEVENT
BEGIN:VEVENT
DTSTART;TZID=America/New_York:20270514T183000
DTEND;TZID=America/New_York:20270514T213000
DTSTAMP:20260424T083543
CREATED:20260105T151741Z
LAST-MODIFIED:20260105T151741Z
UID:10011396-1810319400-1810330200@heartlandlakescommunitycalendar.com
SUMMARY:One Knight Stand featuring Kirk Brock
DESCRIPTION:Join us every Friday at Clancy’s Restaurant and Bar for One Knight Stand featuring Kirk Brock
URL:https://heartlandlakescommunitycalendar.com/index.php/event/one-knight-stand-featuring-kirk-brock/2027-05-14/
LOCATION:Clancy’s – Vacationaire\, 26333 Icon Dr\, Park Rapids\, 56470\, United States
CATEGORIES:Music
ATTACH;FMTTYPE=image/jpeg:https://heartlandlakescommunitycalendar.com/wp-content/uploads/2026/01/KirkBrock2019FridayNights.jpg
END:VEVENT
BEGIN:VEVENT
DTSTART;TZID=UTC:20270514T190000
DTEND;TZID=UTC:20270514T230000
DTSTAMP:20260424T083543
CREATED:20250129T002340Z
LAST-MODIFIED:20250129T002340Z
UID:10007591-1810321200-1810335600@heartlandlakescommunitycalendar.com
SUMMARY:Karaoke
DESCRIPTION:Step into the spotlight and sing your heart out at Karaoke Night! Whether you’re a seasoned performer or just love belting out your favorite tunes\, this is your chance to shine. Bring your friends\, pick your favorite songs\, and let the good vibes flow. With a lively atmosphere\, plenty of laughs\, and a playlist packed with hits\, it’s guaranteed to be a night to remember. 🎵 No experience required—just a love for music and fun! \n 
URL:https://heartlandlakescommunitycalendar.com/index.php/event/karaoke/2027-05-14/
LOCATION:Park Rapids American Legion\, 900 1st St E\, Park Rapids\, MN\, 56470\, United States
CATEGORIES:Music,Social
ATTACH;FMTTYPE=image/png:https://heartlandlakescommunitycalendar.com/wp-content/uploads/2025/01/karaoke-night.png
ORGANIZER;CN="Park Rapids American Legion":MAILTO:barmanagerpost212@arvig.net
END:VEVENT
BEGIN:VEVENT
DTSTART;TZID=America/New_York:20270520T170000
DTEND;TZID=America/New_York:20270520T200000
DTSTAMP:20260424T083543
CREATED:20260105T151445Z
LAST-MODIFIED:20260105T151509Z
UID:10011136-1810832400-1810843200@heartlandlakescommunitycalendar.com
SUMMARY:Live Music with Don Holmen
DESCRIPTION:Join us for live music with Don Holmen every Thursday night at 218 Venture Bar and Eatery
URL:https://heartlandlakescommunitycalendar.com/index.php/event/live-music-with-don-holmen/2027-05-20/
LOCATION:218 Venture Bar and Eatery\, 20456 MN-226\, Park Rapids\, MN\, 56470\, United States
CATEGORIES:Music
ATTACH;FMTTYPE=image/jpeg:https://heartlandlakescommunitycalendar.com/wp-content/uploads/2026/01/donholmenthursday.jpg
ORGANIZER;CN="218 Venture Bar and Eatery":MAILTO:218venture@gmail.com
END:VEVENT
BEGIN:VEVENT
DTSTART;TZID=America/New_York:20270521T183000
DTEND;TZID=America/New_York:20270521T213000
DTSTAMP:20260424T083543
CREATED:20260105T151741Z
LAST-MODIFIED:20260105T151741Z
UID:10011397-1810924200-1810935000@heartlandlakescommunitycalendar.com
SUMMARY:One Knight Stand featuring Kirk Brock
DESCRIPTION:Join us every Friday at Clancy’s Restaurant and Bar for One Knight Stand featuring Kirk Brock
URL:https://heartlandlakescommunitycalendar.com/index.php/event/one-knight-stand-featuring-kirk-brock/2027-05-21/
LOCATION:Clancy’s – Vacationaire\, 26333 Icon Dr\, Park Rapids\, 56470\, United States
CATEGORIES:Music
ATTACH;FMTTYPE=image/jpeg:https://heartlandlakescommunitycalendar.com/wp-content/uploads/2026/01/KirkBrock2019FridayNights.jpg
END:VEVENT
BEGIN:VEVENT
DTSTART;TZID=UTC:20270521T190000
DTEND;TZID=UTC:20270521T230000
DTSTAMP:20260424T083543
CREATED:20250129T002340Z
LAST-MODIFIED:20250129T002340Z
UID:10007592-1810926000-1810940400@heartlandlakescommunitycalendar.com
SUMMARY:Karaoke
DESCRIPTION:Step into the spotlight and sing your heart out at Karaoke Night! Whether you’re a seasoned performer or just love belting out your favorite tunes\, this is your chance to shine. Bring your friends\, pick your favorite songs\, and let the good vibes flow. With a lively atmosphere\, plenty of laughs\, and a playlist packed with hits\, it’s guaranteed to be a night to remember. 🎵 No experience required—just a love for music and fun! \n 
URL:https://heartlandlakescommunitycalendar.com/index.php/event/karaoke/2027-05-21/
LOCATION:Park Rapids American Legion\, 900 1st St E\, Park Rapids\, MN\, 56470\, United States
CATEGORIES:Music,Social
ATTACH;FMTTYPE=image/png:https://heartlandlakescommunitycalendar.com/wp-content/uploads/2025/01/karaoke-night.png
ORGANIZER;CN="Park Rapids American Legion":MAILTO:barmanagerpost212@arvig.net
END:VEVENT
BEGIN:VEVENT
DTSTART;TZID=America/New_York:20270527T170000
DTEND;TZID=America/New_York:20270527T200000
DTSTAMP:20260424T083543
CREATED:20260105T151445Z
LAST-MODIFIED:20260105T151509Z
UID:10011137-1811437200-1811448000@heartlandlakescommunitycalendar.com
SUMMARY:Live Music with Don Holmen
DESCRIPTION:Join us for live music with Don Holmen every Thursday night at 218 Venture Bar and Eatery
URL:https://heartlandlakescommunitycalendar.com/index.php/event/live-music-with-don-holmen/2027-05-27/
LOCATION:218 Venture Bar and Eatery\, 20456 MN-226\, Park Rapids\, MN\, 56470\, United States
CATEGORIES:Music
ATTACH;FMTTYPE=image/jpeg:https://heartlandlakescommunitycalendar.com/wp-content/uploads/2026/01/donholmenthursday.jpg
ORGANIZER;CN="218 Venture Bar and Eatery":MAILTO:218venture@gmail.com
END:VEVENT
BEGIN:VEVENT
DTSTART;TZID=America/New_York:20270528T183000
DTEND;TZID=America/New_York:20270528T213000
DTSTAMP:20260424T083543
CREATED:20260105T151741Z
LAST-MODIFIED:20260105T151741Z
UID:10011398-1811529000-1811539800@heartlandlakescommunitycalendar.com
SUMMARY:One Knight Stand featuring Kirk Brock
DESCRIPTION:Join us every Friday at Clancy’s Restaurant and Bar for One Knight Stand featuring Kirk Brock
URL:https://heartlandlakescommunitycalendar.com/index.php/event/one-knight-stand-featuring-kirk-brock/2027-05-28/
LOCATION:Clancy’s – Vacationaire\, 26333 Icon Dr\, Park Rapids\, 56470\, United States
CATEGORIES:Music
ATTACH;FMTTYPE=image/jpeg:https://heartlandlakescommunitycalendar.com/wp-content/uploads/2026/01/KirkBrock2019FridayNights.jpg
END:VEVENT
BEGIN:VEVENT
DTSTART;TZID=UTC:20270528T190000
DTEND;TZID=UTC:20270528T230000
DTSTAMP:20260424T083543
CREATED:20250129T002340Z
LAST-MODIFIED:20250129T002340Z
UID:10007593-1811530800-1811545200@heartlandlakescommunitycalendar.com
SUMMARY:Karaoke
DESCRIPTION:Step into the spotlight and sing your heart out at Karaoke Night! Whether you’re a seasoned performer or just love belting out your favorite tunes\, this is your chance to shine. Bring your friends\, pick your favorite songs\, and let the good vibes flow. With a lively atmosphere\, plenty of laughs\, and a playlist packed with hits\, it’s guaranteed to be a night to remember. 🎵 No experience required—just a love for music and fun! \n 
URL:https://heartlandlakescommunitycalendar.com/index.php/event/karaoke/2027-05-28/
LOCATION:Park Rapids American Legion\, 900 1st St E\, Park Rapids\, MN\, 56470\, United States
CATEGORIES:Music,Social
ATTACH;FMTTYPE=image/png:https://heartlandlakescommunitycalendar.com/wp-content/uploads/2025/01/karaoke-night.png
ORGANIZER;CN="Park Rapids American Legion":MAILTO:barmanagerpost212@arvig.net
END:VEVENT
BEGIN:VEVENT
DTSTART;TZID=America/New_York:20270603T170000
DTEND;TZID=America/New_York:20270603T200000
DTSTAMP:20260424T083543
CREATED:20260105T151445Z
LAST-MODIFIED:20260105T151509Z
UID:10011138-1812042000-1812052800@heartlandlakescommunitycalendar.com
SUMMARY:Live Music with Don Holmen
DESCRIPTION:Join us for live music with Don Holmen every Thursday night at 218 Venture Bar and Eatery
URL:https://heartlandlakescommunitycalendar.com/index.php/event/live-music-with-don-holmen/2027-06-03/
LOCATION:218 Venture Bar and Eatery\, 20456 MN-226\, Park Rapids\, MN\, 56470\, United States
CATEGORIES:Music
ATTACH;FMTTYPE=image/jpeg:https://heartlandlakescommunitycalendar.com/wp-content/uploads/2026/01/donholmenthursday.jpg
ORGANIZER;CN="218 Venture Bar and Eatery":MAILTO:218venture@gmail.com
END:VEVENT
BEGIN:VEVENT
DTSTART;TZID=America/New_York:20270604T183000
DTEND;TZID=America/New_York:20270604T213000
DTSTAMP:20260424T083543
CREATED:20260105T151741Z
LAST-MODIFIED:20260105T151741Z
UID:10011399-1812133800-1812144600@heartlandlakescommunitycalendar.com
SUMMARY:One Knight Stand featuring Kirk Brock
DESCRIPTION:Join us every Friday at Clancy’s Restaurant and Bar for One Knight Stand featuring Kirk Brock
URL:https://heartlandlakescommunitycalendar.com/index.php/event/one-knight-stand-featuring-kirk-brock/2027-06-04/
LOCATION:Clancy’s – Vacationaire\, 26333 Icon Dr\, Park Rapids\, 56470\, United States
CATEGORIES:Music
ATTACH;FMTTYPE=image/jpeg:https://heartlandlakescommunitycalendar.com/wp-content/uploads/2026/01/KirkBrock2019FridayNights.jpg
END:VEVENT
BEGIN:VEVENT
DTSTART;TZID=UTC:20270604T190000
DTEND;TZID=UTC:20270604T230000
DTSTAMP:20260424T083543
CREATED:20250129T002340Z
LAST-MODIFIED:20250129T002340Z
UID:10007594-1812135600-1812150000@heartlandlakescommunitycalendar.com
SUMMARY:Karaoke
DESCRIPTION:Step into the spotlight and sing your heart out at Karaoke Night! Whether you’re a seasoned performer or just love belting out your favorite tunes\, this is your chance to shine. Bring your friends\, pick your favorite songs\, and let the good vibes flow. With a lively atmosphere\, plenty of laughs\, and a playlist packed with hits\, it’s guaranteed to be a night to remember. 🎵 No experience required—just a love for music and fun! \n 
URL:https://heartlandlakescommunitycalendar.com/index.php/event/karaoke/2027-06-04/
LOCATION:Park Rapids American Legion\, 900 1st St E\, Park Rapids\, MN\, 56470\, United States
CATEGORIES:Music,Social
ATTACH;FMTTYPE=image/png:https://heartlandlakescommunitycalendar.com/wp-content/uploads/2025/01/karaoke-night.png
ORGANIZER;CN="Park Rapids American Legion":MAILTO:barmanagerpost212@arvig.net
END:VEVENT
BEGIN:VEVENT
DTSTART;TZID=America/New_York:20270610T170000
DTEND;TZID=America/New_York:20270610T200000
DTSTAMP:20260424T083543
CREATED:20260105T151445Z
LAST-MODIFIED:20260105T151509Z
UID:10011139-1812646800-1812657600@heartlandlakescommunitycalendar.com
SUMMARY:Live Music with Don Holmen
DESCRIPTION:Join us for live music with Don Holmen every Thursday night at 218 Venture Bar and Eatery
URL:https://heartlandlakescommunitycalendar.com/index.php/event/live-music-with-don-holmen/2027-06-10/
LOCATION:218 Venture Bar and Eatery\, 20456 MN-226\, Park Rapids\, MN\, 56470\, United States
CATEGORIES:Music
ATTACH;FMTTYPE=image/jpeg:https://heartlandlakescommunitycalendar.com/wp-content/uploads/2026/01/donholmenthursday.jpg
ORGANIZER;CN="218 Venture Bar and Eatery":MAILTO:218venture@gmail.com
END:VEVENT
BEGIN:VEVENT
DTSTART;TZID=America/New_York:20270611T183000
DTEND;TZID=America/New_York:20270611T213000
DTSTAMP:20260424T083543
CREATED:20260105T151741Z
LAST-MODIFIED:20260105T151741Z
UID:10011400-1812738600-1812749400@heartlandlakescommunitycalendar.com
SUMMARY:One Knight Stand featuring Kirk Brock
DESCRIPTION:Join us every Friday at Clancy’s Restaurant and Bar for One Knight Stand featuring Kirk Brock
URL:https://heartlandlakescommunitycalendar.com/index.php/event/one-knight-stand-featuring-kirk-brock/2027-06-11/
LOCATION:Clancy’s – Vacationaire\, 26333 Icon Dr\, Park Rapids\, 56470\, United States
CATEGORIES:Music
ATTACH;FMTTYPE=image/jpeg:https://heartlandlakescommunitycalendar.com/wp-content/uploads/2026/01/KirkBrock2019FridayNights.jpg
END:VEVENT
BEGIN:VEVENT
DTSTART;TZID=UTC:20270611T190000
DTEND;TZID=UTC:20270611T230000
DTSTAMP:20260424T083543
CREATED:20250129T002340Z
LAST-MODIFIED:20250129T002340Z
UID:10007595-1812740400-1812754800@heartlandlakescommunitycalendar.com
SUMMARY:Karaoke
DESCRIPTION:Step into the spotlight and sing your heart out at Karaoke Night! Whether you’re a seasoned performer or just love belting out your favorite tunes\, this is your chance to shine. Bring your friends\, pick your favorite songs\, and let the good vibes flow. With a lively atmosphere\, plenty of laughs\, and a playlist packed with hits\, it’s guaranteed to be a night to remember. 🎵 No experience required—just a love for music and fun! \n 
URL:https://heartlandlakescommunitycalendar.com/index.php/event/karaoke/2027-06-11/
LOCATION:Park Rapids American Legion\, 900 1st St E\, Park Rapids\, MN\, 56470\, United States
CATEGORIES:Music,Social
ATTACH;FMTTYPE=image/png:https://heartlandlakescommunitycalendar.com/wp-content/uploads/2025/01/karaoke-night.png
ORGANIZER;CN="Park Rapids American Legion":MAILTO:barmanagerpost212@arvig.net
END:VEVENT
BEGIN:VEVENT
DTSTART;TZID=America/New_York:20270617T170000
DTEND;TZID=America/New_York:20270617T200000
DTSTAMP:20260424T083543
CREATED:20260105T151445Z
LAST-MODIFIED:20260105T151509Z
UID:10011140-1813251600-1813262400@heartlandlakescommunitycalendar.com
SUMMARY:Live Music with Don Holmen
DESCRIPTION:Join us for live music with Don Holmen every Thursday night at 218 Venture Bar and Eatery
URL:https://heartlandlakescommunitycalendar.com/index.php/event/live-music-with-don-holmen/2027-06-17/
LOCATION:218 Venture Bar and Eatery\, 20456 MN-226\, Park Rapids\, MN\, 56470\, United States
CATEGORIES:Music
ATTACH;FMTTYPE=image/jpeg:https://heartlandlakescommunitycalendar.com/wp-content/uploads/2026/01/donholmenthursday.jpg
ORGANIZER;CN="218 Venture Bar and Eatery":MAILTO:218venture@gmail.com
END:VEVENT
BEGIN:VEVENT
DTSTART;TZID=America/New_York:20270618T183000
DTEND;TZID=America/New_York:20270618T213000
DTSTAMP:20260424T083543
CREATED:20260105T151741Z
LAST-MODIFIED:20260105T151741Z
UID:10011401-1813343400-1813354200@heartlandlakescommunitycalendar.com
SUMMARY:One Knight Stand featuring Kirk Brock
DESCRIPTION:Join us every Friday at Clancy’s Restaurant and Bar for One Knight Stand featuring Kirk Brock
URL:https://heartlandlakescommunitycalendar.com/index.php/event/one-knight-stand-featuring-kirk-brock/2027-06-18/
LOCATION:Clancy’s – Vacationaire\, 26333 Icon Dr\, Park Rapids\, 56470\, United States
CATEGORIES:Music
ATTACH;FMTTYPE=image/jpeg:https://heartlandlakescommunitycalendar.com/wp-content/uploads/2026/01/KirkBrock2019FridayNights.jpg
END:VEVENT
BEGIN:VEVENT
DTSTART;TZID=UTC:20270618T190000
DTEND;TZID=UTC:20270618T230000
DTSTAMP:20260424T083543
CREATED:20250129T002340Z
LAST-MODIFIED:20250129T002340Z
UID:10007596-1813345200-1813359600@heartlandlakescommunitycalendar.com
SUMMARY:Karaoke
DESCRIPTION:Step into the spotlight and sing your heart out at Karaoke Night! Whether you’re a seasoned performer or just love belting out your favorite tunes\, this is your chance to shine. Bring your friends\, pick your favorite songs\, and let the good vibes flow. With a lively atmosphere\, plenty of laughs\, and a playlist packed with hits\, it’s guaranteed to be a night to remember. 🎵 No experience required—just a love for music and fun! \n 
URL:https://heartlandlakescommunitycalendar.com/index.php/event/karaoke/2027-06-18/
LOCATION:Park Rapids American Legion\, 900 1st St E\, Park Rapids\, MN\, 56470\, United States
CATEGORIES:Music,Social
ATTACH;FMTTYPE=image/png:https://heartlandlakescommunitycalendar.com/wp-content/uploads/2025/01/karaoke-night.png
ORGANIZER;CN="Park Rapids American Legion":MAILTO:barmanagerpost212@arvig.net
END:VEVENT
BEGIN:VEVENT
DTSTART;TZID=America/New_York:20270624T170000
DTEND;TZID=America/New_York:20270624T200000
DTSTAMP:20260424T083543
CREATED:20260105T151445Z
LAST-MODIFIED:20260105T151509Z
UID:10011141-1813856400-1813867200@heartlandlakescommunitycalendar.com
SUMMARY:Live Music with Don Holmen
DESCRIPTION:Join us for live music with Don Holmen every Thursday night at 218 Venture Bar and Eatery
URL:https://heartlandlakescommunitycalendar.com/index.php/event/live-music-with-don-holmen/2027-06-24/
LOCATION:218 Venture Bar and Eatery\, 20456 MN-226\, Park Rapids\, MN\, 56470\, United States
CATEGORIES:Music
ATTACH;FMTTYPE=image/jpeg:https://heartlandlakescommunitycalendar.com/wp-content/uploads/2026/01/donholmenthursday.jpg
ORGANIZER;CN="218 Venture Bar and Eatery":MAILTO:218venture@gmail.com
END:VEVENT
BEGIN:VEVENT
DTSTART;TZID=America/New_York:20270625T183000
DTEND;TZID=America/New_York:20270625T213000
DTSTAMP:20260424T083543
CREATED:20260105T151741Z
LAST-MODIFIED:20260105T151741Z
UID:10011402-1813948200-1813959000@heartlandlakescommunitycalendar.com
SUMMARY:One Knight Stand featuring Kirk Brock
DESCRIPTION:Join us every Friday at Clancy’s Restaurant and Bar for One Knight Stand featuring Kirk Brock
URL:https://heartlandlakescommunitycalendar.com/index.php/event/one-knight-stand-featuring-kirk-brock/2027-06-25/
LOCATION:Clancy’s – Vacationaire\, 26333 Icon Dr\, Park Rapids\, 56470\, United States
CATEGORIES:Music
ATTACH;FMTTYPE=image/jpeg:https://heartlandlakescommunitycalendar.com/wp-content/uploads/2026/01/KirkBrock2019FridayNights.jpg
END:VEVENT
BEGIN:VEVENT
DTSTART;TZID=UTC:20270625T190000
DTEND;TZID=UTC:20270625T230000
DTSTAMP:20260424T083543
CREATED:20250129T002340Z
LAST-MODIFIED:20250129T002340Z
UID:10007597-1813950000-1813964400@heartlandlakescommunitycalendar.com
SUMMARY:Karaoke
DESCRIPTION:Step into the spotlight and sing your heart out at Karaoke Night! Whether you’re a seasoned performer or just love belting out your favorite tunes\, this is your chance to shine. Bring your friends\, pick your favorite songs\, and let the good vibes flow. With a lively atmosphere\, plenty of laughs\, and a playlist packed with hits\, it’s guaranteed to be a night to remember. 🎵 No experience required—just a love for music and fun! \n 
URL:https://heartlandlakescommunitycalendar.com/index.php/event/karaoke/2027-06-25/
LOCATION:Park Rapids American Legion\, 900 1st St E\, Park Rapids\, MN\, 56470\, United States
CATEGORIES:Music,Social
ATTACH;FMTTYPE=image/png:https://heartlandlakescommunitycalendar.com/wp-content/uploads/2025/01/karaoke-night.png
ORGANIZER;CN="Park Rapids American Legion":MAILTO:barmanagerpost212@arvig.net
END:VEVENT
END:VCALENDAR