BEGIN:VCALENDAR
VERSION:2.0
PRODID:-//The Heartland Lakes Community Calendar - ECPv6.3.7//NONSGML v1.0//EN
CALSCALE:GREGORIAN
METHOD:PUBLISH
X-ORIGINAL-URL:https://heartlandlakescommunitycalendar.com
X-WR-CALDESC:Events for The Heartland Lakes Community Calendar
REFRESH-INTERVAL;VALUE=DURATION:PT1H
X-Robots-Tag:noindex
X-PUBLISHED-TTL:PT1H
BEGIN:VTIMEZONE
TZID:America/New_York
BEGIN:DAYLIGHT
TZOFFSETFROM:-0500
TZOFFSETTO:-0400
TZNAME:EDT
DTSTART:20270314T070000
END:DAYLIGHT
BEGIN:STANDARD
TZOFFSETFROM:-0400
TZOFFSETTO:-0500
TZNAME:EST
DTSTART:20271107T060000
END:STANDARD
TZID:UTC
BEGIN:STANDARD
TZOFFSETFROM:+0000
TZOFFSETTO:+0000
TZNAME:UTC
DTSTART:20270101T000000
END:STANDARD
END:VTIMEZONE
BEGIN:VEVENT
DTSTART;TZID=America/New_York:20270812T170000
DTEND;TZID=America/New_York:20270812T200000
DTSTAMP:20260424T154645
CREATED:20260105T151445Z
LAST-MODIFIED:20260105T151509Z
UID:10011148-1818090000-1818100800@heartlandlakescommunitycalendar.com
SUMMARY:Live Music with Don Holmen
DESCRIPTION:Join us for live music with Don Holmen every Thursday night at 218 Venture Bar and Eatery
URL:https://heartlandlakescommunitycalendar.com/index.php/event/live-music-with-don-holmen/2027-08-12/
LOCATION:218 Venture Bar and Eatery\, 20456 MN-226\, Park Rapids\, MN\, 56470\, United States
CATEGORIES:Music
ATTACH;FMTTYPE=image/jpeg:https://heartlandlakescommunitycalendar.com/wp-content/uploads/2026/01/donholmenthursday.jpg
ORGANIZER;CN="218 Venture Bar and Eatery":MAILTO:218venture@gmail.com
END:VEVENT
BEGIN:VEVENT
DTSTART;TZID=America/New_York:20270813T183000
DTEND;TZID=America/New_York:20270813T213000
DTSTAMP:20260424T154645
CREATED:20260105T151741Z
LAST-MODIFIED:20260105T151741Z
UID:10011409-1818181800-1818192600@heartlandlakescommunitycalendar.com
SUMMARY:One Knight Stand featuring Kirk Brock
DESCRIPTION:Join us every Friday at Clancy’s Restaurant and Bar for One Knight Stand featuring Kirk Brock
URL:https://heartlandlakescommunitycalendar.com/index.php/event/one-knight-stand-featuring-kirk-brock/2027-08-13/
LOCATION:Clancy’s – Vacationaire\, 26333 Icon Dr\, Park Rapids\, 56470\, United States
CATEGORIES:Music
ATTACH;FMTTYPE=image/jpeg:https://heartlandlakescommunitycalendar.com/wp-content/uploads/2026/01/KirkBrock2019FridayNights.jpg
END:VEVENT
BEGIN:VEVENT
DTSTART;TZID=UTC:20270813T190000
DTEND;TZID=UTC:20270813T230000
DTSTAMP:20260424T154645
CREATED:20250129T002340Z
LAST-MODIFIED:20250129T002340Z
UID:10007604-1818183600-1818198000@heartlandlakescommunitycalendar.com
SUMMARY:Karaoke
DESCRIPTION:Step into the spotlight and sing your heart out at Karaoke Night! Whether you’re a seasoned performer or just love belting out your favorite tunes\, this is your chance to shine. Bring your friends\, pick your favorite songs\, and let the good vibes flow. With a lively atmosphere\, plenty of laughs\, and a playlist packed with hits\, it’s guaranteed to be a night to remember. 🎵 No experience required—just a love for music and fun! \n 
URL:https://heartlandlakescommunitycalendar.com/index.php/event/karaoke/2027-08-13/
LOCATION:Park Rapids American Legion\, 900 1st St E\, Park Rapids\, MN\, 56470\, United States
CATEGORIES:Music,Social
ATTACH;FMTTYPE=image/png:https://heartlandlakescommunitycalendar.com/wp-content/uploads/2025/01/karaoke-night.png
ORGANIZER;CN="Park Rapids American Legion":MAILTO:barmanagerpost212@arvig.net
END:VEVENT
BEGIN:VEVENT
DTSTART;TZID=America/New_York:20270819T170000
DTEND;TZID=America/New_York:20270819T200000
DTSTAMP:20260424T154645
CREATED:20260105T151445Z
LAST-MODIFIED:20260105T151509Z
UID:10011149-1818694800-1818705600@heartlandlakescommunitycalendar.com
SUMMARY:Live Music with Don Holmen
DESCRIPTION:Join us for live music with Don Holmen every Thursday night at 218 Venture Bar and Eatery
URL:https://heartlandlakescommunitycalendar.com/index.php/event/live-music-with-don-holmen/2027-08-19/
LOCATION:218 Venture Bar and Eatery\, 20456 MN-226\, Park Rapids\, MN\, 56470\, United States
CATEGORIES:Music
ATTACH;FMTTYPE=image/jpeg:https://heartlandlakescommunitycalendar.com/wp-content/uploads/2026/01/donholmenthursday.jpg
ORGANIZER;CN="218 Venture Bar and Eatery":MAILTO:218venture@gmail.com
END:VEVENT
BEGIN:VEVENT
DTSTART;TZID=America/New_York:20270820T183000
DTEND;TZID=America/New_York:20270820T213000
DTSTAMP:20260424T154645
CREATED:20260105T151741Z
LAST-MODIFIED:20260105T151741Z
UID:10011410-1818786600-1818797400@heartlandlakescommunitycalendar.com
SUMMARY:One Knight Stand featuring Kirk Brock
DESCRIPTION:Join us every Friday at Clancy’s Restaurant and Bar for One Knight Stand featuring Kirk Brock
URL:https://heartlandlakescommunitycalendar.com/index.php/event/one-knight-stand-featuring-kirk-brock/2027-08-20/
LOCATION:Clancy’s – Vacationaire\, 26333 Icon Dr\, Park Rapids\, 56470\, United States
CATEGORIES:Music
ATTACH;FMTTYPE=image/jpeg:https://heartlandlakescommunitycalendar.com/wp-content/uploads/2026/01/KirkBrock2019FridayNights.jpg
END:VEVENT
BEGIN:VEVENT
DTSTART;TZID=UTC:20270820T190000
DTEND;TZID=UTC:20270820T230000
DTSTAMP:20260424T154645
CREATED:20250129T002340Z
LAST-MODIFIED:20250129T002340Z
UID:10007605-1818788400-1818802800@heartlandlakescommunitycalendar.com
SUMMARY:Karaoke
DESCRIPTION:Step into the spotlight and sing your heart out at Karaoke Night! Whether you’re a seasoned performer or just love belting out your favorite tunes\, this is your chance to shine. Bring your friends\, pick your favorite songs\, and let the good vibes flow. With a lively atmosphere\, plenty of laughs\, and a playlist packed with hits\, it’s guaranteed to be a night to remember. 🎵 No experience required—just a love for music and fun! \n 
URL:https://heartlandlakescommunitycalendar.com/index.php/event/karaoke/2027-08-20/
LOCATION:Park Rapids American Legion\, 900 1st St E\, Park Rapids\, MN\, 56470\, United States
CATEGORIES:Music,Social
ATTACH;FMTTYPE=image/png:https://heartlandlakescommunitycalendar.com/wp-content/uploads/2025/01/karaoke-night.png
ORGANIZER;CN="Park Rapids American Legion":MAILTO:barmanagerpost212@arvig.net
END:VEVENT
BEGIN:VEVENT
DTSTART;TZID=America/New_York:20270826T170000
DTEND;TZID=America/New_York:20270826T200000
DTSTAMP:20260424T154645
CREATED:20260105T151445Z
LAST-MODIFIED:20260105T151509Z
UID:10011150-1819299600-1819310400@heartlandlakescommunitycalendar.com
SUMMARY:Live Music with Don Holmen
DESCRIPTION:Join us for live music with Don Holmen every Thursday night at 218 Venture Bar and Eatery
URL:https://heartlandlakescommunitycalendar.com/index.php/event/live-music-with-don-holmen/2027-08-26/
LOCATION:218 Venture Bar and Eatery\, 20456 MN-226\, Park Rapids\, MN\, 56470\, United States
CATEGORIES:Music
ATTACH;FMTTYPE=image/jpeg:https://heartlandlakescommunitycalendar.com/wp-content/uploads/2026/01/donholmenthursday.jpg
ORGANIZER;CN="218 Venture Bar and Eatery":MAILTO:218venture@gmail.com
END:VEVENT
BEGIN:VEVENT
DTSTART;TZID=America/New_York:20270827T183000
DTEND;TZID=America/New_York:20270827T213000
DTSTAMP:20260424T154645
CREATED:20260105T151741Z
LAST-MODIFIED:20260105T151741Z
UID:10011411-1819391400-1819402200@heartlandlakescommunitycalendar.com
SUMMARY:One Knight Stand featuring Kirk Brock
DESCRIPTION:Join us every Friday at Clancy’s Restaurant and Bar for One Knight Stand featuring Kirk Brock
URL:https://heartlandlakescommunitycalendar.com/index.php/event/one-knight-stand-featuring-kirk-brock/2027-08-27/
LOCATION:Clancy’s – Vacationaire\, 26333 Icon Dr\, Park Rapids\, 56470\, United States
CATEGORIES:Music
ATTACH;FMTTYPE=image/jpeg:https://heartlandlakescommunitycalendar.com/wp-content/uploads/2026/01/KirkBrock2019FridayNights.jpg
END:VEVENT
BEGIN:VEVENT
DTSTART;TZID=UTC:20270827T190000
DTEND;TZID=UTC:20270827T230000
DTSTAMP:20260424T154645
CREATED:20250129T002340Z
LAST-MODIFIED:20250129T002340Z
UID:10007606-1819393200-1819407600@heartlandlakescommunitycalendar.com
SUMMARY:Karaoke
DESCRIPTION:Step into the spotlight and sing your heart out at Karaoke Night! Whether you’re a seasoned performer or just love belting out your favorite tunes\, this is your chance to shine. Bring your friends\, pick your favorite songs\, and let the good vibes flow. With a lively atmosphere\, plenty of laughs\, and a playlist packed with hits\, it’s guaranteed to be a night to remember. 🎵 No experience required—just a love for music and fun! \n 
URL:https://heartlandlakescommunitycalendar.com/index.php/event/karaoke/2027-08-27/
LOCATION:Park Rapids American Legion\, 900 1st St E\, Park Rapids\, MN\, 56470\, United States
CATEGORIES:Music,Social
ATTACH;FMTTYPE=image/png:https://heartlandlakescommunitycalendar.com/wp-content/uploads/2025/01/karaoke-night.png
ORGANIZER;CN="Park Rapids American Legion":MAILTO:barmanagerpost212@arvig.net
END:VEVENT
BEGIN:VEVENT
DTSTART;TZID=America/New_York:20270902T170000
DTEND;TZID=America/New_York:20270902T200000
DTSTAMP:20260424T154645
CREATED:20260105T151445Z
LAST-MODIFIED:20260105T151509Z
UID:10011151-1819904400-1819915200@heartlandlakescommunitycalendar.com
SUMMARY:Live Music with Don Holmen
DESCRIPTION:Join us for live music with Don Holmen every Thursday night at 218 Venture Bar and Eatery
URL:https://heartlandlakescommunitycalendar.com/index.php/event/live-music-with-don-holmen/2027-09-02/
LOCATION:218 Venture Bar and Eatery\, 20456 MN-226\, Park Rapids\, MN\, 56470\, United States
CATEGORIES:Music
ATTACH;FMTTYPE=image/jpeg:https://heartlandlakescommunitycalendar.com/wp-content/uploads/2026/01/donholmenthursday.jpg
ORGANIZER;CN="218 Venture Bar and Eatery":MAILTO:218venture@gmail.com
END:VEVENT
BEGIN:VEVENT
DTSTART;TZID=America/New_York:20270903T183000
DTEND;TZID=America/New_York:20270903T213000
DTSTAMP:20260424T154645
CREATED:20260105T151741Z
LAST-MODIFIED:20260105T151741Z
UID:10011412-1819996200-1820007000@heartlandlakescommunitycalendar.com
SUMMARY:One Knight Stand featuring Kirk Brock
DESCRIPTION:Join us every Friday at Clancy’s Restaurant and Bar for One Knight Stand featuring Kirk Brock
URL:https://heartlandlakescommunitycalendar.com/index.php/event/one-knight-stand-featuring-kirk-brock/2027-09-03/
LOCATION:Clancy’s – Vacationaire\, 26333 Icon Dr\, Park Rapids\, 56470\, United States
CATEGORIES:Music
ATTACH;FMTTYPE=image/jpeg:https://heartlandlakescommunitycalendar.com/wp-content/uploads/2026/01/KirkBrock2019FridayNights.jpg
END:VEVENT
BEGIN:VEVENT
DTSTART;TZID=UTC:20270903T190000
DTEND;TZID=UTC:20270903T230000
DTSTAMP:20260424T154645
CREATED:20250129T002340Z
LAST-MODIFIED:20250129T002340Z
UID:10007607-1819998000-1820012400@heartlandlakescommunitycalendar.com
SUMMARY:Karaoke
DESCRIPTION:Step into the spotlight and sing your heart out at Karaoke Night! Whether you’re a seasoned performer or just love belting out your favorite tunes\, this is your chance to shine. Bring your friends\, pick your favorite songs\, and let the good vibes flow. With a lively atmosphere\, plenty of laughs\, and a playlist packed with hits\, it’s guaranteed to be a night to remember. 🎵 No experience required—just a love for music and fun! \n 
URL:https://heartlandlakescommunitycalendar.com/index.php/event/karaoke/2027-09-03/
LOCATION:Park Rapids American Legion\, 900 1st St E\, Park Rapids\, MN\, 56470\, United States
CATEGORIES:Music,Social
ATTACH;FMTTYPE=image/png:https://heartlandlakescommunitycalendar.com/wp-content/uploads/2025/01/karaoke-night.png
ORGANIZER;CN="Park Rapids American Legion":MAILTO:barmanagerpost212@arvig.net
END:VEVENT
BEGIN:VEVENT
DTSTART;TZID=America/New_York:20270909T170000
DTEND;TZID=America/New_York:20270909T200000
DTSTAMP:20260424T154645
CREATED:20260105T151445Z
LAST-MODIFIED:20260105T151509Z
UID:10011152-1820509200-1820520000@heartlandlakescommunitycalendar.com
SUMMARY:Live Music with Don Holmen
DESCRIPTION:Join us for live music with Don Holmen every Thursday night at 218 Venture Bar and Eatery
URL:https://heartlandlakescommunitycalendar.com/index.php/event/live-music-with-don-holmen/2027-09-09/
LOCATION:218 Venture Bar and Eatery\, 20456 MN-226\, Park Rapids\, MN\, 56470\, United States
CATEGORIES:Music
ATTACH;FMTTYPE=image/jpeg:https://heartlandlakescommunitycalendar.com/wp-content/uploads/2026/01/donholmenthursday.jpg
ORGANIZER;CN="218 Venture Bar and Eatery":MAILTO:218venture@gmail.com
END:VEVENT
BEGIN:VEVENT
DTSTART;TZID=America/New_York:20270910T183000
DTEND;TZID=America/New_York:20270910T213000
DTSTAMP:20260424T154645
CREATED:20260105T151741Z
LAST-MODIFIED:20260105T151741Z
UID:10011413-1820601000-1820611800@heartlandlakescommunitycalendar.com
SUMMARY:One Knight Stand featuring Kirk Brock
DESCRIPTION:Join us every Friday at Clancy’s Restaurant and Bar for One Knight Stand featuring Kirk Brock
URL:https://heartlandlakescommunitycalendar.com/index.php/event/one-knight-stand-featuring-kirk-brock/2027-09-10/
LOCATION:Clancy’s – Vacationaire\, 26333 Icon Dr\, Park Rapids\, 56470\, United States
CATEGORIES:Music
ATTACH;FMTTYPE=image/jpeg:https://heartlandlakescommunitycalendar.com/wp-content/uploads/2026/01/KirkBrock2019FridayNights.jpg
END:VEVENT
BEGIN:VEVENT
DTSTART;TZID=UTC:20270910T190000
DTEND;TZID=UTC:20270910T230000
DTSTAMP:20260424T154645
CREATED:20250129T002340Z
LAST-MODIFIED:20250129T002340Z
UID:10007608-1820602800-1820617200@heartlandlakescommunitycalendar.com
SUMMARY:Karaoke
DESCRIPTION:Step into the spotlight and sing your heart out at Karaoke Night! Whether you’re a seasoned performer or just love belting out your favorite tunes\, this is your chance to shine. Bring your friends\, pick your favorite songs\, and let the good vibes flow. With a lively atmosphere\, plenty of laughs\, and a playlist packed with hits\, it’s guaranteed to be a night to remember. 🎵 No experience required—just a love for music and fun! \n 
URL:https://heartlandlakescommunitycalendar.com/index.php/event/karaoke/2027-09-10/
LOCATION:Park Rapids American Legion\, 900 1st St E\, Park Rapids\, MN\, 56470\, United States
CATEGORIES:Music,Social
ATTACH;FMTTYPE=image/png:https://heartlandlakescommunitycalendar.com/wp-content/uploads/2025/01/karaoke-night.png
ORGANIZER;CN="Park Rapids American Legion":MAILTO:barmanagerpost212@arvig.net
END:VEVENT
BEGIN:VEVENT
DTSTART;TZID=America/New_York:20270916T170000
DTEND;TZID=America/New_York:20270916T200000
DTSTAMP:20260424T154645
CREATED:20260105T151445Z
LAST-MODIFIED:20260105T151509Z
UID:10011153-1821114000-1821124800@heartlandlakescommunitycalendar.com
SUMMARY:Live Music with Don Holmen
DESCRIPTION:Join us for live music with Don Holmen every Thursday night at 218 Venture Bar and Eatery
URL:https://heartlandlakescommunitycalendar.com/index.php/event/live-music-with-don-holmen/2027-09-16/
LOCATION:218 Venture Bar and Eatery\, 20456 MN-226\, Park Rapids\, MN\, 56470\, United States
CATEGORIES:Music
ATTACH;FMTTYPE=image/jpeg:https://heartlandlakescommunitycalendar.com/wp-content/uploads/2026/01/donholmenthursday.jpg
ORGANIZER;CN="218 Venture Bar and Eatery":MAILTO:218venture@gmail.com
END:VEVENT
BEGIN:VEVENT
DTSTART;TZID=America/New_York:20270917T183000
DTEND;TZID=America/New_York:20270917T213000
DTSTAMP:20260424T154645
CREATED:20260105T151741Z
LAST-MODIFIED:20260105T151741Z
UID:10011414-1821205800-1821216600@heartlandlakescommunitycalendar.com
SUMMARY:One Knight Stand featuring Kirk Brock
DESCRIPTION:Join us every Friday at Clancy’s Restaurant and Bar for One Knight Stand featuring Kirk Brock
URL:https://heartlandlakescommunitycalendar.com/index.php/event/one-knight-stand-featuring-kirk-brock/2027-09-17/
LOCATION:Clancy’s – Vacationaire\, 26333 Icon Dr\, Park Rapids\, 56470\, United States
CATEGORIES:Music
ATTACH;FMTTYPE=image/jpeg:https://heartlandlakescommunitycalendar.com/wp-content/uploads/2026/01/KirkBrock2019FridayNights.jpg
END:VEVENT
BEGIN:VEVENT
DTSTART;TZID=UTC:20270917T190000
DTEND;TZID=UTC:20270917T230000
DTSTAMP:20260424T154645
CREATED:20250129T002340Z
LAST-MODIFIED:20250129T002340Z
UID:10007609-1821207600-1821222000@heartlandlakescommunitycalendar.com
SUMMARY:Karaoke
DESCRIPTION:Step into the spotlight and sing your heart out at Karaoke Night! Whether you’re a seasoned performer or just love belting out your favorite tunes\, this is your chance to shine. Bring your friends\, pick your favorite songs\, and let the good vibes flow. With a lively atmosphere\, plenty of laughs\, and a playlist packed with hits\, it’s guaranteed to be a night to remember. 🎵 No experience required—just a love for music and fun! \n 
URL:https://heartlandlakescommunitycalendar.com/index.php/event/karaoke/2027-09-17/
LOCATION:Park Rapids American Legion\, 900 1st St E\, Park Rapids\, MN\, 56470\, United States
CATEGORIES:Music,Social
ATTACH;FMTTYPE=image/png:https://heartlandlakescommunitycalendar.com/wp-content/uploads/2025/01/karaoke-night.png
ORGANIZER;CN="Park Rapids American Legion":MAILTO:barmanagerpost212@arvig.net
END:VEVENT
BEGIN:VEVENT
DTSTART;TZID=America/New_York:20270923T170000
DTEND;TZID=America/New_York:20270923T200000
DTSTAMP:20260424T154645
CREATED:20260105T151445Z
LAST-MODIFIED:20260105T151509Z
UID:10011154-1821718800-1821729600@heartlandlakescommunitycalendar.com
SUMMARY:Live Music with Don Holmen
DESCRIPTION:Join us for live music with Don Holmen every Thursday night at 218 Venture Bar and Eatery
URL:https://heartlandlakescommunitycalendar.com/index.php/event/live-music-with-don-holmen/2027-09-23/
LOCATION:218 Venture Bar and Eatery\, 20456 MN-226\, Park Rapids\, MN\, 56470\, United States
CATEGORIES:Music
ATTACH;FMTTYPE=image/jpeg:https://heartlandlakescommunitycalendar.com/wp-content/uploads/2026/01/donholmenthursday.jpg
ORGANIZER;CN="218 Venture Bar and Eatery":MAILTO:218venture@gmail.com
END:VEVENT
BEGIN:VEVENT
DTSTART;TZID=America/New_York:20270924T183000
DTEND;TZID=America/New_York:20270924T213000
DTSTAMP:20260424T154645
CREATED:20260105T151741Z
LAST-MODIFIED:20260105T151741Z
UID:10011415-1821810600-1821821400@heartlandlakescommunitycalendar.com
SUMMARY:One Knight Stand featuring Kirk Brock
DESCRIPTION:Join us every Friday at Clancy’s Restaurant and Bar for One Knight Stand featuring Kirk Brock
URL:https://heartlandlakescommunitycalendar.com/index.php/event/one-knight-stand-featuring-kirk-brock/2027-09-24/
LOCATION:Clancy’s – Vacationaire\, 26333 Icon Dr\, Park Rapids\, 56470\, United States
CATEGORIES:Music
ATTACH;FMTTYPE=image/jpeg:https://heartlandlakescommunitycalendar.com/wp-content/uploads/2026/01/KirkBrock2019FridayNights.jpg
END:VEVENT
BEGIN:VEVENT
DTSTART;TZID=UTC:20270924T190000
DTEND;TZID=UTC:20270924T230000
DTSTAMP:20260424T154645
CREATED:20250129T002340Z
LAST-MODIFIED:20250129T002340Z
UID:10007610-1821812400-1821826800@heartlandlakescommunitycalendar.com
SUMMARY:Karaoke
DESCRIPTION:Step into the spotlight and sing your heart out at Karaoke Night! Whether you’re a seasoned performer or just love belting out your favorite tunes\, this is your chance to shine. Bring your friends\, pick your favorite songs\, and let the good vibes flow. With a lively atmosphere\, plenty of laughs\, and a playlist packed with hits\, it’s guaranteed to be a night to remember. 🎵 No experience required—just a love for music and fun! \n 
URL:https://heartlandlakescommunitycalendar.com/index.php/event/karaoke/2027-09-24/
LOCATION:Park Rapids American Legion\, 900 1st St E\, Park Rapids\, MN\, 56470\, United States
CATEGORIES:Music,Social
ATTACH;FMTTYPE=image/png:https://heartlandlakescommunitycalendar.com/wp-content/uploads/2025/01/karaoke-night.png
ORGANIZER;CN="Park Rapids American Legion":MAILTO:barmanagerpost212@arvig.net
END:VEVENT
BEGIN:VEVENT
DTSTART;TZID=America/New_York:20270930T170000
DTEND;TZID=America/New_York:20270930T200000
DTSTAMP:20260424T154645
CREATED:20260105T151445Z
LAST-MODIFIED:20260105T151509Z
UID:10011155-1822323600-1822334400@heartlandlakescommunitycalendar.com
SUMMARY:Live Music with Don Holmen
DESCRIPTION:Join us for live music with Don Holmen every Thursday night at 218 Venture Bar and Eatery
URL:https://heartlandlakescommunitycalendar.com/index.php/event/live-music-with-don-holmen/2027-09-30/
LOCATION:218 Venture Bar and Eatery\, 20456 MN-226\, Park Rapids\, MN\, 56470\, United States
CATEGORIES:Music
ATTACH;FMTTYPE=image/jpeg:https://heartlandlakescommunitycalendar.com/wp-content/uploads/2026/01/donholmenthursday.jpg
ORGANIZER;CN="218 Venture Bar and Eatery":MAILTO:218venture@gmail.com
END:VEVENT
BEGIN:VEVENT
DTSTART;TZID=America/New_York:20271001T183000
DTEND;TZID=America/New_York:20271001T213000
DTSTAMP:20260424T154645
CREATED:20260105T151741Z
LAST-MODIFIED:20260105T151741Z
UID:10011416-1822415400-1822426200@heartlandlakescommunitycalendar.com
SUMMARY:One Knight Stand featuring Kirk Brock
DESCRIPTION:Join us every Friday at Clancy’s Restaurant and Bar for One Knight Stand featuring Kirk Brock
URL:https://heartlandlakescommunitycalendar.com/index.php/event/one-knight-stand-featuring-kirk-brock/2027-10-01/
LOCATION:Clancy’s – Vacationaire\, 26333 Icon Dr\, Park Rapids\, 56470\, United States
CATEGORIES:Music
ATTACH;FMTTYPE=image/jpeg:https://heartlandlakescommunitycalendar.com/wp-content/uploads/2026/01/KirkBrock2019FridayNights.jpg
END:VEVENT
BEGIN:VEVENT
DTSTART;TZID=UTC:20271001T190000
DTEND;TZID=UTC:20271001T230000
DTSTAMP:20260424T154645
CREATED:20250129T002340Z
LAST-MODIFIED:20250129T002340Z
UID:10007611-1822417200-1822431600@heartlandlakescommunitycalendar.com
SUMMARY:Karaoke
DESCRIPTION:Step into the spotlight and sing your heart out at Karaoke Night! Whether you’re a seasoned performer or just love belting out your favorite tunes\, this is your chance to shine. Bring your friends\, pick your favorite songs\, and let the good vibes flow. With a lively atmosphere\, plenty of laughs\, and a playlist packed with hits\, it’s guaranteed to be a night to remember. 🎵 No experience required—just a love for music and fun! \n 
URL:https://heartlandlakescommunitycalendar.com/index.php/event/karaoke/2027-10-01/
LOCATION:Park Rapids American Legion\, 900 1st St E\, Park Rapids\, MN\, 56470\, United States
CATEGORIES:Music,Social
ATTACH;FMTTYPE=image/png:https://heartlandlakescommunitycalendar.com/wp-content/uploads/2025/01/karaoke-night.png
ORGANIZER;CN="Park Rapids American Legion":MAILTO:barmanagerpost212@arvig.net
END:VEVENT
BEGIN:VEVENT
DTSTART;TZID=America/New_York:20271007T170000
DTEND;TZID=America/New_York:20271007T200000
DTSTAMP:20260424T154645
CREATED:20260105T151445Z
LAST-MODIFIED:20260105T151509Z
UID:10011156-1822928400-1822939200@heartlandlakescommunitycalendar.com
SUMMARY:Live Music with Don Holmen
DESCRIPTION:Join us for live music with Don Holmen every Thursday night at 218 Venture Bar and Eatery
URL:https://heartlandlakescommunitycalendar.com/index.php/event/live-music-with-don-holmen/2027-10-07/
LOCATION:218 Venture Bar and Eatery\, 20456 MN-226\, Park Rapids\, MN\, 56470\, United States
CATEGORIES:Music
ATTACH;FMTTYPE=image/jpeg:https://heartlandlakescommunitycalendar.com/wp-content/uploads/2026/01/donholmenthursday.jpg
ORGANIZER;CN="218 Venture Bar and Eatery":MAILTO:218venture@gmail.com
END:VEVENT
BEGIN:VEVENT
DTSTART;TZID=America/New_York:20271008T183000
DTEND;TZID=America/New_York:20271008T213000
DTSTAMP:20260424T154645
CREATED:20260105T151741Z
LAST-MODIFIED:20260105T151741Z
UID:10011417-1823020200-1823031000@heartlandlakescommunitycalendar.com
SUMMARY:One Knight Stand featuring Kirk Brock
DESCRIPTION:Join us every Friday at Clancy’s Restaurant and Bar for One Knight Stand featuring Kirk Brock
URL:https://heartlandlakescommunitycalendar.com/index.php/event/one-knight-stand-featuring-kirk-brock/2027-10-08/
LOCATION:Clancy’s – Vacationaire\, 26333 Icon Dr\, Park Rapids\, 56470\, United States
CATEGORIES:Music
ATTACH;FMTTYPE=image/jpeg:https://heartlandlakescommunitycalendar.com/wp-content/uploads/2026/01/KirkBrock2019FridayNights.jpg
END:VEVENT
BEGIN:VEVENT
DTSTART;TZID=UTC:20271008T190000
DTEND;TZID=UTC:20271008T230000
DTSTAMP:20260424T154645
CREATED:20250129T002340Z
LAST-MODIFIED:20250129T002340Z
UID:10007612-1823022000-1823036400@heartlandlakescommunitycalendar.com
SUMMARY:Karaoke
DESCRIPTION:Step into the spotlight and sing your heart out at Karaoke Night! Whether you’re a seasoned performer or just love belting out your favorite tunes\, this is your chance to shine. Bring your friends\, pick your favorite songs\, and let the good vibes flow. With a lively atmosphere\, plenty of laughs\, and a playlist packed with hits\, it’s guaranteed to be a night to remember. 🎵 No experience required—just a love for music and fun! \n 
URL:https://heartlandlakescommunitycalendar.com/index.php/event/karaoke/2027-10-08/
LOCATION:Park Rapids American Legion\, 900 1st St E\, Park Rapids\, MN\, 56470\, United States
CATEGORIES:Music,Social
ATTACH;FMTTYPE=image/png:https://heartlandlakescommunitycalendar.com/wp-content/uploads/2025/01/karaoke-night.png
ORGANIZER;CN="Park Rapids American Legion":MAILTO:barmanagerpost212@arvig.net
END:VEVENT
BEGIN:VEVENT
DTSTART;TZID=America/New_York:20271014T170000
DTEND;TZID=America/New_York:20271014T200000
DTSTAMP:20260424T154645
CREATED:20260105T151445Z
LAST-MODIFIED:20260105T151509Z
UID:10011157-1823533200-1823544000@heartlandlakescommunitycalendar.com
SUMMARY:Live Music with Don Holmen
DESCRIPTION:Join us for live music with Don Holmen every Thursday night at 218 Venture Bar and Eatery
URL:https://heartlandlakescommunitycalendar.com/index.php/event/live-music-with-don-holmen/2027-10-14/
LOCATION:218 Venture Bar and Eatery\, 20456 MN-226\, Park Rapids\, MN\, 56470\, United States
CATEGORIES:Music
ATTACH;FMTTYPE=image/jpeg:https://heartlandlakescommunitycalendar.com/wp-content/uploads/2026/01/donholmenthursday.jpg
ORGANIZER;CN="218 Venture Bar and Eatery":MAILTO:218venture@gmail.com
END:VEVENT
BEGIN:VEVENT
DTSTART;TZID=America/New_York:20271015T183000
DTEND;TZID=America/New_York:20271015T213000
DTSTAMP:20260424T154645
CREATED:20260105T151741Z
LAST-MODIFIED:20260105T151741Z
UID:10011418-1823625000-1823635800@heartlandlakescommunitycalendar.com
SUMMARY:One Knight Stand featuring Kirk Brock
DESCRIPTION:Join us every Friday at Clancy’s Restaurant and Bar for One Knight Stand featuring Kirk Brock
URL:https://heartlandlakescommunitycalendar.com/index.php/event/one-knight-stand-featuring-kirk-brock/2027-10-15/
LOCATION:Clancy’s – Vacationaire\, 26333 Icon Dr\, Park Rapids\, 56470\, United States
CATEGORIES:Music
ATTACH;FMTTYPE=image/jpeg:https://heartlandlakescommunitycalendar.com/wp-content/uploads/2026/01/KirkBrock2019FridayNights.jpg
END:VEVENT
BEGIN:VEVENT
DTSTART;TZID=UTC:20271015T190000
DTEND;TZID=UTC:20271015T230000
DTSTAMP:20260424T154645
CREATED:20250129T002340Z
LAST-MODIFIED:20250129T002340Z
UID:10007613-1823626800-1823641200@heartlandlakescommunitycalendar.com
SUMMARY:Karaoke
DESCRIPTION:Step into the spotlight and sing your heart out at Karaoke Night! Whether you’re a seasoned performer or just love belting out your favorite tunes\, this is your chance to shine. Bring your friends\, pick your favorite songs\, and let the good vibes flow. With a lively atmosphere\, plenty of laughs\, and a playlist packed with hits\, it’s guaranteed to be a night to remember. 🎵 No experience required—just a love for music and fun! \n 
URL:https://heartlandlakescommunitycalendar.com/index.php/event/karaoke/2027-10-15/
LOCATION:Park Rapids American Legion\, 900 1st St E\, Park Rapids\, MN\, 56470\, United States
CATEGORIES:Music,Social
ATTACH;FMTTYPE=image/png:https://heartlandlakescommunitycalendar.com/wp-content/uploads/2025/01/karaoke-night.png
ORGANIZER;CN="Park Rapids American Legion":MAILTO:barmanagerpost212@arvig.net
END:VEVENT
END:VCALENDAR