BEGIN:VCALENDAR
VERSION:2.0
PRODID:-//The Heartland Lakes Community Calendar - ECPv6.3.7//NONSGML v1.0//EN
CALSCALE:GREGORIAN
METHOD:PUBLISH
X-WR-CALNAME:The Heartland Lakes Community Calendar
X-ORIGINAL-URL:https://heartlandlakescommunitycalendar.com
X-WR-CALDESC:Events for The Heartland Lakes Community Calendar
REFRESH-INTERVAL;VALUE=DURATION:PT1H
X-Robots-Tag:noindex
X-PUBLISHED-TTL:PT1H
BEGIN:VTIMEZONE
TZID:UTC
BEGIN:STANDARD
TZOFFSETFROM:+0000
TZOFFSETTO:+0000
TZNAME:UTC
DTSTART:20260101T000000
END:STANDARD
TZID:America/New_York
BEGIN:DAYLIGHT
TZOFFSETFROM:-0500
TZOFFSETTO:-0400
TZNAME:EDT
DTSTART:20260308T070000
END:DAYLIGHT
BEGIN:STANDARD
TZOFFSETFROM:-0400
TZOFFSETTO:-0500
TZNAME:EST
DTSTART:20261101T060000
END:STANDARD
BEGIN:DAYLIGHT
TZOFFSETFROM:-0500
TZOFFSETTO:-0400
TZNAME:EDT
DTSTART:20270314T070000
END:DAYLIGHT
BEGIN:STANDARD
TZOFFSETFROM:-0400
TZOFFSETTO:-0500
TZNAME:EST
DTSTART:20271107T060000
END:STANDARD
END:VTIMEZONE
BEGIN:VEVENT
DTSTART;TZID=UTC:20261030T190000
DTEND;TZID=UTC:20261030T230000
DTSTAMP:20260420T150532
CREATED:20250129T002340Z
LAST-MODIFIED:20250129T002340Z
UID:10007563-1793386800-1793401200@heartlandlakescommunitycalendar.com
SUMMARY:Karaoke
DESCRIPTION:Step into the spotlight and sing your heart out at Karaoke Night! Whether you’re a seasoned performer or just love belting out your favorite tunes\, this is your chance to shine. Bring your friends\, pick your favorite songs\, and let the good vibes flow. With a lively atmosphere\, plenty of laughs\, and a playlist packed with hits\, it’s guaranteed to be a night to remember. 🎵 No experience required—just a love for music and fun! \n 
URL:https://heartlandlakescommunitycalendar.com/index.php/event/karaoke/2026-10-30/
LOCATION:Park Rapids American Legion\, 900 1st St E\, Park Rapids\, MN\, 56470\, United States
CATEGORIES:Music,Social
ATTACH;FMTTYPE=image/png:https://heartlandlakescommunitycalendar.com/wp-content/uploads/2025/01/karaoke-night.png
ORGANIZER;CN="Park Rapids American Legion":MAILTO:barmanagerpost212@arvig.net
END:VEVENT
BEGIN:VEVENT
DTSTART;TZID=America/New_York:20261105T170000
DTEND;TZID=America/New_York:20261105T200000
DTSTAMP:20260420T150532
CREATED:20260105T151445Z
LAST-MODIFIED:20260105T151509Z
UID:10011108-1793898000-1793908800@heartlandlakescommunitycalendar.com
SUMMARY:Live Music with Don Holmen
DESCRIPTION:Join us for live music with Don Holmen every Thursday night at 218 Venture Bar and Eatery
URL:https://heartlandlakescommunitycalendar.com/index.php/event/live-music-with-don-holmen/2026-11-05/
LOCATION:218 Venture Bar and Eatery\, 20456 MN-226\, Park Rapids\, MN\, 56470\, United States
CATEGORIES:Music
ATTACH;FMTTYPE=image/jpeg:https://heartlandlakescommunitycalendar.com/wp-content/uploads/2026/01/donholmenthursday.jpg
ORGANIZER;CN="218 Venture Bar and Eatery":MAILTO:218venture@gmail.com
END:VEVENT
BEGIN:VEVENT
DTSTART;TZID=America/New_York:20261106T183000
DTEND;TZID=America/New_York:20261106T213000
DTSTAMP:20260420T150532
CREATED:20260105T151741Z
LAST-MODIFIED:20260105T151741Z
UID:10011369-1793989800-1794000600@heartlandlakescommunitycalendar.com
SUMMARY:One Knight Stand featuring Kirk Brock
DESCRIPTION:Join us every Friday at Clancy’s Restaurant and Bar for One Knight Stand featuring Kirk Brock
URL:https://heartlandlakescommunitycalendar.com/index.php/event/one-knight-stand-featuring-kirk-brock/2026-11-06/
LOCATION:Clancy’s – Vacationaire\, 26333 Icon Dr\, Park Rapids\, 56470\, United States
CATEGORIES:Music
ATTACH;FMTTYPE=image/jpeg:https://heartlandlakescommunitycalendar.com/wp-content/uploads/2026/01/KirkBrock2019FridayNights.jpg
END:VEVENT
BEGIN:VEVENT
DTSTART;TZID=UTC:20261106T190000
DTEND;TZID=UTC:20261106T230000
DTSTAMP:20260420T150532
CREATED:20250129T002340Z
LAST-MODIFIED:20250129T002340Z
UID:10007564-1793991600-1794006000@heartlandlakescommunitycalendar.com
SUMMARY:Karaoke
DESCRIPTION:Step into the spotlight and sing your heart out at Karaoke Night! Whether you’re a seasoned performer or just love belting out your favorite tunes\, this is your chance to shine. Bring your friends\, pick your favorite songs\, and let the good vibes flow. With a lively atmosphere\, plenty of laughs\, and a playlist packed with hits\, it’s guaranteed to be a night to remember. 🎵 No experience required—just a love for music and fun! \n 
URL:https://heartlandlakescommunitycalendar.com/index.php/event/karaoke/2026-11-06/
LOCATION:Park Rapids American Legion\, 900 1st St E\, Park Rapids\, MN\, 56470\, United States
CATEGORIES:Music,Social
ATTACH;FMTTYPE=image/png:https://heartlandlakescommunitycalendar.com/wp-content/uploads/2025/01/karaoke-night.png
ORGANIZER;CN="Park Rapids American Legion":MAILTO:barmanagerpost212@arvig.net
END:VEVENT
BEGIN:VEVENT
DTSTART;TZID=America/New_York:20261112T170000
DTEND;TZID=America/New_York:20261112T200000
DTSTAMP:20260420T150532
CREATED:20260105T151445Z
LAST-MODIFIED:20260105T151509Z
UID:10011109-1794502800-1794513600@heartlandlakescommunitycalendar.com
SUMMARY:Live Music with Don Holmen
DESCRIPTION:Join us for live music with Don Holmen every Thursday night at 218 Venture Bar and Eatery
URL:https://heartlandlakescommunitycalendar.com/index.php/event/live-music-with-don-holmen/2026-11-12/
LOCATION:218 Venture Bar and Eatery\, 20456 MN-226\, Park Rapids\, MN\, 56470\, United States
CATEGORIES:Music
ATTACH;FMTTYPE=image/jpeg:https://heartlandlakescommunitycalendar.com/wp-content/uploads/2026/01/donholmenthursday.jpg
ORGANIZER;CN="218 Venture Bar and Eatery":MAILTO:218venture@gmail.com
END:VEVENT
BEGIN:VEVENT
DTSTART;TZID=America/New_York:20261113T183000
DTEND;TZID=America/New_York:20261113T213000
DTSTAMP:20260420T150532
CREATED:20260105T151741Z
LAST-MODIFIED:20260105T151741Z
UID:10011370-1794594600-1794605400@heartlandlakescommunitycalendar.com
SUMMARY:One Knight Stand featuring Kirk Brock
DESCRIPTION:Join us every Friday at Clancy’s Restaurant and Bar for One Knight Stand featuring Kirk Brock
URL:https://heartlandlakescommunitycalendar.com/index.php/event/one-knight-stand-featuring-kirk-brock/2026-11-13/
LOCATION:Clancy’s – Vacationaire\, 26333 Icon Dr\, Park Rapids\, 56470\, United States
CATEGORIES:Music
ATTACH;FMTTYPE=image/jpeg:https://heartlandlakescommunitycalendar.com/wp-content/uploads/2026/01/KirkBrock2019FridayNights.jpg
END:VEVENT
BEGIN:VEVENT
DTSTART;TZID=UTC:20261113T190000
DTEND;TZID=UTC:20261113T230000
DTSTAMP:20260420T150532
CREATED:20250129T002340Z
LAST-MODIFIED:20250129T002340Z
UID:10007565-1794596400-1794610800@heartlandlakescommunitycalendar.com
SUMMARY:Karaoke
DESCRIPTION:Step into the spotlight and sing your heart out at Karaoke Night! Whether you’re a seasoned performer or just love belting out your favorite tunes\, this is your chance to shine. Bring your friends\, pick your favorite songs\, and let the good vibes flow. With a lively atmosphere\, plenty of laughs\, and a playlist packed with hits\, it’s guaranteed to be a night to remember. 🎵 No experience required—just a love for music and fun! \n 
URL:https://heartlandlakescommunitycalendar.com/index.php/event/karaoke/2026-11-13/
LOCATION:Park Rapids American Legion\, 900 1st St E\, Park Rapids\, MN\, 56470\, United States
CATEGORIES:Music,Social
ATTACH;FMTTYPE=image/png:https://heartlandlakescommunitycalendar.com/wp-content/uploads/2025/01/karaoke-night.png
ORGANIZER;CN="Park Rapids American Legion":MAILTO:barmanagerpost212@arvig.net
END:VEVENT
BEGIN:VEVENT
DTSTART;TZID=America/New_York:20261119T170000
DTEND;TZID=America/New_York:20261119T200000
DTSTAMP:20260420T150532
CREATED:20260105T151445Z
LAST-MODIFIED:20260105T151509Z
UID:10011110-1795107600-1795118400@heartlandlakescommunitycalendar.com
SUMMARY:Live Music with Don Holmen
DESCRIPTION:Join us for live music with Don Holmen every Thursday night at 218 Venture Bar and Eatery
URL:https://heartlandlakescommunitycalendar.com/index.php/event/live-music-with-don-holmen/2026-11-19/
LOCATION:218 Venture Bar and Eatery\, 20456 MN-226\, Park Rapids\, MN\, 56470\, United States
CATEGORIES:Music
ATTACH;FMTTYPE=image/jpeg:https://heartlandlakescommunitycalendar.com/wp-content/uploads/2026/01/donholmenthursday.jpg
ORGANIZER;CN="218 Venture Bar and Eatery":MAILTO:218venture@gmail.com
END:VEVENT
BEGIN:VEVENT
DTSTART;TZID=America/New_York:20261120T183000
DTEND;TZID=America/New_York:20261120T213000
DTSTAMP:20260420T150532
CREATED:20260105T151741Z
LAST-MODIFIED:20260105T151741Z
UID:10011371-1795199400-1795210200@heartlandlakescommunitycalendar.com
SUMMARY:One Knight Stand featuring Kirk Brock
DESCRIPTION:Join us every Friday at Clancy’s Restaurant and Bar for One Knight Stand featuring Kirk Brock
URL:https://heartlandlakescommunitycalendar.com/index.php/event/one-knight-stand-featuring-kirk-brock/2026-11-20/
LOCATION:Clancy’s – Vacationaire\, 26333 Icon Dr\, Park Rapids\, 56470\, United States
CATEGORIES:Music
ATTACH;FMTTYPE=image/jpeg:https://heartlandlakescommunitycalendar.com/wp-content/uploads/2026/01/KirkBrock2019FridayNights.jpg
END:VEVENT
BEGIN:VEVENT
DTSTART;TZID=UTC:20261120T190000
DTEND;TZID=UTC:20261120T230000
DTSTAMP:20260420T150533
CREATED:20250129T002340Z
LAST-MODIFIED:20250129T002340Z
UID:10007566-1795201200-1795215600@heartlandlakescommunitycalendar.com
SUMMARY:Karaoke
DESCRIPTION:Step into the spotlight and sing your heart out at Karaoke Night! Whether you’re a seasoned performer or just love belting out your favorite tunes\, this is your chance to shine. Bring your friends\, pick your favorite songs\, and let the good vibes flow. With a lively atmosphere\, plenty of laughs\, and a playlist packed with hits\, it’s guaranteed to be a night to remember. 🎵 No experience required—just a love for music and fun! \n 
URL:https://heartlandlakescommunitycalendar.com/index.php/event/karaoke/2026-11-20/
LOCATION:Park Rapids American Legion\, 900 1st St E\, Park Rapids\, MN\, 56470\, United States
CATEGORIES:Music,Social
ATTACH;FMTTYPE=image/png:https://heartlandlakescommunitycalendar.com/wp-content/uploads/2025/01/karaoke-night.png
ORGANIZER;CN="Park Rapids American Legion":MAILTO:barmanagerpost212@arvig.net
END:VEVENT
BEGIN:VEVENT
DTSTART;TZID=America/New_York:20261126T170000
DTEND;TZID=America/New_York:20261126T200000
DTSTAMP:20260420T150533
CREATED:20260105T151445Z
LAST-MODIFIED:20260105T151509Z
UID:10011111-1795712400-1795723200@heartlandlakescommunitycalendar.com
SUMMARY:Live Music with Don Holmen
DESCRIPTION:Join us for live music with Don Holmen every Thursday night at 218 Venture Bar and Eatery
URL:https://heartlandlakescommunitycalendar.com/index.php/event/live-music-with-don-holmen/2026-11-26/
LOCATION:218 Venture Bar and Eatery\, 20456 MN-226\, Park Rapids\, MN\, 56470\, United States
CATEGORIES:Music
ATTACH;FMTTYPE=image/jpeg:https://heartlandlakescommunitycalendar.com/wp-content/uploads/2026/01/donholmenthursday.jpg
ORGANIZER;CN="218 Venture Bar and Eatery":MAILTO:218venture@gmail.com
END:VEVENT
BEGIN:VEVENT
DTSTART;TZID=America/New_York:20261127T183000
DTEND;TZID=America/New_York:20261127T213000
DTSTAMP:20260420T150533
CREATED:20260105T151741Z
LAST-MODIFIED:20260105T151741Z
UID:10011372-1795804200-1795815000@heartlandlakescommunitycalendar.com
SUMMARY:One Knight Stand featuring Kirk Brock
DESCRIPTION:Join us every Friday at Clancy’s Restaurant and Bar for One Knight Stand featuring Kirk Brock
URL:https://heartlandlakescommunitycalendar.com/index.php/event/one-knight-stand-featuring-kirk-brock/2026-11-27/
LOCATION:Clancy’s – Vacationaire\, 26333 Icon Dr\, Park Rapids\, 56470\, United States
CATEGORIES:Music
ATTACH;FMTTYPE=image/jpeg:https://heartlandlakescommunitycalendar.com/wp-content/uploads/2026/01/KirkBrock2019FridayNights.jpg
END:VEVENT
BEGIN:VEVENT
DTSTART;TZID=UTC:20261127T190000
DTEND;TZID=UTC:20261127T230000
DTSTAMP:20260420T150533
CREATED:20250129T002340Z
LAST-MODIFIED:20250129T002340Z
UID:10007567-1795806000-1795820400@heartlandlakescommunitycalendar.com
SUMMARY:Karaoke
DESCRIPTION:Step into the spotlight and sing your heart out at Karaoke Night! Whether you’re a seasoned performer or just love belting out your favorite tunes\, this is your chance to shine. Bring your friends\, pick your favorite songs\, and let the good vibes flow. With a lively atmosphere\, plenty of laughs\, and a playlist packed with hits\, it’s guaranteed to be a night to remember. 🎵 No experience required—just a love for music and fun! \n 
URL:https://heartlandlakescommunitycalendar.com/index.php/event/karaoke/2026-11-27/
LOCATION:Park Rapids American Legion\, 900 1st St E\, Park Rapids\, MN\, 56470\, United States
CATEGORIES:Music,Social
ATTACH;FMTTYPE=image/png:https://heartlandlakescommunitycalendar.com/wp-content/uploads/2025/01/karaoke-night.png
ORGANIZER;CN="Park Rapids American Legion":MAILTO:barmanagerpost212@arvig.net
END:VEVENT
BEGIN:VEVENT
DTSTART;TZID=America/New_York:20261203T170000
DTEND;TZID=America/New_York:20261203T200000
DTSTAMP:20260420T150533
CREATED:20260105T151445Z
LAST-MODIFIED:20260105T151509Z
UID:10011112-1796317200-1796328000@heartlandlakescommunitycalendar.com
SUMMARY:Live Music with Don Holmen
DESCRIPTION:Join us for live music with Don Holmen every Thursday night at 218 Venture Bar and Eatery
URL:https://heartlandlakescommunitycalendar.com/index.php/event/live-music-with-don-holmen/2026-12-03/
LOCATION:218 Venture Bar and Eatery\, 20456 MN-226\, Park Rapids\, MN\, 56470\, United States
CATEGORIES:Music
ATTACH;FMTTYPE=image/jpeg:https://heartlandlakescommunitycalendar.com/wp-content/uploads/2026/01/donholmenthursday.jpg
ORGANIZER;CN="218 Venture Bar and Eatery":MAILTO:218venture@gmail.com
END:VEVENT
BEGIN:VEVENT
DTSTART;TZID=America/New_York:20261204T183000
DTEND;TZID=America/New_York:20261204T213000
DTSTAMP:20260420T150533
CREATED:20260105T151741Z
LAST-MODIFIED:20260105T151741Z
UID:10011373-1796409000-1796419800@heartlandlakescommunitycalendar.com
SUMMARY:One Knight Stand featuring Kirk Brock
DESCRIPTION:Join us every Friday at Clancy’s Restaurant and Bar for One Knight Stand featuring Kirk Brock
URL:https://heartlandlakescommunitycalendar.com/index.php/event/one-knight-stand-featuring-kirk-brock/2026-12-04/
LOCATION:Clancy’s – Vacationaire\, 26333 Icon Dr\, Park Rapids\, 56470\, United States
CATEGORIES:Music
ATTACH;FMTTYPE=image/jpeg:https://heartlandlakescommunitycalendar.com/wp-content/uploads/2026/01/KirkBrock2019FridayNights.jpg
END:VEVENT
BEGIN:VEVENT
DTSTART;TZID=UTC:20261204T190000
DTEND;TZID=UTC:20261204T230000
DTSTAMP:20260420T150533
CREATED:20250129T002340Z
LAST-MODIFIED:20250129T002340Z
UID:10007568-1796410800-1796425200@heartlandlakescommunitycalendar.com
SUMMARY:Karaoke
DESCRIPTION:Step into the spotlight and sing your heart out at Karaoke Night! Whether you’re a seasoned performer or just love belting out your favorite tunes\, this is your chance to shine. Bring your friends\, pick your favorite songs\, and let the good vibes flow. With a lively atmosphere\, plenty of laughs\, and a playlist packed with hits\, it’s guaranteed to be a night to remember. 🎵 No experience required—just a love for music and fun! \n 
URL:https://heartlandlakescommunitycalendar.com/index.php/event/karaoke/2026-12-04/
LOCATION:Park Rapids American Legion\, 900 1st St E\, Park Rapids\, MN\, 56470\, United States
CATEGORIES:Music,Social
ATTACH;FMTTYPE=image/png:https://heartlandlakescommunitycalendar.com/wp-content/uploads/2025/01/karaoke-night.png
ORGANIZER;CN="Park Rapids American Legion":MAILTO:barmanagerpost212@arvig.net
END:VEVENT
BEGIN:VEVENT
DTSTART;TZID=America/New_York:20261210T170000
DTEND;TZID=America/New_York:20261210T200000
DTSTAMP:20260420T150533
CREATED:20260105T151445Z
LAST-MODIFIED:20260105T151509Z
UID:10011113-1796922000-1796932800@heartlandlakescommunitycalendar.com
SUMMARY:Live Music with Don Holmen
DESCRIPTION:Join us for live music with Don Holmen every Thursday night at 218 Venture Bar and Eatery
URL:https://heartlandlakescommunitycalendar.com/index.php/event/live-music-with-don-holmen/2026-12-10/
LOCATION:218 Venture Bar and Eatery\, 20456 MN-226\, Park Rapids\, MN\, 56470\, United States
CATEGORIES:Music
ATTACH;FMTTYPE=image/jpeg:https://heartlandlakescommunitycalendar.com/wp-content/uploads/2026/01/donholmenthursday.jpg
ORGANIZER;CN="218 Venture Bar and Eatery":MAILTO:218venture@gmail.com
END:VEVENT
BEGIN:VEVENT
DTSTART;TZID=America/New_York:20261211T183000
DTEND;TZID=America/New_York:20261211T213000
DTSTAMP:20260420T150533
CREATED:20260105T151741Z
LAST-MODIFIED:20260105T151741Z
UID:10011374-1797013800-1797024600@heartlandlakescommunitycalendar.com
SUMMARY:One Knight Stand featuring Kirk Brock
DESCRIPTION:Join us every Friday at Clancy’s Restaurant and Bar for One Knight Stand featuring Kirk Brock
URL:https://heartlandlakescommunitycalendar.com/index.php/event/one-knight-stand-featuring-kirk-brock/2026-12-11/
LOCATION:Clancy’s – Vacationaire\, 26333 Icon Dr\, Park Rapids\, 56470\, United States
CATEGORIES:Music
ATTACH;FMTTYPE=image/jpeg:https://heartlandlakescommunitycalendar.com/wp-content/uploads/2026/01/KirkBrock2019FridayNights.jpg
END:VEVENT
BEGIN:VEVENT
DTSTART;TZID=UTC:20261211T190000
DTEND;TZID=UTC:20261211T230000
DTSTAMP:20260420T150533
CREATED:20250129T002340Z
LAST-MODIFIED:20250129T002340Z
UID:10007569-1797015600-1797030000@heartlandlakescommunitycalendar.com
SUMMARY:Karaoke
DESCRIPTION:Step into the spotlight and sing your heart out at Karaoke Night! Whether you’re a seasoned performer or just love belting out your favorite tunes\, this is your chance to shine. Bring your friends\, pick your favorite songs\, and let the good vibes flow. With a lively atmosphere\, plenty of laughs\, and a playlist packed with hits\, it’s guaranteed to be a night to remember. 🎵 No experience required—just a love for music and fun! \n 
URL:https://heartlandlakescommunitycalendar.com/index.php/event/karaoke/2026-12-11/
LOCATION:Park Rapids American Legion\, 900 1st St E\, Park Rapids\, MN\, 56470\, United States
CATEGORIES:Music,Social
ATTACH;FMTTYPE=image/png:https://heartlandlakescommunitycalendar.com/wp-content/uploads/2025/01/karaoke-night.png
ORGANIZER;CN="Park Rapids American Legion":MAILTO:barmanagerpost212@arvig.net
END:VEVENT
BEGIN:VEVENT
DTSTART;TZID=America/New_York:20261217T170000
DTEND;TZID=America/New_York:20261217T200000
DTSTAMP:20260420T150533
CREATED:20260105T151445Z
LAST-MODIFIED:20260105T151509Z
UID:10011114-1797526800-1797537600@heartlandlakescommunitycalendar.com
SUMMARY:Live Music with Don Holmen
DESCRIPTION:Join us for live music with Don Holmen every Thursday night at 218 Venture Bar and Eatery
URL:https://heartlandlakescommunitycalendar.com/index.php/event/live-music-with-don-holmen/2026-12-17/
LOCATION:218 Venture Bar and Eatery\, 20456 MN-226\, Park Rapids\, MN\, 56470\, United States
CATEGORIES:Music
ATTACH;FMTTYPE=image/jpeg:https://heartlandlakescommunitycalendar.com/wp-content/uploads/2026/01/donholmenthursday.jpg
ORGANIZER;CN="218 Venture Bar and Eatery":MAILTO:218venture@gmail.com
END:VEVENT
BEGIN:VEVENT
DTSTART;TZID=America/New_York:20261218T183000
DTEND;TZID=America/New_York:20261218T213000
DTSTAMP:20260420T150533
CREATED:20260105T151741Z
LAST-MODIFIED:20260105T151741Z
UID:10011375-1797618600-1797629400@heartlandlakescommunitycalendar.com
SUMMARY:One Knight Stand featuring Kirk Brock
DESCRIPTION:Join us every Friday at Clancy’s Restaurant and Bar for One Knight Stand featuring Kirk Brock
URL:https://heartlandlakescommunitycalendar.com/index.php/event/one-knight-stand-featuring-kirk-brock/2026-12-18/
LOCATION:Clancy’s – Vacationaire\, 26333 Icon Dr\, Park Rapids\, 56470\, United States
CATEGORIES:Music
ATTACH;FMTTYPE=image/jpeg:https://heartlandlakescommunitycalendar.com/wp-content/uploads/2026/01/KirkBrock2019FridayNights.jpg
END:VEVENT
BEGIN:VEVENT
DTSTART;TZID=UTC:20261218T190000
DTEND;TZID=UTC:20261218T230000
DTSTAMP:20260420T150533
CREATED:20250129T002340Z
LAST-MODIFIED:20250129T002340Z
UID:10007570-1797620400-1797634800@heartlandlakescommunitycalendar.com
SUMMARY:Karaoke
DESCRIPTION:Step into the spotlight and sing your heart out at Karaoke Night! Whether you’re a seasoned performer or just love belting out your favorite tunes\, this is your chance to shine. Bring your friends\, pick your favorite songs\, and let the good vibes flow. With a lively atmosphere\, plenty of laughs\, and a playlist packed with hits\, it’s guaranteed to be a night to remember. 🎵 No experience required—just a love for music and fun! \n 
URL:https://heartlandlakescommunitycalendar.com/index.php/event/karaoke/2026-12-18/
LOCATION:Park Rapids American Legion\, 900 1st St E\, Park Rapids\, MN\, 56470\, United States
CATEGORIES:Music,Social
ATTACH;FMTTYPE=image/png:https://heartlandlakescommunitycalendar.com/wp-content/uploads/2025/01/karaoke-night.png
ORGANIZER;CN="Park Rapids American Legion":MAILTO:barmanagerpost212@arvig.net
END:VEVENT
BEGIN:VEVENT
DTSTART;TZID=America/New_York:20261224T170000
DTEND;TZID=America/New_York:20261224T200000
DTSTAMP:20260420T150533
CREATED:20260105T151445Z
LAST-MODIFIED:20260105T151509Z
UID:10011115-1798131600-1798142400@heartlandlakescommunitycalendar.com
SUMMARY:Live Music with Don Holmen
DESCRIPTION:Join us for live music with Don Holmen every Thursday night at 218 Venture Bar and Eatery
URL:https://heartlandlakescommunitycalendar.com/index.php/event/live-music-with-don-holmen/2026-12-24/
LOCATION:218 Venture Bar and Eatery\, 20456 MN-226\, Park Rapids\, MN\, 56470\, United States
CATEGORIES:Music
ATTACH;FMTTYPE=image/jpeg:https://heartlandlakescommunitycalendar.com/wp-content/uploads/2026/01/donholmenthursday.jpg
ORGANIZER;CN="218 Venture Bar and Eatery":MAILTO:218venture@gmail.com
END:VEVENT
BEGIN:VEVENT
DTSTART;TZID=America/New_York:20261225T183000
DTEND;TZID=America/New_York:20261225T213000
DTSTAMP:20260420T150533
CREATED:20260105T151741Z
LAST-MODIFIED:20260105T151741Z
UID:10011376-1798223400-1798234200@heartlandlakescommunitycalendar.com
SUMMARY:One Knight Stand featuring Kirk Brock
DESCRIPTION:Join us every Friday at Clancy’s Restaurant and Bar for One Knight Stand featuring Kirk Brock
URL:https://heartlandlakescommunitycalendar.com/index.php/event/one-knight-stand-featuring-kirk-brock/2026-12-25/
LOCATION:Clancy’s – Vacationaire\, 26333 Icon Dr\, Park Rapids\, 56470\, United States
CATEGORIES:Music
ATTACH;FMTTYPE=image/jpeg:https://heartlandlakescommunitycalendar.com/wp-content/uploads/2026/01/KirkBrock2019FridayNights.jpg
END:VEVENT
BEGIN:VEVENT
DTSTART;TZID=UTC:20261225T190000
DTEND;TZID=UTC:20261225T230000
DTSTAMP:20260420T150533
CREATED:20250129T002340Z
LAST-MODIFIED:20250129T002340Z
UID:10007571-1798225200-1798239600@heartlandlakescommunitycalendar.com
SUMMARY:Karaoke
DESCRIPTION:Step into the spotlight and sing your heart out at Karaoke Night! Whether you’re a seasoned performer or just love belting out your favorite tunes\, this is your chance to shine. Bring your friends\, pick your favorite songs\, and let the good vibes flow. With a lively atmosphere\, plenty of laughs\, and a playlist packed with hits\, it’s guaranteed to be a night to remember. 🎵 No experience required—just a love for music and fun! \n 
URL:https://heartlandlakescommunitycalendar.com/index.php/event/karaoke/2026-12-25/
LOCATION:Park Rapids American Legion\, 900 1st St E\, Park Rapids\, MN\, 56470\, United States
CATEGORIES:Music,Social
ATTACH;FMTTYPE=image/png:https://heartlandlakescommunitycalendar.com/wp-content/uploads/2025/01/karaoke-night.png
ORGANIZER;CN="Park Rapids American Legion":MAILTO:barmanagerpost212@arvig.net
END:VEVENT
BEGIN:VEVENT
DTSTART;TZID=America/New_York:20261231T170000
DTEND;TZID=America/New_York:20261231T200000
DTSTAMP:20260420T150533
CREATED:20260105T151445Z
LAST-MODIFIED:20260105T151509Z
UID:10011116-1798736400-1798747200@heartlandlakescommunitycalendar.com
SUMMARY:Live Music with Don Holmen
DESCRIPTION:Join us for live music with Don Holmen every Thursday night at 218 Venture Bar and Eatery
URL:https://heartlandlakescommunitycalendar.com/index.php/event/live-music-with-don-holmen/2026-12-31/
LOCATION:218 Venture Bar and Eatery\, 20456 MN-226\, Park Rapids\, MN\, 56470\, United States
CATEGORIES:Music
ATTACH;FMTTYPE=image/jpeg:https://heartlandlakescommunitycalendar.com/wp-content/uploads/2026/01/donholmenthursday.jpg
ORGANIZER;CN="218 Venture Bar and Eatery":MAILTO:218venture@gmail.com
END:VEVENT
BEGIN:VEVENT
DTSTART;TZID=America/New_York:20270101T183000
DTEND;TZID=America/New_York:20270101T213000
DTSTAMP:20260420T150533
CREATED:20260105T151741Z
LAST-MODIFIED:20260105T151741Z
UID:10011377-1798828200-1798839000@heartlandlakescommunitycalendar.com
SUMMARY:One Knight Stand featuring Kirk Brock
DESCRIPTION:Join us every Friday at Clancy’s Restaurant and Bar for One Knight Stand featuring Kirk Brock
URL:https://heartlandlakescommunitycalendar.com/index.php/event/one-knight-stand-featuring-kirk-brock/2027-01-01/
LOCATION:Clancy’s – Vacationaire\, 26333 Icon Dr\, Park Rapids\, 56470\, United States
CATEGORIES:Music
ATTACH;FMTTYPE=image/jpeg:https://heartlandlakescommunitycalendar.com/wp-content/uploads/2026/01/KirkBrock2019FridayNights.jpg
END:VEVENT
BEGIN:VEVENT
DTSTART;TZID=UTC:20270101T190000
DTEND;TZID=UTC:20270101T230000
DTSTAMP:20260420T150533
CREATED:20250129T002340Z
LAST-MODIFIED:20250129T002340Z
UID:10007572-1798830000-1798844400@heartlandlakescommunitycalendar.com
SUMMARY:Karaoke
DESCRIPTION:Step into the spotlight and sing your heart out at Karaoke Night! Whether you’re a seasoned performer or just love belting out your favorite tunes\, this is your chance to shine. Bring your friends\, pick your favorite songs\, and let the good vibes flow. With a lively atmosphere\, plenty of laughs\, and a playlist packed with hits\, it’s guaranteed to be a night to remember. 🎵 No experience required—just a love for music and fun! \n 
URL:https://heartlandlakescommunitycalendar.com/index.php/event/karaoke/2027-01-01/
LOCATION:Park Rapids American Legion\, 900 1st St E\, Park Rapids\, MN\, 56470\, United States
CATEGORIES:Music,Social
ATTACH;FMTTYPE=image/png:https://heartlandlakescommunitycalendar.com/wp-content/uploads/2025/01/karaoke-night.png
ORGANIZER;CN="Park Rapids American Legion":MAILTO:barmanagerpost212@arvig.net
END:VEVENT
BEGIN:VEVENT
DTSTART;TZID=America/New_York:20270107T170000
DTEND;TZID=America/New_York:20270107T200000
DTSTAMP:20260420T150533
CREATED:20260105T151445Z
LAST-MODIFIED:20260105T151509Z
UID:10011117-1799341200-1799352000@heartlandlakescommunitycalendar.com
SUMMARY:Live Music with Don Holmen
DESCRIPTION:Join us for live music with Don Holmen every Thursday night at 218 Venture Bar and Eatery
URL:https://heartlandlakescommunitycalendar.com/index.php/event/live-music-with-don-holmen/2027-01-07/
LOCATION:218 Venture Bar and Eatery\, 20456 MN-226\, Park Rapids\, MN\, 56470\, United States
CATEGORIES:Music
ATTACH;FMTTYPE=image/jpeg:https://heartlandlakescommunitycalendar.com/wp-content/uploads/2026/01/donholmenthursday.jpg
ORGANIZER;CN="218 Venture Bar and Eatery":MAILTO:218venture@gmail.com
END:VEVENT
BEGIN:VEVENT
DTSTART;TZID=America/New_York:20270108T183000
DTEND;TZID=America/New_York:20270108T213000
DTSTAMP:20260420T150533
CREATED:20260105T151741Z
LAST-MODIFIED:20260105T151741Z
UID:10011378-1799433000-1799443800@heartlandlakescommunitycalendar.com
SUMMARY:One Knight Stand featuring Kirk Brock
DESCRIPTION:Join us every Friday at Clancy’s Restaurant and Bar for One Knight Stand featuring Kirk Brock
URL:https://heartlandlakescommunitycalendar.com/index.php/event/one-knight-stand-featuring-kirk-brock/2027-01-08/
LOCATION:Clancy’s – Vacationaire\, 26333 Icon Dr\, Park Rapids\, 56470\, United States
CATEGORIES:Music
ATTACH;FMTTYPE=image/jpeg:https://heartlandlakescommunitycalendar.com/wp-content/uploads/2026/01/KirkBrock2019FridayNights.jpg
END:VEVENT
END:VCALENDAR