BEGIN:VCALENDAR
VERSION:2.0
PRODID:-//The Heartland Lakes Community Calendar - ECPv6.3.7//NONSGML v1.0//EN
CALSCALE:GREGORIAN
METHOD:PUBLISH
X-ORIGINAL-URL:https://heartlandlakescommunitycalendar.com
X-WR-CALDESC:Events for The Heartland Lakes Community Calendar
REFRESH-INTERVAL;VALUE=DURATION:PT1H
X-Robots-Tag:noindex
X-PUBLISHED-TTL:PT1H
BEGIN:VTIMEZONE
TZID:America/New_York
BEGIN:DAYLIGHT
TZOFFSETFROM:-0500
TZOFFSETTO:-0400
TZNAME:EDT
DTSTART:20250309T070000
END:DAYLIGHT
BEGIN:STANDARD
TZOFFSETFROM:-0400
TZOFFSETTO:-0500
TZNAME:EST
DTSTART:20251102T060000
END:STANDARD
TZID:UTC
BEGIN:STANDARD
TZOFFSETFROM:+0000
TZOFFSETTO:+0000
TZNAME:UTC
DTSTART:20250101T000000
END:STANDARD
END:VTIMEZONE
BEGIN:VEVENT
DTSTART;TZID=America/New_York:20251016T190000
DTEND;TZID=America/New_York:20251016T210000
DTSTAMP:20260422T121150
CREATED:20250818T071557Z
LAST-MODIFIED:20250818T071557Z
UID:10010716-1760641200-1760648400@heartlandlakescommunitycalendar.com
SUMMARY:Open Mic Nights
DESCRIPTION:Your voice. Your stage. Show us what you got! Open Mic Night at the Armory Main Stage– Where the spotlight is yours. Big stage. Your moment! Doors open at 6\, show starts at 7. Free admission! $5 Donations are encouraged and welcome!!
URL:https://heartlandlakescommunitycalendar.com/index.php/event/open-mic-nights/2025-10-16/
LOCATION:Armory Arts & Events Center\, 203 Park Ave. South\, Park Rapids\, MN\, 56470\, United States
CATEGORIES:Arts,Entertainment,Music
ORGANIZER;CN="Armory Arts & Events Center":MAILTO:jkjenaas@parkrapidsarmory.org
END:VEVENT
BEGIN:VEVENT
DTSTART;TZID=UTC:20251017T190000
DTEND;TZID=UTC:20251017T230000
DTSTAMP:20260422T121150
CREATED:20250129T002340Z
LAST-MODIFIED:20250129T002340Z
UID:10007509-1760727600-1760742000@heartlandlakescommunitycalendar.com
SUMMARY:Karaoke
DESCRIPTION:Step into the spotlight and sing your heart out at Karaoke Night! Whether you’re a seasoned performer or just love belting out your favorite tunes\, this is your chance to shine. Bring your friends\, pick your favorite songs\, and let the good vibes flow. With a lively atmosphere\, plenty of laughs\, and a playlist packed with hits\, it’s guaranteed to be a night to remember. 🎵 No experience required—just a love for music and fun! \n 
URL:https://heartlandlakescommunitycalendar.com/index.php/event/karaoke/2025-10-17/
LOCATION:Park Rapids American Legion\, 900 1st St E\, Park Rapids\, MN\, 56470\, United States
CATEGORIES:Music,Social
ATTACH;FMTTYPE=image/png:https://heartlandlakescommunitycalendar.com/wp-content/uploads/2025/01/karaoke-night.png
ORGANIZER;CN="Park Rapids American Legion":MAILTO:barmanagerpost212@arvig.net
END:VEVENT
BEGIN:VEVENT
DTSTART;TZID=America/New_York:20251018T190000
DTEND;TZID=America/New_York:20251018T210000
DTSTAMP:20260422T121150
CREATED:20250818T072429Z
LAST-MODIFIED:20250818T072429Z
UID:10010724-1760814000-1760821200@heartlandlakescommunitycalendar.com
SUMMARY:Joyanne Parker Band
DESCRIPTION:#11 ALBUM BILLBOARD BLUES CHART #1 ALBUM NACC CHART 2021 BLUES BLAST AWARDS NOMINEE – BEST CONTEMPORARY BLUES ALBUM “OUT OF THE DARK” \n“A singing\, songwriting\, guitar-playing\, self-producing\, self-aware powerhouse\, but the driving force is unquestionably her voice — a formidable instrument she wields with soul and taste.” (Bliss Bowen/Pasadena Weekly)
URL:https://heartlandlakescommunitycalendar.com/index.php/event/joyanne-parker-band/
LOCATION:Armory Arts & Events Center\, 203 Park Ave. South\, Park Rapids\, MN\, 56470\, United States
CATEGORIES:Music
ORGANIZER;CN="Armory Arts & Events Center":MAILTO:jkjenaas@parkrapidsarmory.org
END:VEVENT
END:VCALENDAR