BEGIN:VCALENDAR
VERSION:2.0
PRODID:-//The Heartland Lakes Community Calendar - ECPv6.3.7//NONSGML v1.0//EN
CALSCALE:GREGORIAN
METHOD:PUBLISH
X-ORIGINAL-URL:https://heartlandlakescommunitycalendar.com
X-WR-CALDESC:Events for The Heartland Lakes Community Calendar
REFRESH-INTERVAL;VALUE=DURATION:PT1H
X-Robots-Tag:noindex
X-PUBLISHED-TTL:PT1H
BEGIN:VTIMEZONE
TZID:America/New_York
BEGIN:DAYLIGHT
TZOFFSETFROM:-0500
TZOFFSETTO:-0400
TZNAME:EDT
DTSTART:20260308T070000
END:DAYLIGHT
BEGIN:STANDARD
TZOFFSETFROM:-0400
TZOFFSETTO:-0500
TZNAME:EST
DTSTART:20261101T060000
END:STANDARD
END:VTIMEZONE
BEGIN:VEVENT
DTSTART;VALUE=DATE:20260926
DTEND;VALUE=DATE:20260927
DTSTAMP:20260423T093807
CREATED:20260302T065759Z
LAST-MODIFIED:20260302T065759Z
UID:10012199-1790380800-1790467199@heartlandlakescommunitycalendar.com
SUMMARY:Headwaters 100 Bike Event
DESCRIPTION:The Headwaters 100 is the premier event of the Itascatur Outdoor Activity Club. Every year we have hundreds of cyclists from all over North America join us in beautiful Park Rapids\, MN to tour the spectacular fall colors. The Headwaters 100 will take place on Saturday\, September 26\, 2026. Updates prior to registration opening in early May will be posted on our Itascatur Facebook page.
URL:https://heartlandlakescommunitycalendar.com/index.php/event/headwaters-100-bike-event-2/
LOCATION:Century School\, 501 Helten Ave\, Park Rapids\, 56470\, United States
CATEGORIES:Sport
END:VEVENT
END:VCALENDAR