BEGIN:VCALENDAR
VERSION:2.0
PRODID:-//The Heartland Lakes Community Calendar - ECPv6.3.7//NONSGML v1.0//EN
CALSCALE:GREGORIAN
METHOD:PUBLISH
X-ORIGINAL-URL:https://heartlandlakescommunitycalendar.com
X-WR-CALDESC:Events for The Heartland Lakes Community Calendar
REFRESH-INTERVAL;VALUE=DURATION:PT1H
X-Robots-Tag:noindex
X-PUBLISHED-TTL:PT1H
BEGIN:VTIMEZONE
TZID:America/New_York
BEGIN:DAYLIGHT
TZOFFSETFROM:-0500
TZOFFSETTO:-0400
TZNAME:EDT
DTSTART:20260308T070000
END:DAYLIGHT
BEGIN:STANDARD
TZOFFSETFROM:-0400
TZOFFSETTO:-0500
TZNAME:EST
DTSTART:20261101T060000
END:STANDARD
END:VTIMEZONE
BEGIN:VEVENT
DTSTART;TZID=America/New_York:20260603T140000
DTEND;TZID=America/New_York:20260603T153000
DTSTAMP:20260420T221718
CREATED:20260302T042820Z
LAST-MODIFIED:20260302T043204Z
UID:10012107-1780495200-1780500600@heartlandlakescommunitycalendar.com
SUMMARY:Gospel Jubilee
DESCRIPTION:Come fill your heart with joy at this uplifting gospel show\, featuring beloved favorites from “How Great Thou Art” to some fast fiddlin’ to “I’ll Fly Away.” It’s a joyful journey of faith-filled songs\, rich harmonies\, and heartfelt moments that celebrate hope\, grace\, and the power of music. Come sing along with 4 generations of our family\, be inspired\, and leave smiling.  These shows fill up fast\, get your tickets today!
URL:https://heartlandlakescommunitycalendar.com/index.php/event/gospel-jubilee/2026-06-03/
LOCATION:Jasper’s Theater\, 17339 State. Hwy 34\, Park Rapids\, MN\, 56470\, United States
CATEGORIES:Theater
ATTACH;FMTTYPE=image/jpeg:https://heartlandlakescommunitycalendar.com/wp-content/uploads/2026/03/Gospel-Jubilee.jpg
ORGANIZER;CN="Jasper's Theater":MAILTO:jasperstheater@gmail.com
END:VEVENT
END:VCALENDAR