BEGIN:VCALENDAR
VERSION:2.0
PRODID:-//The Heartland Lakes Community Calendar - ECPv6.3.7//NONSGML v1.0//EN
CALSCALE:GREGORIAN
METHOD:PUBLISH
X-WR-CALNAME:The Heartland Lakes Community Calendar
X-ORIGINAL-URL:https://heartlandlakescommunitycalendar.com
X-WR-CALDESC:Events for The Heartland Lakes Community Calendar
REFRESH-INTERVAL;VALUE=DURATION:PT1H
X-Robots-Tag:noindex
X-PUBLISHED-TTL:PT1H
BEGIN:VTIMEZONE
TZID:America/New_York
BEGIN:DAYLIGHT
TZOFFSETFROM:-0500
TZOFFSETTO:-0400
TZNAME:EDT
DTSTART:20260308T070000
END:DAYLIGHT
BEGIN:STANDARD
TZOFFSETFROM:-0400
TZOFFSETTO:-0500
TZNAME:EST
DTSTART:20261101T060000
END:STANDARD
END:VTIMEZONE
BEGIN:VEVENT
DTSTART;TZID=America/New_York:20260610T140000
DTEND;TZID=America/New_York:20260610T153000
DTSTAMP:20260420T221516
CREATED:20260302T043311Z
LAST-MODIFIED:20260302T043311Z
UID:10012109-1781100000-1781105400@heartlandlakescommunitycalendar.com
SUMMARY:Waylon\, Willie\, and the Boys with the Dan Brekke Band
DESCRIPTION:Waylon\, Willie\, and the Boys—a tribute to classic outlaw country by the Dan Brekke Band—will be bringin’ you the legendary hits of Waylon Jennings and Willie Nelson\, along with the unforgettable songs of Merle Haggard\, like “Mama Tried” and “Silver Wings.” And it wouldn’t be a country show without some good ol’ fiddlin’\, so get ready for a fiery tribute to Charlie Daniels\, including “The Devil Went Down to Georgia.” Packed with stories\, laughs\, and all your favorite country tunes\, this is one honky-tonk good time you won’t wanna miss! One show only!
URL:https://heartlandlakescommunitycalendar.com/index.php/event/waylon-willie-and-the-boys-with-the-dan-brekke-band/
LOCATION:Jasper’s Theater\, 17339 State. Hwy 34\, Park Rapids\, MN\, 56470\, United States
CATEGORIES:Theater
ATTACH;FMTTYPE=image/avif:https://heartlandlakescommunitycalendar.com/wp-content/uploads/2026/03/Waylon-willie-26-small.avif
ORGANIZER;CN="Jasper's Theater":MAILTO:jasperstheater@gmail.com
END:VEVENT
END:VCALENDAR