BEGIN:VCALENDAR
VERSION:2.0
PRODID:-//The Heartland Lakes Community Calendar - ECPv6.3.7//NONSGML v1.0//EN
CALSCALE:GREGORIAN
METHOD:PUBLISH
X-WR-CALNAME:The Heartland Lakes Community Calendar
X-ORIGINAL-URL:https://heartlandlakescommunitycalendar.com
X-WR-CALDESC:Events for The Heartland Lakes Community Calendar
REFRESH-INTERVAL;VALUE=DURATION:PT1H
X-Robots-Tag:noindex
X-PUBLISHED-TTL:PT1H
BEGIN:VTIMEZONE
TZID:America/New_York
BEGIN:DAYLIGHT
TZOFFSETFROM:-0500
TZOFFSETTO:-0400
TZNAME:EDT
DTSTART:20260308T070000
END:DAYLIGHT
BEGIN:STANDARD
TZOFFSETFROM:-0400
TZOFFSETTO:-0500
TZNAME:EST
DTSTART:20261101T060000
END:STANDARD
END:VTIMEZONE
BEGIN:VEVENT
DTSTART;TZID=America/New_York:20260617T140000
DTEND;TZID=America/New_York:20260617T153000
DTSTAMP:20260421T042705
CREATED:20260302T043444Z
LAST-MODIFIED:20260302T043444Z
UID:10012110-1781704800-1781710200@heartlandlakescommunitycalendar.com
SUMMARY:Crooners\, Big Bands\, and Cool Cats
DESCRIPTION:Swing into an unforgettable afternoon with “Crooners\, Big Bands\, and Cool Cats”! 🎶 Get ready for a high-energy show featuring the timeless hits of legends like Frank Sinatra\, Tony Bennett\, Dean Martin\, Peggy Lee\, and the iconic big band sounds of Glenn Miller\, Count Basie\, and Duke Ellington. With the sensational Kathie Brekke & the 42nd Street Jazz Band bringing the beat\, rising star 16-year-old Austin Miller stealing hearts with his smooth vocals and Espen tossing in her flair with dance and voice! This show is packed with style\, charm\, and fantastic music. 🎷 Don’t miss this swingin’\, singin’\, and all-around cool afternoon of big band magic! 🕺
URL:https://heartlandlakescommunitycalendar.com/index.php/event/crooners-big-bands-and-cool-cats-2/
LOCATION:Jasper’s Theater\, 17339 State. Hwy 34\, Park Rapids\, MN\, 56470\, United States
CATEGORIES:Theater
ATTACH;FMTTYPE=image/avif:https://heartlandlakescommunitycalendar.com/wp-content/uploads/2026/03/Crooners.avif
ORGANIZER;CN="Jasper's Theater":MAILTO:jasperstheater@gmail.com
END:VEVENT
END:VCALENDAR