BEGIN:VCALENDAR
VERSION:2.0
PRODID:-//The Heartland Lakes Community Calendar - ECPv6.3.7//NONSGML v1.0//EN
CALSCALE:GREGORIAN
METHOD:PUBLISH
X-WR-CALNAME:The Heartland Lakes Community Calendar
X-ORIGINAL-URL:https://heartlandlakescommunitycalendar.com
X-WR-CALDESC:Events for The Heartland Lakes Community Calendar
REFRESH-INTERVAL;VALUE=DURATION:PT1H
X-Robots-Tag:noindex
X-PUBLISHED-TTL:PT1H
BEGIN:VTIMEZONE
TZID:UTC
BEGIN:STANDARD
TZOFFSETFROM:+0000
TZOFFSETTO:+0000
TZNAME:UTC
DTSTART:20260101T000000
END:STANDARD
END:VTIMEZONE
BEGIN:VEVENT
DTSTART;TZID=UTC:20260716T183000
DTEND;TZID=UTC:20260716T213000
DTSTAMP:20260421T021657
CREATED:20250129T001540Z
LAST-MODIFIED:20250129T001540Z
UID:10007025-1784226600-1784237400@heartlandlakescommunitycalendar.com
SUMMARY:Backroom Bingo
DESCRIPTION:Grab your lucky charms and join us for a night of excitement\, laughter\, and prizes! Whether you’re a seasoned pro or a first-time player\, Bingo is the perfect way to bring friends and family together. Let the numbers roll and the fun begin! 🥳
URL:https://heartlandlakescommunitycalendar.com/index.php/event/backroom-bingo/2026-07-16/
LOCATION:Park Rapids American Legion\, 900 1st St E\, Park Rapids\, MN\, 56470\, United States
CATEGORIES:Social
ATTACH;FMTTYPE=image/png:https://heartlandlakescommunitycalendar.com/wp-content/uploads/2025/01/BingoSmall.png
ORGANIZER;CN="Park Rapids American Legion":MAILTO:barmanagerpost212@arvig.net
END:VEVENT
BEGIN:VEVENT
DTSTART;TZID=UTC:20260723T183000
DTEND;TZID=UTC:20260723T213000
DTSTAMP:20260421T021657
CREATED:20250129T001540Z
LAST-MODIFIED:20250129T001540Z
UID:10007026-1784831400-1784842200@heartlandlakescommunitycalendar.com
SUMMARY:Backroom Bingo
DESCRIPTION:Grab your lucky charms and join us for a night of excitement\, laughter\, and prizes! Whether you’re a seasoned pro or a first-time player\, Bingo is the perfect way to bring friends and family together. Let the numbers roll and the fun begin! 🥳
URL:https://heartlandlakescommunitycalendar.com/index.php/event/backroom-bingo/2026-07-23/
LOCATION:Park Rapids American Legion\, 900 1st St E\, Park Rapids\, MN\, 56470\, United States
CATEGORIES:Social
ATTACH;FMTTYPE=image/png:https://heartlandlakescommunitycalendar.com/wp-content/uploads/2025/01/BingoSmall.png
ORGANIZER;CN="Park Rapids American Legion":MAILTO:barmanagerpost212@arvig.net
END:VEVENT
BEGIN:VEVENT
DTSTART;TZID=UTC:20260730T183000
DTEND;TZID=UTC:20260730T213000
DTSTAMP:20260421T021657
CREATED:20250129T001540Z
LAST-MODIFIED:20250129T001540Z
UID:10007027-1785436200-1785447000@heartlandlakescommunitycalendar.com
SUMMARY:Backroom Bingo
DESCRIPTION:Grab your lucky charms and join us for a night of excitement\, laughter\, and prizes! Whether you’re a seasoned pro or a first-time player\, Bingo is the perfect way to bring friends and family together. Let the numbers roll and the fun begin! 🥳
URL:https://heartlandlakescommunitycalendar.com/index.php/event/backroom-bingo/2026-07-30/
LOCATION:Park Rapids American Legion\, 900 1st St E\, Park Rapids\, MN\, 56470\, United States
CATEGORIES:Social
ATTACH;FMTTYPE=image/png:https://heartlandlakescommunitycalendar.com/wp-content/uploads/2025/01/BingoSmall.png
ORGANIZER;CN="Park Rapids American Legion":MAILTO:barmanagerpost212@arvig.net
END:VEVENT
BEGIN:VEVENT
DTSTART;TZID=UTC:20260806T183000
DTEND;TZID=UTC:20260806T213000
DTSTAMP:20260421T021657
CREATED:20250129T001540Z
LAST-MODIFIED:20250129T001540Z
UID:10007028-1786041000-1786051800@heartlandlakescommunitycalendar.com
SUMMARY:Backroom Bingo
DESCRIPTION:Grab your lucky charms and join us for a night of excitement\, laughter\, and prizes! Whether you’re a seasoned pro or a first-time player\, Bingo is the perfect way to bring friends and family together. Let the numbers roll and the fun begin! 🥳
URL:https://heartlandlakescommunitycalendar.com/index.php/event/backroom-bingo/2026-08-06/
LOCATION:Park Rapids American Legion\, 900 1st St E\, Park Rapids\, MN\, 56470\, United States
CATEGORIES:Social
ATTACH;FMTTYPE=image/png:https://heartlandlakescommunitycalendar.com/wp-content/uploads/2025/01/BingoSmall.png
ORGANIZER;CN="Park Rapids American Legion":MAILTO:barmanagerpost212@arvig.net
END:VEVENT
BEGIN:VEVENT
DTSTART;TZID=UTC:20260813T183000
DTEND;TZID=UTC:20260813T213000
DTSTAMP:20260421T021657
CREATED:20250129T001540Z
LAST-MODIFIED:20250129T001540Z
UID:10007029-1786645800-1786656600@heartlandlakescommunitycalendar.com
SUMMARY:Backroom Bingo
DESCRIPTION:Grab your lucky charms and join us for a night of excitement\, laughter\, and prizes! Whether you’re a seasoned pro or a first-time player\, Bingo is the perfect way to bring friends and family together. Let the numbers roll and the fun begin! 🥳
URL:https://heartlandlakescommunitycalendar.com/index.php/event/backroom-bingo/2026-08-13/
LOCATION:Park Rapids American Legion\, 900 1st St E\, Park Rapids\, MN\, 56470\, United States
CATEGORIES:Social
ATTACH;FMTTYPE=image/png:https://heartlandlakescommunitycalendar.com/wp-content/uploads/2025/01/BingoSmall.png
ORGANIZER;CN="Park Rapids American Legion":MAILTO:barmanagerpost212@arvig.net
END:VEVENT
BEGIN:VEVENT
DTSTART;TZID=UTC:20260820T183000
DTEND;TZID=UTC:20260820T213000
DTSTAMP:20260421T021657
CREATED:20250129T001540Z
LAST-MODIFIED:20250129T001540Z
UID:10007030-1787250600-1787261400@heartlandlakescommunitycalendar.com
SUMMARY:Backroom Bingo
DESCRIPTION:Grab your lucky charms and join us for a night of excitement\, laughter\, and prizes! Whether you’re a seasoned pro or a first-time player\, Bingo is the perfect way to bring friends and family together. Let the numbers roll and the fun begin! 🥳
URL:https://heartlandlakescommunitycalendar.com/index.php/event/backroom-bingo/2026-08-20/
LOCATION:Park Rapids American Legion\, 900 1st St E\, Park Rapids\, MN\, 56470\, United States
CATEGORIES:Social
ATTACH;FMTTYPE=image/png:https://heartlandlakescommunitycalendar.com/wp-content/uploads/2025/01/BingoSmall.png
ORGANIZER;CN="Park Rapids American Legion":MAILTO:barmanagerpost212@arvig.net
END:VEVENT
BEGIN:VEVENT
DTSTART;TZID=UTC:20260827T183000
DTEND;TZID=UTC:20260827T213000
DTSTAMP:20260421T021657
CREATED:20250129T001540Z
LAST-MODIFIED:20250129T001540Z
UID:10007031-1787855400-1787866200@heartlandlakescommunitycalendar.com
SUMMARY:Backroom Bingo
DESCRIPTION:Grab your lucky charms and join us for a night of excitement\, laughter\, and prizes! Whether you’re a seasoned pro or a first-time player\, Bingo is the perfect way to bring friends and family together. Let the numbers roll and the fun begin! 🥳
URL:https://heartlandlakescommunitycalendar.com/index.php/event/backroom-bingo/2026-08-27/
LOCATION:Park Rapids American Legion\, 900 1st St E\, Park Rapids\, MN\, 56470\, United States
CATEGORIES:Social
ATTACH;FMTTYPE=image/png:https://heartlandlakescommunitycalendar.com/wp-content/uploads/2025/01/BingoSmall.png
ORGANIZER;CN="Park Rapids American Legion":MAILTO:barmanagerpost212@arvig.net
END:VEVENT
BEGIN:VEVENT
DTSTART;TZID=UTC:20260903T183000
DTEND;TZID=UTC:20260903T213000
DTSTAMP:20260421T021657
CREATED:20250129T001540Z
LAST-MODIFIED:20250129T001540Z
UID:10007032-1788460200-1788471000@heartlandlakescommunitycalendar.com
SUMMARY:Backroom Bingo
DESCRIPTION:Grab your lucky charms and join us for a night of excitement\, laughter\, and prizes! Whether you’re a seasoned pro or a first-time player\, Bingo is the perfect way to bring friends and family together. Let the numbers roll and the fun begin! 🥳
URL:https://heartlandlakescommunitycalendar.com/index.php/event/backroom-bingo/2026-09-03/
LOCATION:Park Rapids American Legion\, 900 1st St E\, Park Rapids\, MN\, 56470\, United States
CATEGORIES:Social
ATTACH;FMTTYPE=image/png:https://heartlandlakescommunitycalendar.com/wp-content/uploads/2025/01/BingoSmall.png
ORGANIZER;CN="Park Rapids American Legion":MAILTO:barmanagerpost212@arvig.net
END:VEVENT
BEGIN:VEVENT
DTSTART;TZID=UTC:20260910T183000
DTEND;TZID=UTC:20260910T213000
DTSTAMP:20260421T021657
CREATED:20250129T001540Z
LAST-MODIFIED:20250129T001540Z
UID:10007033-1789065000-1789075800@heartlandlakescommunitycalendar.com
SUMMARY:Backroom Bingo
DESCRIPTION:Grab your lucky charms and join us for a night of excitement\, laughter\, and prizes! Whether you’re a seasoned pro or a first-time player\, Bingo is the perfect way to bring friends and family together. Let the numbers roll and the fun begin! 🥳
URL:https://heartlandlakescommunitycalendar.com/index.php/event/backroom-bingo/2026-09-10/
LOCATION:Park Rapids American Legion\, 900 1st St E\, Park Rapids\, MN\, 56470\, United States
CATEGORIES:Social
ATTACH;FMTTYPE=image/png:https://heartlandlakescommunitycalendar.com/wp-content/uploads/2025/01/BingoSmall.png
ORGANIZER;CN="Park Rapids American Legion":MAILTO:barmanagerpost212@arvig.net
END:VEVENT
BEGIN:VEVENT
DTSTART;TZID=UTC:20260917T183000
DTEND;TZID=UTC:20260917T213000
DTSTAMP:20260421T021657
CREATED:20250129T001540Z
LAST-MODIFIED:20250129T001540Z
UID:10007034-1789669800-1789680600@heartlandlakescommunitycalendar.com
SUMMARY:Backroom Bingo
DESCRIPTION:Grab your lucky charms and join us for a night of excitement\, laughter\, and prizes! Whether you’re a seasoned pro or a first-time player\, Bingo is the perfect way to bring friends and family together. Let the numbers roll and the fun begin! 🥳
URL:https://heartlandlakescommunitycalendar.com/index.php/event/backroom-bingo/2026-09-17/
LOCATION:Park Rapids American Legion\, 900 1st St E\, Park Rapids\, MN\, 56470\, United States
CATEGORIES:Social
ATTACH;FMTTYPE=image/png:https://heartlandlakescommunitycalendar.com/wp-content/uploads/2025/01/BingoSmall.png
ORGANIZER;CN="Park Rapids American Legion":MAILTO:barmanagerpost212@arvig.net
END:VEVENT
BEGIN:VEVENT
DTSTART;TZID=UTC:20260924T183000
DTEND;TZID=UTC:20260924T213000
DTSTAMP:20260421T021657
CREATED:20250129T001540Z
LAST-MODIFIED:20250129T001540Z
UID:10007035-1790274600-1790285400@heartlandlakescommunitycalendar.com
SUMMARY:Backroom Bingo
DESCRIPTION:Grab your lucky charms and join us for a night of excitement\, laughter\, and prizes! Whether you’re a seasoned pro or a first-time player\, Bingo is the perfect way to bring friends and family together. Let the numbers roll and the fun begin! 🥳
URL:https://heartlandlakescommunitycalendar.com/index.php/event/backroom-bingo/2026-09-24/
LOCATION:Park Rapids American Legion\, 900 1st St E\, Park Rapids\, MN\, 56470\, United States
CATEGORIES:Social
ATTACH;FMTTYPE=image/png:https://heartlandlakescommunitycalendar.com/wp-content/uploads/2025/01/BingoSmall.png
ORGANIZER;CN="Park Rapids American Legion":MAILTO:barmanagerpost212@arvig.net
END:VEVENT
BEGIN:VEVENT
DTSTART;TZID=UTC:20261001T183000
DTEND;TZID=UTC:20261001T213000
DTSTAMP:20260421T021658
CREATED:20250129T001540Z
LAST-MODIFIED:20250129T001540Z
UID:10007036-1790879400-1790890200@heartlandlakescommunitycalendar.com
SUMMARY:Backroom Bingo
DESCRIPTION:Grab your lucky charms and join us for a night of excitement\, laughter\, and prizes! Whether you’re a seasoned pro or a first-time player\, Bingo is the perfect way to bring friends and family together. Let the numbers roll and the fun begin! 🥳
URL:https://heartlandlakescommunitycalendar.com/index.php/event/backroom-bingo/2026-10-01/
LOCATION:Park Rapids American Legion\, 900 1st St E\, Park Rapids\, MN\, 56470\, United States
CATEGORIES:Social
ATTACH;FMTTYPE=image/png:https://heartlandlakescommunitycalendar.com/wp-content/uploads/2025/01/BingoSmall.png
ORGANIZER;CN="Park Rapids American Legion":MAILTO:barmanagerpost212@arvig.net
END:VEVENT
BEGIN:VEVENT
DTSTART;TZID=UTC:20261008T183000
DTEND;TZID=UTC:20261008T213000
DTSTAMP:20260421T021658
CREATED:20250129T001540Z
LAST-MODIFIED:20250129T001540Z
UID:10007037-1791484200-1791495000@heartlandlakescommunitycalendar.com
SUMMARY:Backroom Bingo
DESCRIPTION:Grab your lucky charms and join us for a night of excitement\, laughter\, and prizes! Whether you’re a seasoned pro or a first-time player\, Bingo is the perfect way to bring friends and family together. Let the numbers roll and the fun begin! 🥳
URL:https://heartlandlakescommunitycalendar.com/index.php/event/backroom-bingo/2026-10-08/
LOCATION:Park Rapids American Legion\, 900 1st St E\, Park Rapids\, MN\, 56470\, United States
CATEGORIES:Social
ATTACH;FMTTYPE=image/png:https://heartlandlakescommunitycalendar.com/wp-content/uploads/2025/01/BingoSmall.png
ORGANIZER;CN="Park Rapids American Legion":MAILTO:barmanagerpost212@arvig.net
END:VEVENT
BEGIN:VEVENT
DTSTART;TZID=UTC:20261015T183000
DTEND;TZID=UTC:20261015T213000
DTSTAMP:20260421T021658
CREATED:20250129T001540Z
LAST-MODIFIED:20250129T001540Z
UID:10007038-1792089000-1792099800@heartlandlakescommunitycalendar.com
SUMMARY:Backroom Bingo
DESCRIPTION:Grab your lucky charms and join us for a night of excitement\, laughter\, and prizes! Whether you’re a seasoned pro or a first-time player\, Bingo is the perfect way to bring friends and family together. Let the numbers roll and the fun begin! 🥳
URL:https://heartlandlakescommunitycalendar.com/index.php/event/backroom-bingo/2026-10-15/
LOCATION:Park Rapids American Legion\, 900 1st St E\, Park Rapids\, MN\, 56470\, United States
CATEGORIES:Social
ATTACH;FMTTYPE=image/png:https://heartlandlakescommunitycalendar.com/wp-content/uploads/2025/01/BingoSmall.png
ORGANIZER;CN="Park Rapids American Legion":MAILTO:barmanagerpost212@arvig.net
END:VEVENT
BEGIN:VEVENT
DTSTART;TZID=UTC:20261022T183000
DTEND;TZID=UTC:20261022T213000
DTSTAMP:20260421T021658
CREATED:20250129T001540Z
LAST-MODIFIED:20250129T001540Z
UID:10007039-1792693800-1792704600@heartlandlakescommunitycalendar.com
SUMMARY:Backroom Bingo
DESCRIPTION:Grab your lucky charms and join us for a night of excitement\, laughter\, and prizes! Whether you’re a seasoned pro or a first-time player\, Bingo is the perfect way to bring friends and family together. Let the numbers roll and the fun begin! 🥳
URL:https://heartlandlakescommunitycalendar.com/index.php/event/backroom-bingo/2026-10-22/
LOCATION:Park Rapids American Legion\, 900 1st St E\, Park Rapids\, MN\, 56470\, United States
CATEGORIES:Social
ATTACH;FMTTYPE=image/png:https://heartlandlakescommunitycalendar.com/wp-content/uploads/2025/01/BingoSmall.png
ORGANIZER;CN="Park Rapids American Legion":MAILTO:barmanagerpost212@arvig.net
END:VEVENT
BEGIN:VEVENT
DTSTART;TZID=UTC:20261029T183000
DTEND;TZID=UTC:20261029T213000
DTSTAMP:20260421T021658
CREATED:20250129T001540Z
LAST-MODIFIED:20250129T001540Z
UID:10007040-1793298600-1793309400@heartlandlakescommunitycalendar.com
SUMMARY:Backroom Bingo
DESCRIPTION:Grab your lucky charms and join us for a night of excitement\, laughter\, and prizes! Whether you’re a seasoned pro or a first-time player\, Bingo is the perfect way to bring friends and family together. Let the numbers roll and the fun begin! 🥳
URL:https://heartlandlakescommunitycalendar.com/index.php/event/backroom-bingo/2026-10-29/
LOCATION:Park Rapids American Legion\, 900 1st St E\, Park Rapids\, MN\, 56470\, United States
CATEGORIES:Social
ATTACH;FMTTYPE=image/png:https://heartlandlakescommunitycalendar.com/wp-content/uploads/2025/01/BingoSmall.png
ORGANIZER;CN="Park Rapids American Legion":MAILTO:barmanagerpost212@arvig.net
END:VEVENT
BEGIN:VEVENT
DTSTART;TZID=UTC:20261105T183000
DTEND;TZID=UTC:20261105T213000
DTSTAMP:20260421T021658
CREATED:20250129T001540Z
LAST-MODIFIED:20250129T001540Z
UID:10007041-1793903400-1793914200@heartlandlakescommunitycalendar.com
SUMMARY:Backroom Bingo
DESCRIPTION:Grab your lucky charms and join us for a night of excitement\, laughter\, and prizes! Whether you’re a seasoned pro or a first-time player\, Bingo is the perfect way to bring friends and family together. Let the numbers roll and the fun begin! 🥳
URL:https://heartlandlakescommunitycalendar.com/index.php/event/backroom-bingo/2026-11-05/
LOCATION:Park Rapids American Legion\, 900 1st St E\, Park Rapids\, MN\, 56470\, United States
CATEGORIES:Social
ATTACH;FMTTYPE=image/png:https://heartlandlakescommunitycalendar.com/wp-content/uploads/2025/01/BingoSmall.png
ORGANIZER;CN="Park Rapids American Legion":MAILTO:barmanagerpost212@arvig.net
END:VEVENT
BEGIN:VEVENT
DTSTART;TZID=UTC:20261112T183000
DTEND;TZID=UTC:20261112T213000
DTSTAMP:20260421T021658
CREATED:20250129T001540Z
LAST-MODIFIED:20250129T001540Z
UID:10007042-1794508200-1794519000@heartlandlakescommunitycalendar.com
SUMMARY:Backroom Bingo
DESCRIPTION:Grab your lucky charms and join us for a night of excitement\, laughter\, and prizes! Whether you’re a seasoned pro or a first-time player\, Bingo is the perfect way to bring friends and family together. Let the numbers roll and the fun begin! 🥳
URL:https://heartlandlakescommunitycalendar.com/index.php/event/backroom-bingo/2026-11-12/
LOCATION:Park Rapids American Legion\, 900 1st St E\, Park Rapids\, MN\, 56470\, United States
CATEGORIES:Social
ATTACH;FMTTYPE=image/png:https://heartlandlakescommunitycalendar.com/wp-content/uploads/2025/01/BingoSmall.png
ORGANIZER;CN="Park Rapids American Legion":MAILTO:barmanagerpost212@arvig.net
END:VEVENT
BEGIN:VEVENT
DTSTART;TZID=UTC:20261119T183000
DTEND;TZID=UTC:20261119T213000
DTSTAMP:20260421T021658
CREATED:20250129T001540Z
LAST-MODIFIED:20250129T001540Z
UID:10007043-1795113000-1795123800@heartlandlakescommunitycalendar.com
SUMMARY:Backroom Bingo
DESCRIPTION:Grab your lucky charms and join us for a night of excitement\, laughter\, and prizes! Whether you’re a seasoned pro or a first-time player\, Bingo is the perfect way to bring friends and family together. Let the numbers roll and the fun begin! 🥳
URL:https://heartlandlakescommunitycalendar.com/index.php/event/backroom-bingo/2026-11-19/
LOCATION:Park Rapids American Legion\, 900 1st St E\, Park Rapids\, MN\, 56470\, United States
CATEGORIES:Social
ATTACH;FMTTYPE=image/png:https://heartlandlakescommunitycalendar.com/wp-content/uploads/2025/01/BingoSmall.png
ORGANIZER;CN="Park Rapids American Legion":MAILTO:barmanagerpost212@arvig.net
END:VEVENT
BEGIN:VEVENT
DTSTART;TZID=UTC:20261126T183000
DTEND;TZID=UTC:20261126T213000
DTSTAMP:20260421T021658
CREATED:20250129T001540Z
LAST-MODIFIED:20250129T001540Z
UID:10007044-1795717800-1795728600@heartlandlakescommunitycalendar.com
SUMMARY:Backroom Bingo
DESCRIPTION:Grab your lucky charms and join us for a night of excitement\, laughter\, and prizes! Whether you’re a seasoned pro or a first-time player\, Bingo is the perfect way to bring friends and family together. Let the numbers roll and the fun begin! 🥳
URL:https://heartlandlakescommunitycalendar.com/index.php/event/backroom-bingo/2026-11-26/
LOCATION:Park Rapids American Legion\, 900 1st St E\, Park Rapids\, MN\, 56470\, United States
CATEGORIES:Social
ATTACH;FMTTYPE=image/png:https://heartlandlakescommunitycalendar.com/wp-content/uploads/2025/01/BingoSmall.png
ORGANIZER;CN="Park Rapids American Legion":MAILTO:barmanagerpost212@arvig.net
END:VEVENT
BEGIN:VEVENT
DTSTART;TZID=UTC:20261203T183000
DTEND;TZID=UTC:20261203T213000
DTSTAMP:20260421T021658
CREATED:20250129T001540Z
LAST-MODIFIED:20250129T001540Z
UID:10007045-1796322600-1796333400@heartlandlakescommunitycalendar.com
SUMMARY:Backroom Bingo
DESCRIPTION:Grab your lucky charms and join us for a night of excitement\, laughter\, and prizes! Whether you’re a seasoned pro or a first-time player\, Bingo is the perfect way to bring friends and family together. Let the numbers roll and the fun begin! 🥳
URL:https://heartlandlakescommunitycalendar.com/index.php/event/backroom-bingo/2026-12-03/
LOCATION:Park Rapids American Legion\, 900 1st St E\, Park Rapids\, MN\, 56470\, United States
CATEGORIES:Social
ATTACH;FMTTYPE=image/png:https://heartlandlakescommunitycalendar.com/wp-content/uploads/2025/01/BingoSmall.png
ORGANIZER;CN="Park Rapids American Legion":MAILTO:barmanagerpost212@arvig.net
END:VEVENT
BEGIN:VEVENT
DTSTART;TZID=UTC:20261210T183000
DTEND;TZID=UTC:20261210T213000
DTSTAMP:20260421T021658
CREATED:20250129T001540Z
LAST-MODIFIED:20250129T001540Z
UID:10007046-1796927400-1796938200@heartlandlakescommunitycalendar.com
SUMMARY:Backroom Bingo
DESCRIPTION:Grab your lucky charms and join us for a night of excitement\, laughter\, and prizes! Whether you’re a seasoned pro or a first-time player\, Bingo is the perfect way to bring friends and family together. Let the numbers roll and the fun begin! 🥳
URL:https://heartlandlakescommunitycalendar.com/index.php/event/backroom-bingo/2026-12-10/
LOCATION:Park Rapids American Legion\, 900 1st St E\, Park Rapids\, MN\, 56470\, United States
CATEGORIES:Social
ATTACH;FMTTYPE=image/png:https://heartlandlakescommunitycalendar.com/wp-content/uploads/2025/01/BingoSmall.png
ORGANIZER;CN="Park Rapids American Legion":MAILTO:barmanagerpost212@arvig.net
END:VEVENT
BEGIN:VEVENT
DTSTART;TZID=UTC:20261217T183000
DTEND;TZID=UTC:20261217T213000
DTSTAMP:20260421T021658
CREATED:20250129T001540Z
LAST-MODIFIED:20250129T001540Z
UID:10007047-1797532200-1797543000@heartlandlakescommunitycalendar.com
SUMMARY:Backroom Bingo
DESCRIPTION:Grab your lucky charms and join us for a night of excitement\, laughter\, and prizes! Whether you’re a seasoned pro or a first-time player\, Bingo is the perfect way to bring friends and family together. Let the numbers roll and the fun begin! 🥳
URL:https://heartlandlakescommunitycalendar.com/index.php/event/backroom-bingo/2026-12-17/
LOCATION:Park Rapids American Legion\, 900 1st St E\, Park Rapids\, MN\, 56470\, United States
CATEGORIES:Social
ATTACH;FMTTYPE=image/png:https://heartlandlakescommunitycalendar.com/wp-content/uploads/2025/01/BingoSmall.png
ORGANIZER;CN="Park Rapids American Legion":MAILTO:barmanagerpost212@arvig.net
END:VEVENT
BEGIN:VEVENT
DTSTART;TZID=UTC:20261224T183000
DTEND;TZID=UTC:20261224T213000
DTSTAMP:20260421T021658
CREATED:20250129T001540Z
LAST-MODIFIED:20250129T001540Z
UID:10007048-1798137000-1798147800@heartlandlakescommunitycalendar.com
SUMMARY:Backroom Bingo
DESCRIPTION:Grab your lucky charms and join us for a night of excitement\, laughter\, and prizes! Whether you’re a seasoned pro or a first-time player\, Bingo is the perfect way to bring friends and family together. Let the numbers roll and the fun begin! 🥳
URL:https://heartlandlakescommunitycalendar.com/index.php/event/backroom-bingo/2026-12-24/
LOCATION:Park Rapids American Legion\, 900 1st St E\, Park Rapids\, MN\, 56470\, United States
CATEGORIES:Social
ATTACH;FMTTYPE=image/png:https://heartlandlakescommunitycalendar.com/wp-content/uploads/2025/01/BingoSmall.png
ORGANIZER;CN="Park Rapids American Legion":MAILTO:barmanagerpost212@arvig.net
END:VEVENT
BEGIN:VEVENT
DTSTART;TZID=UTC:20261231T183000
DTEND;TZID=UTC:20261231T213000
DTSTAMP:20260421T021658
CREATED:20250129T001540Z
LAST-MODIFIED:20250129T001540Z
UID:10007049-1798741800-1798752600@heartlandlakescommunitycalendar.com
SUMMARY:Backroom Bingo
DESCRIPTION:Grab your lucky charms and join us for a night of excitement\, laughter\, and prizes! Whether you’re a seasoned pro or a first-time player\, Bingo is the perfect way to bring friends and family together. Let the numbers roll and the fun begin! 🥳
URL:https://heartlandlakescommunitycalendar.com/index.php/event/backroom-bingo/2026-12-31/
LOCATION:Park Rapids American Legion\, 900 1st St E\, Park Rapids\, MN\, 56470\, United States
CATEGORIES:Social
ATTACH;FMTTYPE=image/png:https://heartlandlakescommunitycalendar.com/wp-content/uploads/2025/01/BingoSmall.png
ORGANIZER;CN="Park Rapids American Legion":MAILTO:barmanagerpost212@arvig.net
END:VEVENT
BEGIN:VEVENT
DTSTART;TZID=UTC:20270107T183000
DTEND;TZID=UTC:20270107T213000
DTSTAMP:20260421T021658
CREATED:20250129T001540Z
LAST-MODIFIED:20250129T001540Z
UID:10007050-1799346600-1799357400@heartlandlakescommunitycalendar.com
SUMMARY:Backroom Bingo
DESCRIPTION:Grab your lucky charms and join us for a night of excitement\, laughter\, and prizes! Whether you’re a seasoned pro or a first-time player\, Bingo is the perfect way to bring friends and family together. Let the numbers roll and the fun begin! 🥳
URL:https://heartlandlakescommunitycalendar.com/index.php/event/backroom-bingo/2027-01-07/
LOCATION:Park Rapids American Legion\, 900 1st St E\, Park Rapids\, MN\, 56470\, United States
CATEGORIES:Social
ATTACH;FMTTYPE=image/png:https://heartlandlakescommunitycalendar.com/wp-content/uploads/2025/01/BingoSmall.png
ORGANIZER;CN="Park Rapids American Legion":MAILTO:barmanagerpost212@arvig.net
END:VEVENT
BEGIN:VEVENT
DTSTART;TZID=UTC:20270114T183000
DTEND;TZID=UTC:20270114T213000
DTSTAMP:20260421T021658
CREATED:20250129T001540Z
LAST-MODIFIED:20250129T001540Z
UID:10007051-1799951400-1799962200@heartlandlakescommunitycalendar.com
SUMMARY:Backroom Bingo
DESCRIPTION:Grab your lucky charms and join us for a night of excitement\, laughter\, and prizes! Whether you’re a seasoned pro or a first-time player\, Bingo is the perfect way to bring friends and family together. Let the numbers roll and the fun begin! 🥳
URL:https://heartlandlakescommunitycalendar.com/index.php/event/backroom-bingo/2027-01-14/
LOCATION:Park Rapids American Legion\, 900 1st St E\, Park Rapids\, MN\, 56470\, United States
CATEGORIES:Social
ATTACH;FMTTYPE=image/png:https://heartlandlakescommunitycalendar.com/wp-content/uploads/2025/01/BingoSmall.png
ORGANIZER;CN="Park Rapids American Legion":MAILTO:barmanagerpost212@arvig.net
END:VEVENT
BEGIN:VEVENT
DTSTART;TZID=UTC:20270121T183000
DTEND;TZID=UTC:20270121T213000
DTSTAMP:20260421T021658
CREATED:20250129T001540Z
LAST-MODIFIED:20250129T001540Z
UID:10007052-1800556200-1800567000@heartlandlakescommunitycalendar.com
SUMMARY:Backroom Bingo
DESCRIPTION:Grab your lucky charms and join us for a night of excitement\, laughter\, and prizes! Whether you’re a seasoned pro or a first-time player\, Bingo is the perfect way to bring friends and family together. Let the numbers roll and the fun begin! 🥳
URL:https://heartlandlakescommunitycalendar.com/index.php/event/backroom-bingo/2027-01-21/
LOCATION:Park Rapids American Legion\, 900 1st St E\, Park Rapids\, MN\, 56470\, United States
CATEGORIES:Social
ATTACH;FMTTYPE=image/png:https://heartlandlakescommunitycalendar.com/wp-content/uploads/2025/01/BingoSmall.png
ORGANIZER;CN="Park Rapids American Legion":MAILTO:barmanagerpost212@arvig.net
END:VEVENT
BEGIN:VEVENT
DTSTART;TZID=UTC:20270128T183000
DTEND;TZID=UTC:20270128T213000
DTSTAMP:20260421T021658
CREATED:20250129T001540Z
LAST-MODIFIED:20250129T001540Z
UID:10007053-1801161000-1801171800@heartlandlakescommunitycalendar.com
SUMMARY:Backroom Bingo
DESCRIPTION:Grab your lucky charms and join us for a night of excitement\, laughter\, and prizes! Whether you’re a seasoned pro or a first-time player\, Bingo is the perfect way to bring friends and family together. Let the numbers roll and the fun begin! 🥳
URL:https://heartlandlakescommunitycalendar.com/index.php/event/backroom-bingo/2027-01-28/
LOCATION:Park Rapids American Legion\, 900 1st St E\, Park Rapids\, MN\, 56470\, United States
CATEGORIES:Social
ATTACH;FMTTYPE=image/png:https://heartlandlakescommunitycalendar.com/wp-content/uploads/2025/01/BingoSmall.png
ORGANIZER;CN="Park Rapids American Legion":MAILTO:barmanagerpost212@arvig.net
END:VEVENT
BEGIN:VEVENT
DTSTART;TZID=UTC:20270204T183000
DTEND;TZID=UTC:20270204T213000
DTSTAMP:20260421T021658
CREATED:20250129T001540Z
LAST-MODIFIED:20250129T001540Z
UID:10007054-1801765800-1801776600@heartlandlakescommunitycalendar.com
SUMMARY:Backroom Bingo
DESCRIPTION:Grab your lucky charms and join us for a night of excitement\, laughter\, and prizes! Whether you’re a seasoned pro or a first-time player\, Bingo is the perfect way to bring friends and family together. Let the numbers roll and the fun begin! 🥳
URL:https://heartlandlakescommunitycalendar.com/index.php/event/backroom-bingo/2027-02-04/
LOCATION:Park Rapids American Legion\, 900 1st St E\, Park Rapids\, MN\, 56470\, United States
CATEGORIES:Social
ATTACH;FMTTYPE=image/png:https://heartlandlakescommunitycalendar.com/wp-content/uploads/2025/01/BingoSmall.png
ORGANIZER;CN="Park Rapids American Legion":MAILTO:barmanagerpost212@arvig.net
END:VEVENT
END:VCALENDAR