BEGIN:VCALENDAR
VERSION:2.0
PRODID:-//The Heartland Lakes Community Calendar - ECPv6.3.7//NONSGML v1.0//EN
CALSCALE:GREGORIAN
METHOD:PUBLISH
X-WR-CALNAME:The Heartland Lakes Community Calendar
X-ORIGINAL-URL:https://heartlandlakescommunitycalendar.com
X-WR-CALDESC:Events for The Heartland Lakes Community Calendar
REFRESH-INTERVAL;VALUE=DURATION:PT1H
X-Robots-Tag:noindex
X-PUBLISHED-TTL:PT1H
BEGIN:VTIMEZONE
TZID:UTC
BEGIN:STANDARD
TZOFFSETFROM:+0000
TZOFFSETTO:+0000
TZNAME:UTC
DTSTART:20260101T000000
END:STANDARD
END:VTIMEZONE
BEGIN:VEVENT
DTSTART;TZID=UTC:20261008T190000
DTEND;TZID=UTC:20261008T210000
DTSTAMP:20260422T010153
CREATED:20250123T094947Z
LAST-MODIFIED:20250123T095039Z
UID:10004433-1791486000-1791493200@heartlandlakescommunitycalendar.com
SUMMARY:DJ Trivia
DESCRIPTION:Thursday nights just got a whole lot more fun! DJ Trivia kicks off at 7 PM\, so grab your crew and put your knowledge to the test! Fun questions\, great music\, and tons of laughs! Whether you’re a trivia pro or just in it for the fun\, there’s a spot for you at the table. See ya Thursday at 7 PM—let’s get quizzical! 🍺🔥
URL:https://heartlandlakescommunitycalendar.com/index.php/event/dj-trivia/2026-10-08/
LOCATION:Zorbaz\, 22036 County 7\, Park Rapids\, 56470\, United States
CATEGORIES:Entertainment
END:VEVENT
BEGIN:VEVENT
DTSTART;TZID=UTC:20261015T190000
DTEND;TZID=UTC:20261015T210000
DTSTAMP:20260422T010153
CREATED:20250123T094947Z
LAST-MODIFIED:20250123T095039Z
UID:10004434-1792090800-1792098000@heartlandlakescommunitycalendar.com
SUMMARY:DJ Trivia
DESCRIPTION:Thursday nights just got a whole lot more fun! DJ Trivia kicks off at 7 PM\, so grab your crew and put your knowledge to the test! Fun questions\, great music\, and tons of laughs! Whether you’re a trivia pro or just in it for the fun\, there’s a spot for you at the table. See ya Thursday at 7 PM—let’s get quizzical! 🍺🔥
URL:https://heartlandlakescommunitycalendar.com/index.php/event/dj-trivia/2026-10-15/
LOCATION:Zorbaz\, 22036 County 7\, Park Rapids\, 56470\, United States
CATEGORIES:Entertainment
END:VEVENT
BEGIN:VEVENT
DTSTART;TZID=UTC:20261022T190000
DTEND;TZID=UTC:20261022T210000
DTSTAMP:20260422T010153
CREATED:20250123T094947Z
LAST-MODIFIED:20250123T095039Z
UID:10004435-1792695600-1792702800@heartlandlakescommunitycalendar.com
SUMMARY:DJ Trivia
DESCRIPTION:Thursday nights just got a whole lot more fun! DJ Trivia kicks off at 7 PM\, so grab your crew and put your knowledge to the test! Fun questions\, great music\, and tons of laughs! Whether you’re a trivia pro or just in it for the fun\, there’s a spot for you at the table. See ya Thursday at 7 PM—let’s get quizzical! 🍺🔥
URL:https://heartlandlakescommunitycalendar.com/index.php/event/dj-trivia/2026-10-22/
LOCATION:Zorbaz\, 22036 County 7\, Park Rapids\, 56470\, United States
CATEGORIES:Entertainment
END:VEVENT
BEGIN:VEVENT
DTSTART;TZID=UTC:20261029T190000
DTEND;TZID=UTC:20261029T210000
DTSTAMP:20260422T010153
CREATED:20250123T094947Z
LAST-MODIFIED:20250123T095039Z
UID:10004436-1793300400-1793307600@heartlandlakescommunitycalendar.com
SUMMARY:DJ Trivia
DESCRIPTION:Thursday nights just got a whole lot more fun! DJ Trivia kicks off at 7 PM\, so grab your crew and put your knowledge to the test! Fun questions\, great music\, and tons of laughs! Whether you’re a trivia pro or just in it for the fun\, there’s a spot for you at the table. See ya Thursday at 7 PM—let’s get quizzical! 🍺🔥
URL:https://heartlandlakescommunitycalendar.com/index.php/event/dj-trivia/2026-10-29/
LOCATION:Zorbaz\, 22036 County 7\, Park Rapids\, 56470\, United States
CATEGORIES:Entertainment
END:VEVENT
BEGIN:VEVENT
DTSTART;TZID=UTC:20261105T190000
DTEND;TZID=UTC:20261105T210000
DTSTAMP:20260422T010153
CREATED:20250123T094947Z
LAST-MODIFIED:20250123T095039Z
UID:10004437-1793905200-1793912400@heartlandlakescommunitycalendar.com
SUMMARY:DJ Trivia
DESCRIPTION:Thursday nights just got a whole lot more fun! DJ Trivia kicks off at 7 PM\, so grab your crew and put your knowledge to the test! Fun questions\, great music\, and tons of laughs! Whether you’re a trivia pro or just in it for the fun\, there’s a spot for you at the table. See ya Thursday at 7 PM—let’s get quizzical! 🍺🔥
URL:https://heartlandlakescommunitycalendar.com/index.php/event/dj-trivia/2026-11-05/
LOCATION:Zorbaz\, 22036 County 7\, Park Rapids\, 56470\, United States
CATEGORIES:Entertainment
END:VEVENT
BEGIN:VEVENT
DTSTART;TZID=UTC:20261112T190000
DTEND;TZID=UTC:20261112T210000
DTSTAMP:20260422T010153
CREATED:20250123T094947Z
LAST-MODIFIED:20250123T095039Z
UID:10004438-1794510000-1794517200@heartlandlakescommunitycalendar.com
SUMMARY:DJ Trivia
DESCRIPTION:Thursday nights just got a whole lot more fun! DJ Trivia kicks off at 7 PM\, so grab your crew and put your knowledge to the test! Fun questions\, great music\, and tons of laughs! Whether you’re a trivia pro or just in it for the fun\, there’s a spot for you at the table. See ya Thursday at 7 PM—let’s get quizzical! 🍺🔥
URL:https://heartlandlakescommunitycalendar.com/index.php/event/dj-trivia/2026-11-12/
LOCATION:Zorbaz\, 22036 County 7\, Park Rapids\, 56470\, United States
CATEGORIES:Entertainment
END:VEVENT
BEGIN:VEVENT
DTSTART;TZID=UTC:20261119T190000
DTEND;TZID=UTC:20261119T210000
DTSTAMP:20260422T010153
CREATED:20250123T094947Z
LAST-MODIFIED:20250123T095039Z
UID:10004439-1795114800-1795122000@heartlandlakescommunitycalendar.com
SUMMARY:DJ Trivia
DESCRIPTION:Thursday nights just got a whole lot more fun! DJ Trivia kicks off at 7 PM\, so grab your crew and put your knowledge to the test! Fun questions\, great music\, and tons of laughs! Whether you’re a trivia pro or just in it for the fun\, there’s a spot for you at the table. See ya Thursday at 7 PM—let’s get quizzical! 🍺🔥
URL:https://heartlandlakescommunitycalendar.com/index.php/event/dj-trivia/2026-11-19/
LOCATION:Zorbaz\, 22036 County 7\, Park Rapids\, 56470\, United States
CATEGORIES:Entertainment
END:VEVENT
BEGIN:VEVENT
DTSTART;TZID=UTC:20261126T190000
DTEND;TZID=UTC:20261126T210000
DTSTAMP:20260422T010153
CREATED:20250123T094947Z
LAST-MODIFIED:20250123T095039Z
UID:10004440-1795719600-1795726800@heartlandlakescommunitycalendar.com
SUMMARY:DJ Trivia
DESCRIPTION:Thursday nights just got a whole lot more fun! DJ Trivia kicks off at 7 PM\, so grab your crew and put your knowledge to the test! Fun questions\, great music\, and tons of laughs! Whether you’re a trivia pro or just in it for the fun\, there’s a spot for you at the table. See ya Thursday at 7 PM—let’s get quizzical! 🍺🔥
URL:https://heartlandlakescommunitycalendar.com/index.php/event/dj-trivia/2026-11-26/
LOCATION:Zorbaz\, 22036 County 7\, Park Rapids\, 56470\, United States
CATEGORIES:Entertainment
END:VEVENT
BEGIN:VEVENT
DTSTART;TZID=UTC:20261203T190000
DTEND;TZID=UTC:20261203T210000
DTSTAMP:20260422T010153
CREATED:20250123T094947Z
LAST-MODIFIED:20250123T095039Z
UID:10004441-1796324400-1796331600@heartlandlakescommunitycalendar.com
SUMMARY:DJ Trivia
DESCRIPTION:Thursday nights just got a whole lot more fun! DJ Trivia kicks off at 7 PM\, so grab your crew and put your knowledge to the test! Fun questions\, great music\, and tons of laughs! Whether you’re a trivia pro or just in it for the fun\, there’s a spot for you at the table. See ya Thursday at 7 PM—let’s get quizzical! 🍺🔥
URL:https://heartlandlakescommunitycalendar.com/index.php/event/dj-trivia/2026-12-03/
LOCATION:Zorbaz\, 22036 County 7\, Park Rapids\, 56470\, United States
CATEGORIES:Entertainment
END:VEVENT
BEGIN:VEVENT
DTSTART;TZID=UTC:20261210T190000
DTEND;TZID=UTC:20261210T210000
DTSTAMP:20260422T010153
CREATED:20250123T094947Z
LAST-MODIFIED:20250123T095039Z
UID:10004442-1796929200-1796936400@heartlandlakescommunitycalendar.com
SUMMARY:DJ Trivia
DESCRIPTION:Thursday nights just got a whole lot more fun! DJ Trivia kicks off at 7 PM\, so grab your crew and put your knowledge to the test! Fun questions\, great music\, and tons of laughs! Whether you’re a trivia pro or just in it for the fun\, there’s a spot for you at the table. See ya Thursday at 7 PM—let’s get quizzical! 🍺🔥
URL:https://heartlandlakescommunitycalendar.com/index.php/event/dj-trivia/2026-12-10/
LOCATION:Zorbaz\, 22036 County 7\, Park Rapids\, 56470\, United States
CATEGORIES:Entertainment
END:VEVENT
BEGIN:VEVENT
DTSTART;TZID=UTC:20261217T190000
DTEND;TZID=UTC:20261217T210000
DTSTAMP:20260422T010153
CREATED:20250123T094947Z
LAST-MODIFIED:20250123T095039Z
UID:10004443-1797534000-1797541200@heartlandlakescommunitycalendar.com
SUMMARY:DJ Trivia
DESCRIPTION:Thursday nights just got a whole lot more fun! DJ Trivia kicks off at 7 PM\, so grab your crew and put your knowledge to the test! Fun questions\, great music\, and tons of laughs! Whether you’re a trivia pro or just in it for the fun\, there’s a spot for you at the table. See ya Thursday at 7 PM—let’s get quizzical! 🍺🔥
URL:https://heartlandlakescommunitycalendar.com/index.php/event/dj-trivia/2026-12-17/
LOCATION:Zorbaz\, 22036 County 7\, Park Rapids\, 56470\, United States
CATEGORIES:Entertainment
END:VEVENT
BEGIN:VEVENT
DTSTART;TZID=UTC:20261224T190000
DTEND;TZID=UTC:20261224T210000
DTSTAMP:20260422T010153
CREATED:20250123T094947Z
LAST-MODIFIED:20250123T095039Z
UID:10004444-1798138800-1798146000@heartlandlakescommunitycalendar.com
SUMMARY:DJ Trivia
DESCRIPTION:Thursday nights just got a whole lot more fun! DJ Trivia kicks off at 7 PM\, so grab your crew and put your knowledge to the test! Fun questions\, great music\, and tons of laughs! Whether you’re a trivia pro or just in it for the fun\, there’s a spot for you at the table. See ya Thursday at 7 PM—let’s get quizzical! 🍺🔥
URL:https://heartlandlakescommunitycalendar.com/index.php/event/dj-trivia/2026-12-24/
LOCATION:Zorbaz\, 22036 County 7\, Park Rapids\, 56470\, United States
CATEGORIES:Entertainment
END:VEVENT
BEGIN:VEVENT
DTSTART;TZID=UTC:20261231T190000
DTEND;TZID=UTC:20261231T210000
DTSTAMP:20260422T010153
CREATED:20250123T094947Z
LAST-MODIFIED:20250123T095039Z
UID:10004445-1798743600-1798750800@heartlandlakescommunitycalendar.com
SUMMARY:DJ Trivia
DESCRIPTION:Thursday nights just got a whole lot more fun! DJ Trivia kicks off at 7 PM\, so grab your crew and put your knowledge to the test! Fun questions\, great music\, and tons of laughs! Whether you’re a trivia pro or just in it for the fun\, there’s a spot for you at the table. See ya Thursday at 7 PM—let’s get quizzical! 🍺🔥
URL:https://heartlandlakescommunitycalendar.com/index.php/event/dj-trivia/2026-12-31/
LOCATION:Zorbaz\, 22036 County 7\, Park Rapids\, 56470\, United States
CATEGORIES:Entertainment
END:VEVENT
BEGIN:VEVENT
DTSTART;TZID=UTC:20270107T190000
DTEND;TZID=UTC:20270107T210000
DTSTAMP:20260422T010153
CREATED:20250123T094947Z
LAST-MODIFIED:20250123T095039Z
UID:10004446-1799348400-1799355600@heartlandlakescommunitycalendar.com
SUMMARY:DJ Trivia
DESCRIPTION:Thursday nights just got a whole lot more fun! DJ Trivia kicks off at 7 PM\, so grab your crew and put your knowledge to the test! Fun questions\, great music\, and tons of laughs! Whether you’re a trivia pro or just in it for the fun\, there’s a spot for you at the table. See ya Thursday at 7 PM—let’s get quizzical! 🍺🔥
URL:https://heartlandlakescommunitycalendar.com/index.php/event/dj-trivia/2027-01-07/
LOCATION:Zorbaz\, 22036 County 7\, Park Rapids\, 56470\, United States
CATEGORIES:Entertainment
END:VEVENT
BEGIN:VEVENT
DTSTART;TZID=UTC:20270114T190000
DTEND;TZID=UTC:20270114T210000
DTSTAMP:20260422T010153
CREATED:20250123T094947Z
LAST-MODIFIED:20250123T095039Z
UID:10004447-1799953200-1799960400@heartlandlakescommunitycalendar.com
SUMMARY:DJ Trivia
DESCRIPTION:Thursday nights just got a whole lot more fun! DJ Trivia kicks off at 7 PM\, so grab your crew and put your knowledge to the test! Fun questions\, great music\, and tons of laughs! Whether you’re a trivia pro or just in it for the fun\, there’s a spot for you at the table. See ya Thursday at 7 PM—let’s get quizzical! 🍺🔥
URL:https://heartlandlakescommunitycalendar.com/index.php/event/dj-trivia/2027-01-14/
LOCATION:Zorbaz\, 22036 County 7\, Park Rapids\, 56470\, United States
CATEGORIES:Entertainment
END:VEVENT
BEGIN:VEVENT
DTSTART;TZID=UTC:20270121T190000
DTEND;TZID=UTC:20270121T210000
DTSTAMP:20260422T010153
CREATED:20250123T094947Z
LAST-MODIFIED:20250123T095039Z
UID:10004448-1800558000-1800565200@heartlandlakescommunitycalendar.com
SUMMARY:DJ Trivia
DESCRIPTION:Thursday nights just got a whole lot more fun! DJ Trivia kicks off at 7 PM\, so grab your crew and put your knowledge to the test! Fun questions\, great music\, and tons of laughs! Whether you’re a trivia pro or just in it for the fun\, there’s a spot for you at the table. See ya Thursday at 7 PM—let’s get quizzical! 🍺🔥
URL:https://heartlandlakescommunitycalendar.com/index.php/event/dj-trivia/2027-01-21/
LOCATION:Zorbaz\, 22036 County 7\, Park Rapids\, 56470\, United States
CATEGORIES:Entertainment
END:VEVENT
BEGIN:VEVENT
DTSTART;TZID=UTC:20270128T190000
DTEND;TZID=UTC:20270128T210000
DTSTAMP:20260422T010153
CREATED:20250123T094947Z
LAST-MODIFIED:20250123T095039Z
UID:10004449-1801162800-1801170000@heartlandlakescommunitycalendar.com
SUMMARY:DJ Trivia
DESCRIPTION:Thursday nights just got a whole lot more fun! DJ Trivia kicks off at 7 PM\, so grab your crew and put your knowledge to the test! Fun questions\, great music\, and tons of laughs! Whether you’re a trivia pro or just in it for the fun\, there’s a spot for you at the table. See ya Thursday at 7 PM—let’s get quizzical! 🍺🔥
URL:https://heartlandlakescommunitycalendar.com/index.php/event/dj-trivia/2027-01-28/
LOCATION:Zorbaz\, 22036 County 7\, Park Rapids\, 56470\, United States
CATEGORIES:Entertainment
END:VEVENT
BEGIN:VEVENT
DTSTART;TZID=UTC:20270204T190000
DTEND;TZID=UTC:20270204T210000
DTSTAMP:20260422T010153
CREATED:20250123T094947Z
LAST-MODIFIED:20250123T095039Z
UID:10004450-1801767600-1801774800@heartlandlakescommunitycalendar.com
SUMMARY:DJ Trivia
DESCRIPTION:Thursday nights just got a whole lot more fun! DJ Trivia kicks off at 7 PM\, so grab your crew and put your knowledge to the test! Fun questions\, great music\, and tons of laughs! Whether you’re a trivia pro or just in it for the fun\, there’s a spot for you at the table. See ya Thursday at 7 PM—let’s get quizzical! 🍺🔥
URL:https://heartlandlakescommunitycalendar.com/index.php/event/dj-trivia/2027-02-04/
LOCATION:Zorbaz\, 22036 County 7\, Park Rapids\, 56470\, United States
CATEGORIES:Entertainment
END:VEVENT
BEGIN:VEVENT
DTSTART;TZID=UTC:20270211T190000
DTEND;TZID=UTC:20270211T210000
DTSTAMP:20260422T010153
CREATED:20250123T094947Z
LAST-MODIFIED:20250123T095039Z
UID:10004451-1802372400-1802379600@heartlandlakescommunitycalendar.com
SUMMARY:DJ Trivia
DESCRIPTION:Thursday nights just got a whole lot more fun! DJ Trivia kicks off at 7 PM\, so grab your crew and put your knowledge to the test! Fun questions\, great music\, and tons of laughs! Whether you’re a trivia pro or just in it for the fun\, there’s a spot for you at the table. See ya Thursday at 7 PM—let’s get quizzical! 🍺🔥
URL:https://heartlandlakescommunitycalendar.com/index.php/event/dj-trivia/2027-02-11/
LOCATION:Zorbaz\, 22036 County 7\, Park Rapids\, 56470\, United States
CATEGORIES:Entertainment
END:VEVENT
BEGIN:VEVENT
DTSTART;TZID=UTC:20270218T190000
DTEND;TZID=UTC:20270218T210000
DTSTAMP:20260422T010153
CREATED:20250123T094947Z
LAST-MODIFIED:20250123T095039Z
UID:10004452-1802977200-1802984400@heartlandlakescommunitycalendar.com
SUMMARY:DJ Trivia
DESCRIPTION:Thursday nights just got a whole lot more fun! DJ Trivia kicks off at 7 PM\, so grab your crew and put your knowledge to the test! Fun questions\, great music\, and tons of laughs! Whether you’re a trivia pro or just in it for the fun\, there’s a spot for you at the table. See ya Thursday at 7 PM—let’s get quizzical! 🍺🔥
URL:https://heartlandlakescommunitycalendar.com/index.php/event/dj-trivia/2027-02-18/
LOCATION:Zorbaz\, 22036 County 7\, Park Rapids\, 56470\, United States
CATEGORIES:Entertainment
END:VEVENT
BEGIN:VEVENT
DTSTART;TZID=UTC:20270225T190000
DTEND;TZID=UTC:20270225T210000
DTSTAMP:20260422T010153
CREATED:20250123T094947Z
LAST-MODIFIED:20250123T095039Z
UID:10004453-1803582000-1803589200@heartlandlakescommunitycalendar.com
SUMMARY:DJ Trivia
DESCRIPTION:Thursday nights just got a whole lot more fun! DJ Trivia kicks off at 7 PM\, so grab your crew and put your knowledge to the test! Fun questions\, great music\, and tons of laughs! Whether you’re a trivia pro or just in it for the fun\, there’s a spot for you at the table. See ya Thursday at 7 PM—let’s get quizzical! 🍺🔥
URL:https://heartlandlakescommunitycalendar.com/index.php/event/dj-trivia/2027-02-25/
LOCATION:Zorbaz\, 22036 County 7\, Park Rapids\, 56470\, United States
CATEGORIES:Entertainment
END:VEVENT
BEGIN:VEVENT
DTSTART;TZID=UTC:20270304T190000
DTEND;TZID=UTC:20270304T210000
DTSTAMP:20260422T010153
CREATED:20250123T094947Z
LAST-MODIFIED:20250123T095039Z
UID:10004454-1804186800-1804194000@heartlandlakescommunitycalendar.com
SUMMARY:DJ Trivia
DESCRIPTION:Thursday nights just got a whole lot more fun! DJ Trivia kicks off at 7 PM\, so grab your crew and put your knowledge to the test! Fun questions\, great music\, and tons of laughs! Whether you’re a trivia pro or just in it for the fun\, there’s a spot for you at the table. See ya Thursday at 7 PM—let’s get quizzical! 🍺🔥
URL:https://heartlandlakescommunitycalendar.com/index.php/event/dj-trivia/2027-03-04/
LOCATION:Zorbaz\, 22036 County 7\, Park Rapids\, 56470\, United States
CATEGORIES:Entertainment
END:VEVENT
BEGIN:VEVENT
DTSTART;TZID=UTC:20270311T190000
DTEND;TZID=UTC:20270311T210000
DTSTAMP:20260422T010153
CREATED:20250123T094947Z
LAST-MODIFIED:20250123T095039Z
UID:10004455-1804791600-1804798800@heartlandlakescommunitycalendar.com
SUMMARY:DJ Trivia
DESCRIPTION:Thursday nights just got a whole lot more fun! DJ Trivia kicks off at 7 PM\, so grab your crew and put your knowledge to the test! Fun questions\, great music\, and tons of laughs! Whether you’re a trivia pro or just in it for the fun\, there’s a spot for you at the table. See ya Thursday at 7 PM—let’s get quizzical! 🍺🔥
URL:https://heartlandlakescommunitycalendar.com/index.php/event/dj-trivia/2027-03-11/
LOCATION:Zorbaz\, 22036 County 7\, Park Rapids\, 56470\, United States
CATEGORIES:Entertainment
END:VEVENT
BEGIN:VEVENT
DTSTART;TZID=UTC:20270318T190000
DTEND;TZID=UTC:20270318T210000
DTSTAMP:20260422T010153
CREATED:20250123T094947Z
LAST-MODIFIED:20250123T095039Z
UID:10004456-1805396400-1805403600@heartlandlakescommunitycalendar.com
SUMMARY:DJ Trivia
DESCRIPTION:Thursday nights just got a whole lot more fun! DJ Trivia kicks off at 7 PM\, so grab your crew and put your knowledge to the test! Fun questions\, great music\, and tons of laughs! Whether you’re a trivia pro or just in it for the fun\, there’s a spot for you at the table. See ya Thursday at 7 PM—let’s get quizzical! 🍺🔥
URL:https://heartlandlakescommunitycalendar.com/index.php/event/dj-trivia/2027-03-18/
LOCATION:Zorbaz\, 22036 County 7\, Park Rapids\, 56470\, United States
CATEGORIES:Entertainment
END:VEVENT
BEGIN:VEVENT
DTSTART;TZID=UTC:20270325T190000
DTEND;TZID=UTC:20270325T210000
DTSTAMP:20260422T010153
CREATED:20250123T094947Z
LAST-MODIFIED:20250123T095039Z
UID:10004457-1806001200-1806008400@heartlandlakescommunitycalendar.com
SUMMARY:DJ Trivia
DESCRIPTION:Thursday nights just got a whole lot more fun! DJ Trivia kicks off at 7 PM\, so grab your crew and put your knowledge to the test! Fun questions\, great music\, and tons of laughs! Whether you’re a trivia pro or just in it for the fun\, there’s a spot for you at the table. See ya Thursday at 7 PM—let’s get quizzical! 🍺🔥
URL:https://heartlandlakescommunitycalendar.com/index.php/event/dj-trivia/2027-03-25/
LOCATION:Zorbaz\, 22036 County 7\, Park Rapids\, 56470\, United States
CATEGORIES:Entertainment
END:VEVENT
BEGIN:VEVENT
DTSTART;TZID=UTC:20270401T190000
DTEND;TZID=UTC:20270401T210000
DTSTAMP:20260422T010153
CREATED:20250123T094947Z
LAST-MODIFIED:20250123T095039Z
UID:10004458-1806606000-1806613200@heartlandlakescommunitycalendar.com
SUMMARY:DJ Trivia
DESCRIPTION:Thursday nights just got a whole lot more fun! DJ Trivia kicks off at 7 PM\, so grab your crew and put your knowledge to the test! Fun questions\, great music\, and tons of laughs! Whether you’re a trivia pro or just in it for the fun\, there’s a spot for you at the table. See ya Thursday at 7 PM—let’s get quizzical! 🍺🔥
URL:https://heartlandlakescommunitycalendar.com/index.php/event/dj-trivia/2027-04-01/
LOCATION:Zorbaz\, 22036 County 7\, Park Rapids\, 56470\, United States
CATEGORIES:Entertainment
END:VEVENT
BEGIN:VEVENT
DTSTART;TZID=UTC:20270408T190000
DTEND;TZID=UTC:20270408T210000
DTSTAMP:20260422T010153
CREATED:20250123T094947Z
LAST-MODIFIED:20250123T095039Z
UID:10004459-1807210800-1807218000@heartlandlakescommunitycalendar.com
SUMMARY:DJ Trivia
DESCRIPTION:Thursday nights just got a whole lot more fun! DJ Trivia kicks off at 7 PM\, so grab your crew and put your knowledge to the test! Fun questions\, great music\, and tons of laughs! Whether you’re a trivia pro or just in it for the fun\, there’s a spot for you at the table. See ya Thursday at 7 PM—let’s get quizzical! 🍺🔥
URL:https://heartlandlakescommunitycalendar.com/index.php/event/dj-trivia/2027-04-08/
LOCATION:Zorbaz\, 22036 County 7\, Park Rapids\, 56470\, United States
CATEGORIES:Entertainment
END:VEVENT
BEGIN:VEVENT
DTSTART;TZID=UTC:20270415T190000
DTEND;TZID=UTC:20270415T210000
DTSTAMP:20260422T010153
CREATED:20250123T094947Z
LAST-MODIFIED:20250123T095039Z
UID:10004460-1807815600-1807822800@heartlandlakescommunitycalendar.com
SUMMARY:DJ Trivia
DESCRIPTION:Thursday nights just got a whole lot more fun! DJ Trivia kicks off at 7 PM\, so grab your crew and put your knowledge to the test! Fun questions\, great music\, and tons of laughs! Whether you’re a trivia pro or just in it for the fun\, there’s a spot for you at the table. See ya Thursday at 7 PM—let’s get quizzical! 🍺🔥
URL:https://heartlandlakescommunitycalendar.com/index.php/event/dj-trivia/2027-04-15/
LOCATION:Zorbaz\, 22036 County 7\, Park Rapids\, 56470\, United States
CATEGORIES:Entertainment
END:VEVENT
BEGIN:VEVENT
DTSTART;TZID=UTC:20270422T190000
DTEND;TZID=UTC:20270422T210000
DTSTAMP:20260422T010153
CREATED:20250123T094947Z
LAST-MODIFIED:20250123T095039Z
UID:10004461-1808420400-1808427600@heartlandlakescommunitycalendar.com
SUMMARY:DJ Trivia
DESCRIPTION:Thursday nights just got a whole lot more fun! DJ Trivia kicks off at 7 PM\, so grab your crew and put your knowledge to the test! Fun questions\, great music\, and tons of laughs! Whether you’re a trivia pro or just in it for the fun\, there’s a spot for you at the table. See ya Thursday at 7 PM—let’s get quizzical! 🍺🔥
URL:https://heartlandlakescommunitycalendar.com/index.php/event/dj-trivia/2027-04-22/
LOCATION:Zorbaz\, 22036 County 7\, Park Rapids\, 56470\, United States
CATEGORIES:Entertainment
END:VEVENT
BEGIN:VEVENT
DTSTART;TZID=UTC:20270429T190000
DTEND;TZID=UTC:20270429T210000
DTSTAMP:20260422T010153
CREATED:20250123T094947Z
LAST-MODIFIED:20250123T095039Z
UID:10004462-1809025200-1809032400@heartlandlakescommunitycalendar.com
SUMMARY:DJ Trivia
DESCRIPTION:Thursday nights just got a whole lot more fun! DJ Trivia kicks off at 7 PM\, so grab your crew and put your knowledge to the test! Fun questions\, great music\, and tons of laughs! Whether you’re a trivia pro or just in it for the fun\, there’s a spot for you at the table. See ya Thursday at 7 PM—let’s get quizzical! 🍺🔥
URL:https://heartlandlakescommunitycalendar.com/index.php/event/dj-trivia/2027-04-29/
LOCATION:Zorbaz\, 22036 County 7\, Park Rapids\, 56470\, United States
CATEGORIES:Entertainment
END:VEVENT
END:VCALENDAR