BEGIN:VCALENDAR
VERSION:2.0
PRODID:-//The Heartland Lakes Community Calendar - ECPv6.3.7//NONSGML v1.0//EN
CALSCALE:GREGORIAN
METHOD:PUBLISH
X-ORIGINAL-URL:https://heartlandlakescommunitycalendar.com
X-WR-CALDESC:Events for The Heartland Lakes Community Calendar
REFRESH-INTERVAL;VALUE=DURATION:PT1H
X-Robots-Tag:noindex
X-PUBLISHED-TTL:PT1H
BEGIN:VTIMEZONE
TZID:America/New_York
BEGIN:DAYLIGHT
TZOFFSETFROM:-0500
TZOFFSETTO:-0400
TZNAME:EDT
DTSTART:20260308T070000
END:DAYLIGHT
BEGIN:STANDARD
TZOFFSETFROM:-0400
TZOFFSETTO:-0500
TZNAME:EST
DTSTART:20261101T060000
END:STANDARD
TZID:UTC
BEGIN:STANDARD
TZOFFSETFROM:+0000
TZOFFSETTO:+0000
TZNAME:UTC
DTSTART:20260101T000000
END:STANDARD
END:VTIMEZONE
BEGIN:VEVENT
DTSTART;TZID=America/New_York:20260224T170000
DTEND;TZID=America/New_York:20260224T190000
DTSTAMP:20260422T135025
CREATED:20260202T153827Z
LAST-MODIFIED:20260202T153827Z
UID:10011728-1771952400-1771959600@heartlandlakescommunitycalendar.com
SUMMARY:2026 Winter Garden College
DESCRIPTION:Join Extension Educators for a deep dive into native plant selection\, bringing nature into your garden and winter sowing. Plant and take home your own winter sowing projects with native perennials\, annual flowers\, and vegetables! \nCost: $20 per adult \nWhile adults take part in the Winter Garden College\, youth in grades K-8 can join a free 4-H activity exploring soil composition and layers through hands-on activities. \nYou are free! \nRegister with Park Rapids Community Ed\nAdult registration: https://www.parkrapidscomed.com/insight/registry/classinfo.asp?courseID=7658&catID=817\nYouth registration: https://www.parkrapidscomed.com/insight/registry/classinfo.asp?courseID=7659&catID=834
URL:https://heartlandlakescommunitycalendar.com/index.php/event/2026-winter-garden-college-3/
LOCATION:Park Rapids High School\, 401 Huntsinger Ave\, Park Rapids\, Park Rapids\, 56470\, United States
CATEGORIES:Gardening
ATTACH;FMTTYPE=image/webp:https://heartlandlakescommunitycalendar.com/wp-content/uploads/2026/02/2026-Winter-Garden-College-3-8dcecf21380281d6c8a4e137bdff540a.webp
ORGANIZER;CN="University of Minnesota Extension":MAILTO:tarahy@umn.edu
END:VEVENT
BEGIN:VEVENT
DTSTART;TZID=UTC:20260224T190000
DTEND;TZID=UTC:20260224T210000
DTSTAMP:20260422T135025
CREATED:20250123T094511Z
LAST-MODIFIED:20250123T095029Z
UID:10004139-1771959600-1771966800@heartlandlakescommunitycalendar.com
SUMMARY:DJ Bingo
DESCRIPTION:Tuesday nights just got way more fun! DJ Bingo kicks off at 7 PM\, and it’s totally FREE to play—so why not grab your crew and join in?💰 Win big! We’ve got a progressive cash prize up to $300 and Zorbaz Gift Cards for regular Bingo wins! 🎵 It’s bingo\, but with a beat! Expect good vibes and a whole lot of fun. 👨‍👩‍👧‍👦 All ages welcome! Don’t miss out—come play\, dance\, and win every Tuesday at 7 PM! See ya there! 🍻🎤🎉
URL:https://heartlandlakescommunitycalendar.com/index.php/event/dj-bingo/2026-02-24/
LOCATION:Zorbaz\, 22036 County 7\, Park Rapids\, 56470\, United States
CATEGORIES:Entertainment
END:VEVENT
END:VCALENDAR