BEGIN:VCALENDAR
VERSION:2.0
PRODID:-//The Heartland Lakes Community Calendar - ECPv6.3.7//NONSGML v1.0//EN
CALSCALE:GREGORIAN
METHOD:PUBLISH
X-ORIGINAL-URL:https://heartlandlakescommunitycalendar.com
X-WR-CALDESC:Events for The Heartland Lakes Community Calendar
REFRESH-INTERVAL;VALUE=DURATION:PT1H
X-Robots-Tag:noindex
X-PUBLISHED-TTL:PT1H
BEGIN:VTIMEZONE
TZID:UTC
BEGIN:STANDARD
TZOFFSETFROM:+0000
TZOFFSETTO:+0000
TZNAME:UTC
DTSTART:20250101T000000
END:STANDARD
END:VTIMEZONE
BEGIN:VEVENT
DTSTART;TZID=UTC:20250608T110000
DTEND;TZID=UTC:20250608T150000
DTSTAMP:20260425T182530
CREATED:20250502T105547Z
LAST-MODIFIED:20250502T105547Z
UID:10008639-1749380400-1749394800@heartlandlakescommunitycalendar.com
SUMMARY:Sites 'n Bites
DESCRIPTION:Discover the best of Nevis — food\, art\, and live music!Start your adventure at the Nevis Chamber building or Food Shelf Booth\, where you can pick up a Sites ‘n Bites Passport for just $5 or five food shelf items. Then\, take a stroll through town\, visit local restaurants\, artist booths\, and shops to collect stamps in your passport. Once completed\, return your stamped passport to the Food Shelf Booth to be entered into a drawing for gift certificates to local businesses!
URL:https://heartlandlakescommunitycalendar.com/index.php/event/sites-n-bites/
LOCATION:MN
CATEGORIES:Culinary,Entertainment
ORGANIZER;CN="Nevis Civic & Commerce":MAILTO:nevischamber@gmail.com
END:VEVENT
BEGIN:VEVENT
DTSTART;TZID=UTC:20250608T150000
DTEND;TZID=UTC:20250608T170000
DTSTAMP:20260425T182530
CREATED:20250424T222810Z
LAST-MODIFIED:20250424T222823Z
UID:10008271-1749394800-1749402000@heartlandlakescommunitycalendar.com
SUMMARY:Pickleball Clinics
DESCRIPTION:Curious about the Pickleball craze? Come on out and learn what all the fun is about! We will have easy drills\, learn to score\, how to prevent injuries\, and finish it all off with playing a real game. After this clinic you will feel ready to hit the courts with your friends. Equipment is provided\, just come in your solid sport shoes.
URL:https://heartlandlakescommunitycalendar.com/index.php/event/pickleball-clinics/2025-06-08/
LOCATION:Century School\, 501 Helten Ave\, Park Rapids\, 56470\, United States
CATEGORIES:Sport
END:VEVENT
END:VCALENDAR