BEGIN:VCALENDAR
VERSION:2.0
PRODID:-//The Heartland Lakes Community Calendar - ECPv6.3.7//NONSGML v1.0//EN
CALSCALE:GREGORIAN
METHOD:PUBLISH
X-ORIGINAL-URL:https://heartlandlakescommunitycalendar.com
X-WR-CALDESC:Events for The Heartland Lakes Community Calendar
REFRESH-INTERVAL;VALUE=DURATION:PT1H
X-Robots-Tag:noindex
X-PUBLISHED-TTL:PT1H
BEGIN:VTIMEZONE
TZID:UTC
BEGIN:STANDARD
TZOFFSETFROM:+0000
TZOFFSETTO:+0000
TZNAME:UTC
DTSTART:20250101T000000
END:STANDARD
END:VTIMEZONE
BEGIN:VEVENT
DTSTART;TZID=UTC:20250613T063000
DTEND;TZID=UTC:20250613T073000
DTSTAMP:20260425T195533
CREATED:20250123T102734Z
LAST-MODIFIED:20250123T102734Z
UID:10004665-1749796200-1749799800@heartlandlakescommunitycalendar.com
SUMMARY:Open/Lap Swim
DESCRIPTION:Open Swim and Lap Swim through Park Rapids Community Ed. No Swimming on Holidays \nOpen Swim: Is available for ages 7 and older. Younger students can swim if an adult is in the water with him/her. Please come dressed in your suit\, bring your towel and goggles (if you want) and be ready for some fun! You are encouraged to come dressed in your suit but the locker rooms will be available. Pre-registration is required. Must register by Wed. before open swim. There is no charge for children ages 2 and under. https://www.parkrapidscomed.com/insight/registry/classinfo.asp?courseID=7056&catID=791  \nLap Swim: Bring your suit and a towel. Enter through door W7. Locker rooms are available. Please sign up in the deep end on dry erase board for a lane. Maximum of three people per lane. Punch cards only\, not to be left at the pool. To purchase a card\, please call Community Education at 218-237-6600. No cash at the pool\, no daily walk in rate. https://www.parkrapidscomed.com/insight/registry/classinfo.asp?courseID=7055&catID=791
URL:https://heartlandlakescommunitycalendar.com/index.php/event/open-lap-swim/2025-06-13/
LOCATION:Park Rapids High School\, 401 Huntsinger Ave\, Park Rapids\, Park Rapids\, 56470\, United States
CATEGORIES:Sport
END:VEVENT
BEGIN:VEVENT
DTSTART;TZID=UTC:20250613T090000
DTEND;TZID=UTC:20250613T170000
DTSTAMP:20260425T195533
CREATED:20250502T113355Z
LAST-MODIFIED:20250502T113355Z
UID:10008641-1749805200-1749834000@heartlandlakescommunitycalendar.com
SUMMARY:Depot 15 Year Celebration Open House
DESCRIPTION:It’s the Depot’s 15-year anniversary! We’re excited to welcome visitors through the back of our building during the celebration to showcase our welding\, woodworking\, and processing areas. On Friday\, from 11:00 a.m. to 1:00 p.m.\, we’ll be grilling hot dogs for all guests who join us for the walkthrough. \nTo mark our 15-year anniversary\, we’ll also be offering 15% off all thrift store items during the three-day event. We hope you’ll stop by to celebrate with us!
URL:https://heartlandlakescommunitycalendar.com/index.php/event/depot-15-year-celebration-open-house/2025-06-13/
LOCATION:The Depot\, 320 Career Path\, Park Rapids\, MN\, 56470\, United States
CATEGORIES:Charity
ORGANIZER;CN="Hubbard County DAC":MAILTO:info@hcdac.org
END:VEVENT
BEGIN:VEVENT
DTSTART;TZID=UTC:20250613T163000
DTEND;TZID=UTC:20250613T190000
DTSTAMP:20260425T195533
CREATED:20250125T012319Z
LAST-MODIFIED:20250125T012320Z
UID:10006925-1749832200-1749841200@heartlandlakescommunitycalendar.com
SUMMARY:Living at Home Rib Dinner
DESCRIPTION:4:30 PM at American Legion Post 212 Park Rapids\, MN\, Living at Home’s fabulous RIB DINNER! Let us cook dinner for you. Takeout is available\, just request at the door. $15 for adults\, $7 for children 5 and under. PLUS Treats from Aunt Belle’s Confectionary! All proceeds go towards our mission of helping our area seniors age gracefully in the home of their choice! Thank you to the best community in Minnesota
URL:https://heartlandlakescommunitycalendar.com/index.php/event/living-at-home-rib-dinner/
LOCATION:Park Rapids American Legion\, 900 1st St E\, Park Rapids\, MN\, 56470\, United States
CATEGORIES:Dinner
ORGANIZER;CN="Living at Home":MAILTO:dfc@parkrapidslivingathome.org
END:VEVENT
END:VCALENDAR