BEGIN:VCALENDAR
VERSION:2.0
PRODID:-//The Heartland Lakes Community Calendar - ECPv6.3.7//NONSGML v1.0//EN
CALSCALE:GREGORIAN
METHOD:PUBLISH
X-WR-CALNAME:The Heartland Lakes Community Calendar
X-ORIGINAL-URL:https://heartlandlakescommunitycalendar.com
X-WR-CALDESC:Events for The Heartland Lakes Community Calendar
REFRESH-INTERVAL;VALUE=DURATION:PT1H
X-Robots-Tag:noindex
X-PUBLISHED-TTL:PT1H
BEGIN:VTIMEZONE
TZID:UTC
BEGIN:STANDARD
TZOFFSETFROM:+0000
TZOFFSETTO:+0000
TZNAME:UTC
DTSTART:20250101T000000
END:STANDARD
END:VTIMEZONE
BEGIN:VEVENT
DTSTART;VALUE=DATE:20250614
DTEND;VALUE=DATE:20250615
DTSTAMP:20260425T182424
CREATED:20250313T205024Z
LAST-MODIFIED:20250313T205050Z
UID:10007803-1749859200-1749945599@heartlandlakescommunitycalendar.com
SUMMARY:Free Park Day
DESCRIPTION:On four days each year\, all Minnesota state parks and state recreation areas offer free admission to everyone – no vehicle permits needed!\nHere are the fee-free dates in 2025:\n\n\nMonday\, January 20\nSaturday\, April 26\nSaturday\, June 14\nFriday\, November 28\n\nMinnesota state parks are open year-round\, and there’s a state park within 30 miles of most Minnesotans. With a free day in each season\, it’s a great opportunity to get out there and explore someplace new – or visit an old favorite at a new time of year! Whether you stay for the whole weekend or just spend a few hours outside\, you’ll make memories that will last a lifetime. \nThe entrance fee waiver for fee-free days does not cover amenity or user fees for activities like camping\, rentals\, or special tours.
URL:https://heartlandlakescommunitycalendar.com/index.php/event/free-park-day-2/
LOCATION:MN
CATEGORIES:Nature
ATTACH;FMTTYPE=image/jpeg:https://heartlandlakescommunitycalendar.com/wp-content/uploads/2025/03/free-park-day-april2025.jpg
ORGANIZER;CN="Minnesota Department of Natural Resources":MAILTO:info.dnr@state.mn.us
END:VEVENT
BEGIN:VEVENT
DTSTART;TZID=UTC:20250614T090000
DTEND;TZID=UTC:20250614T130000
DTSTAMP:20260425T182424
CREATED:20250226T035325Z
LAST-MODIFIED:20250226T035326Z
UID:10007748-1749891600-1749906000@heartlandlakescommunitycalendar.com
SUMMARY:Park Rapids Farmers' Market
DESCRIPTION:One of the largest farmers’ market in the area. 50 friendly vendors with farm fresh local products and unique arts & crafts.\nOpen every Saturday rain or shine beginning May 24th-Sept. 20th. Live music and lots of free parking.
URL:https://heartlandlakescommunitycalendar.com/index.php/event/park-rapids-farmers-market/2025-06-14/
LOCATION:Park Rapids Farmers’ Market\, 910 1st St. East\, Park Rapids\, MN\, 56470\, United States
CATEGORIES:Arts
ATTACH;FMTTYPE=image/webp:https://heartlandlakescommunitycalendar.com/wp-content/uploads/2025/02/MemLogo_PR-Farmers-Market-logo-513c79293d4fdeab494615db8caf7093.webp
ORGANIZER;CN="Park Rapids Farmers' Market":MAILTO:Parkrapidsfm@gmail.com
END:VEVENT
BEGIN:VEVENT
DTSTART;TZID=UTC:20250614T090000
DTEND;TZID=UTC:20250614T170000
DTSTAMP:20260425T182424
CREATED:20250502T113355Z
LAST-MODIFIED:20250502T113355Z
UID:10008642-1749891600-1749920400@heartlandlakescommunitycalendar.com
SUMMARY:Depot 15 Year Celebration Open House
DESCRIPTION:It’s the Depot’s 15-year anniversary! We’re excited to welcome visitors through the back of our building during the celebration to showcase our welding\, woodworking\, and processing areas. On Friday\, from 11:00 a.m. to 1:00 p.m.\, we’ll be grilling hot dogs for all guests who join us for the walkthrough. \nTo mark our 15-year anniversary\, we’ll also be offering 15% off all thrift store items during the three-day event. We hope you’ll stop by to celebrate with us!
URL:https://heartlandlakescommunitycalendar.com/index.php/event/depot-15-year-celebration-open-house/2025-06-14/
LOCATION:The Depot\, 320 Career Path\, Park Rapids\, MN\, 56470\, United States
CATEGORIES:Charity
ORGANIZER;CN="Hubbard County DAC":MAILTO:info@hcdac.org
END:VEVENT
BEGIN:VEVENT
DTSTART;TZID=UTC:20250614T110000
DTEND;TZID=UTC:20250614T160000
DTSTAMP:20260425T182424
CREATED:20250606T103513Z
LAST-MODIFIED:20250606T103531Z
UID:10010059-1749898800-1749916800@heartlandlakescommunitycalendar.com
SUMMARY:Flag Day at the Museum
DESCRIPTION:Celebrate Flag Day at the Museum! Join us on June 14\, 2025\, from 11 AM to 4 PM for a festive day of patriotism and community spirit. Enjoy refreshments and receive a free small flag—a perfect way to honor the Stars and Stripes. All are welcome!
URL:https://heartlandlakescommunitycalendar.com/index.php/event/flag-day-at-the-museum/
LOCATION:Hubbard County Museum\, 301 Court Ave\,\, Park Rapids\, MN\, 56470\, United States
CATEGORIES:Holiday
ATTACH;FMTTYPE=image/webp:https://heartlandlakescommunitycalendar.com/wp-content/uploads/2025/06/000_0341-bae2f92a75f6a66399afcd1d8dd24540.webp
ORGANIZER;CN="Hubbard County Historical Society":MAILTO:historicalmuseum@arvig.net
END:VEVENT
END:VCALENDAR