BEGIN:VCALENDAR
VERSION:2.0
PRODID:-//The Heartland Lakes Community Calendar - ECPv6.3.7//NONSGML v1.0//EN
CALSCALE:GREGORIAN
METHOD:PUBLISH
X-ORIGINAL-URL:https://heartlandlakescommunitycalendar.com
X-WR-CALDESC:Events for The Heartland Lakes Community Calendar
REFRESH-INTERVAL;VALUE=DURATION:PT1H
X-Robots-Tag:noindex
X-PUBLISHED-TTL:PT1H
BEGIN:VTIMEZONE
TZID:UTC
BEGIN:STANDARD
TZOFFSETFROM:+0000
TZOFFSETTO:+0000
TZNAME:UTC
DTSTART:20250101T000000
END:STANDARD
END:VTIMEZONE
BEGIN:VEVENT
DTSTART;TZID=UTC:20250620T063000
DTEND;TZID=UTC:20250620T073000
DTSTAMP:20260425T182528
CREATED:20250123T102734Z
LAST-MODIFIED:20250123T102734Z
UID:10004668-1750401000-1750404600@heartlandlakescommunitycalendar.com
SUMMARY:Open/Lap Swim
DESCRIPTION:Open Swim and Lap Swim through Park Rapids Community Ed. No Swimming on Holidays \nOpen Swim: Is available for ages 7 and older. Younger students can swim if an adult is in the water with him/her. Please come dressed in your suit\, bring your towel and goggles (if you want) and be ready for some fun! You are encouraged to come dressed in your suit but the locker rooms will be available. Pre-registration is required. Must register by Wed. before open swim. There is no charge for children ages 2 and under. https://www.parkrapidscomed.com/insight/registry/classinfo.asp?courseID=7056&catID=791  \nLap Swim: Bring your suit and a towel. Enter through door W7. Locker rooms are available. Please sign up in the deep end on dry erase board for a lane. Maximum of three people per lane. Punch cards only\, not to be left at the pool. To purchase a card\, please call Community Education at 218-237-6600. No cash at the pool\, no daily walk in rate. https://www.parkrapidscomed.com/insight/registry/classinfo.asp?courseID=7055&catID=791
URL:https://heartlandlakescommunitycalendar.com/index.php/event/open-lap-swim/2025-06-20/
LOCATION:Park Rapids High School\, 401 Huntsinger Ave\, Park Rapids\, Park Rapids\, 56470\, United States
CATEGORIES:Sport
END:VEVENT
BEGIN:VEVENT
DTSTART;TZID=UTC:20250620T100000
DTEND;TZID=UTC:20250620T170000
DTSTAMP:20260425T182528
CREATED:20250123T091653Z
LAST-MODIFIED:20250123T091653Z
UID:10004077-1750413600-1750438800@heartlandlakescommunitycalendar.com
SUMMARY:Fair & Flea
DESCRIPTION:Come one\, come all to the 3rd Annual Red Barn Fair & Flea!\nThe Red Barn is excited to host you and yours for a weekend of fun in the sun.\nEnjoy local food vendors\, crafters from far and wide\, and your favorite flea vendors – just to name a few.\nFriday 10-5 | Saturday 9-4\nMay 24 (Sat only)June 20-21July 18-19August 8-9\nWant to join our growing group of vendors? Visit – https://www.redbarn-mn.com/fair-and-flea-festivals
URL:https://heartlandlakescommunitycalendar.com/index.php/event/fair-flea/2025-06-20/
LOCATION:Red Barn\, 16338 County 107\, Park Rapids\, 56470\, United States
CATEGORIES:Craft
ATTACH;FMTTYPE=image/jpeg:https://heartlandlakescommunitycalendar.com/wp-content/uploads/2025/01/472788450_1139924781476065_5027271024097606055_n.jpg
ORGANIZER;CN="Red Barn":MAILTO:theredbarnmn@gmail.com
END:VEVENT
END:VCALENDAR