BEGIN:VCALENDAR
VERSION:2.0
PRODID:-//The Heartland Lakes Community Calendar - ECPv6.3.7//NONSGML v1.0//EN
CALSCALE:GREGORIAN
METHOD:PUBLISH
X-WR-CALNAME:The Heartland Lakes Community Calendar
X-ORIGINAL-URL:https://heartlandlakescommunitycalendar.com
X-WR-CALDESC:Events for The Heartland Lakes Community Calendar
REFRESH-INTERVAL;VALUE=DURATION:PT1H
X-Robots-Tag:noindex
X-PUBLISHED-TTL:PT1H
BEGIN:VTIMEZONE
TZID:UTC
BEGIN:STANDARD
TZOFFSETFROM:+0000
TZOFFSETTO:+0000
TZNAME:UTC
DTSTART:20250101T000000
END:STANDARD
TZID:America/New_York
BEGIN:DAYLIGHT
TZOFFSETFROM:-0500
TZOFFSETTO:-0400
TZNAME:EDT
DTSTART:20250309T070000
END:DAYLIGHT
BEGIN:STANDARD
TZOFFSETFROM:-0400
TZOFFSETTO:-0500
TZNAME:EST
DTSTART:20251102T060000
END:STANDARD
END:VTIMEZONE
BEGIN:VEVENT
DTSTART;TZID=UTC:20250711T063000
DTEND;TZID=UTC:20250711T073000
DTSTAMP:20260425T165019
CREATED:20250123T102734Z
LAST-MODIFIED:20250123T102734Z
UID:10004677-1752215400-1752219000@heartlandlakescommunitycalendar.com
SUMMARY:Open/Lap Swim
DESCRIPTION:Open Swim and Lap Swim through Park Rapids Community Ed. No Swimming on Holidays \nOpen Swim: Is available for ages 7 and older. Younger students can swim if an adult is in the water with him/her. Please come dressed in your suit\, bring your towel and goggles (if you want) and be ready for some fun! You are encouraged to come dressed in your suit but the locker rooms will be available. Pre-registration is required. Must register by Wed. before open swim. There is no charge for children ages 2 and under. https://www.parkrapidscomed.com/insight/registry/classinfo.asp?courseID=7056&catID=791  \nLap Swim: Bring your suit and a towel. Enter through door W7. Locker rooms are available. Please sign up in the deep end on dry erase board for a lane. Maximum of three people per lane. Punch cards only\, not to be left at the pool. To purchase a card\, please call Community Education at 218-237-6600. No cash at the pool\, no daily walk in rate. https://www.parkrapidscomed.com/insight/registry/classinfo.asp?courseID=7055&catID=791
URL:https://heartlandlakescommunitycalendar.com/index.php/event/open-lap-swim/2025-07-11/
LOCATION:Park Rapids High School\, 401 Huntsinger Ave\, Park Rapids\, Park Rapids\, 56470\, United States
CATEGORIES:Sport
END:VEVENT
BEGIN:VEVENT
DTSTART;TZID=America/New_York:20250711T120000
DTEND;TZID=America/New_York:20250713T163000
DTSTAMP:20260425T165019
CREATED:20250722T173243Z
LAST-MODIFIED:20250722T173243Z
UID:10010292-1752235200-1752424200@heartlandlakescommunitycalendar.com
SUMMARY:Menahga Midsummer Celebration
DESCRIPTION:🎉 The Menahga Midsummer Celebration is a three-day event packed with small-town fun\, community pride\, and summer traditions! Enjoy live music\, a grand parade\, games\, food\, dances\, and family-friendly activities all weekend long. From the Arts and Crafts Fair to fireworks over Spirit Lake\, this is one celebration you don’t want to miss. Come make memories in Menahga!
URL:https://heartlandlakescommunitycalendar.com/index.php/event/menahga-midsummer-celebration/
LOCATION:MN
CATEGORIES:Entertainment,Social
ATTACH;FMTTYPE=image/webp:https://heartlandlakescommunitycalendar.com/wp-content/uploads/2025/07/Menahga-Midsummer-schedule-poster-2025-update-6-30-25-scaled.webp
ORGANIZER;CN="Menahga Civic & Commerce Association":MAILTO:andrea@ahgrafix.com
END:VEVENT
END:VCALENDAR