BEGIN:VCALENDAR
VERSION:2.0
PRODID:-//The Heartland Lakes Community Calendar - ECPv6.3.7//NONSGML v1.0//EN
CALSCALE:GREGORIAN
METHOD:PUBLISH
X-ORIGINAL-URL:https://heartlandlakescommunitycalendar.com
X-WR-CALDESC:Events for The Heartland Lakes Community Calendar
REFRESH-INTERVAL;VALUE=DURATION:PT1H
X-Robots-Tag:noindex
X-PUBLISHED-TTL:PT1H
BEGIN:VTIMEZONE
TZID:America/New_York
BEGIN:DAYLIGHT
TZOFFSETFROM:-0500
TZOFFSETTO:-0400
TZNAME:EDT
DTSTART:20250309T070000
END:DAYLIGHT
BEGIN:STANDARD
TZOFFSETFROM:-0400
TZOFFSETTO:-0500
TZNAME:EST
DTSTART:20251102T060000
END:STANDARD
TZID:UTC
BEGIN:STANDARD
TZOFFSETFROM:+0000
TZOFFSETTO:+0000
TZNAME:UTC
DTSTART:20250101T000000
END:STANDARD
END:VTIMEZONE
BEGIN:VEVENT
DTSTART;TZID=America/New_York:20250629T153000
DTEND;TZID=America/New_York:20250629T163000
DTSTAMP:20260425T212045
CREATED:20250722T165754Z
LAST-MODIFIED:20250722T165754Z
UID:10010276-1751211000-1751214600@heartlandlakescommunitycalendar.com
SUMMARY:Ice Cream Socials
DESCRIPTION:Join in for our Ice Cream Socials throughout the summer with live performances as you mingle. \n\n6-29 -Ice Cream Social at the Douglas Lodge Lawn 3:30-4:30 PM. The Park Rapids Community Band will be playing.\n7-20 -Ice Cream Social 3:30- 4:30 PM at Forest Inn! Accustofiddle will be performing.\n7-27 -Ice Cream Social at the Amphitheater 5:30-6:30 PM. Pier Country and Friends will be performing.\n8-2 – Ice Cream Social at the Amphitheater. 7:00-8:00 PM. Writing the Wild: Poetry Open Mic Night\, U of MN Bio Station Students\n8-16 -Ice Cream Social at the Amphitheater. 5:30-6:30 PM. Basement Brass will be performing.\n8-24 -Ice Cream Social at Forest Inn. 3:30-4:30 PM. North Wind Clarinets will be playing.
URL:https://heartlandlakescommunitycalendar.com/index.php/event/ice-cream-socials-2/
LOCATION:Douglas Lodge\, 36750 Main Pk Dr\, Park Rapids\, MN\, 56470
CATEGORIES:Music,Nature,Social
ORGANIZER;CN="Friends of Itasca State Park":MAILTO:friends@friendsofitasca.org
END:VEVENT
BEGIN:VEVENT
DTSTART;TZID=UTC:20250630T063000
DTEND;TZID=UTC:20250630T073000
DTSTAMP:20260425T212045
CREATED:20250123T102734Z
LAST-MODIFIED:20250123T102734Z
UID:10004672-1751265000-1751268600@heartlandlakescommunitycalendar.com
SUMMARY:Open/Lap Swim
DESCRIPTION:Open Swim and Lap Swim through Park Rapids Community Ed. No Swimming on Holidays \nOpen Swim: Is available for ages 7 and older. Younger students can swim if an adult is in the water with him/her. Please come dressed in your suit\, bring your towel and goggles (if you want) and be ready for some fun! You are encouraged to come dressed in your suit but the locker rooms will be available. Pre-registration is required. Must register by Wed. before open swim. There is no charge for children ages 2 and under. https://www.parkrapidscomed.com/insight/registry/classinfo.asp?courseID=7056&catID=791  \nLap Swim: Bring your suit and a towel. Enter through door W7. Locker rooms are available. Please sign up in the deep end on dry erase board for a lane. Maximum of three people per lane. Punch cards only\, not to be left at the pool. To purchase a card\, please call Community Education at 218-237-6600. No cash at the pool\, no daily walk in rate. https://www.parkrapidscomed.com/insight/registry/classinfo.asp?courseID=7055&catID=791
URL:https://heartlandlakescommunitycalendar.com/index.php/event/open-lap-swim/2025-06-30/
LOCATION:Park Rapids High School\, 401 Huntsinger Ave\, Park Rapids\, Park Rapids\, 56470\, United States
CATEGORIES:Sport
END:VEVENT
BEGIN:VEVENT
DTSTART;TZID=UTC:20250630T100000
DTEND;TZID=UTC:20250630T140000
DTSTAMP:20260425T212045
CREATED:20250604T093438Z
LAST-MODIFIED:20250604T093438Z
UID:10009801-1751277600-1751292000@heartlandlakescommunitycalendar.com
SUMMARY:Living at Home Caregiver Closet
DESCRIPTION:The Caregiver Closet is a resource available to caregivers and veterans in Park Rapids and the surrounding areas. \nThe items provided by the Caregiver Closet include durable medical equipment\, both reusable medical supplies and one-time use supplies. The items are offered free of charge\, with the expectation that the items will be returned to the Caregiver Closet (if they are reusable) when they are no longer needed\, so they can be redistributed. \nThe Caregiver Closet can include\, at any given time\, canes\, walkers\, commodes\, shower benches\, crutches\, hospital beds\, lift chairs\, Hoyer lifts\, and so much more. All equipment is clean and ready to go in “as is” condition. \nEquipment and supply use are free. Donations are tax deductible.
URL:https://heartlandlakescommunitycalendar.com/index.php/event/living-at-home-caregiver-closet-5/2025-06-30/
LOCATION:Living at Home\, 218 Industrial Park Rd\, Park Rapids\, MN\, 56470\, United States
CATEGORIES:Charity
ATTACH;FMTTYPE=image/png:https://heartlandlakescommunitycalendar.com/wp-content/uploads/2024/03/Caregiver-Closet.png
ORGANIZER;CN="Living at Home":MAILTO:dfc@parkrapidslivingathome.org
END:VEVENT
BEGIN:VEVENT
DTSTART;TZID=UTC:20250630T190000
DTEND;TZID=UTC:20250630T200000
DTSTAMP:20260425T212045
CREATED:20250123T103436Z
LAST-MODIFIED:20250123T103436Z
UID:10006214-1751310000-1751313600@heartlandlakescommunitycalendar.com
SUMMARY:Open/Lap Swim
DESCRIPTION:Open Swim and Lap Swim through Park Rapids Community Ed. No Swimming on Holidays \nOpen Swim: Is available for ages 7 and older. Younger students can swim if an adult is in the water with him/her. Please come dressed in your suit\, bring your towel and goggles (if you want) and be ready for some fun! You are encouraged to come dressed in your suit but the locker rooms will be available. Pre-registration is required. Must register by Wed. before open swim. There is no charge for children ages 2 and under. https://www.parkrapidscomed.com/insight/registry/classinfo.asp?courseID=7056&catID=791  \nLap Swim: Bring your suit and a towel. Enter through door W7. Locker rooms are available. Please sign up in the deep end on dry erase board for a lane. Maximum of three people per lane. Punch cards only\, not to be left at the pool. To purchase a card\, please call Community Education at 218-237-6600. No cash at the pool\, no daily walk in rate. https://www.parkrapidscomed.com/insight/registry/classinfo.asp?courseID=7055&catID=791
URL:https://heartlandlakescommunitycalendar.com/index.php/event/open-lap-swim-2/2025-06-30/
LOCATION:Park Rapids High School\, 401 Huntsinger Ave\, Park Rapids\, Park Rapids\, 56470\, United States
CATEGORIES:Sport
END:VEVENT
BEGIN:VEVENT
DTSTART;TZID=UTC:20250701T100000
DTEND;TZID=UTC:20250701T140000
DTSTAMP:20260425T212045
CREATED:20250604T093302Z
LAST-MODIFIED:20250604T093303Z
UID:10009006-1751364000-1751378400@heartlandlakescommunitycalendar.com
SUMMARY:Living at Home Caregiver Closet
DESCRIPTION:The Caregiver Closet is a resource available to caregivers and veterans in Park Rapids and the surrounding areas. \nThe items provided by the Caregiver Closet include durable medical equipment\, both reusable medical supplies and one-time use supplies. The items are offered free of charge\, with the expectation that the items will be returned to the Caregiver Closet (if they are reusable) when they are no longer needed\, so they can be redistributed. \nThe Caregiver Closet can include\, at any given time\, canes\, walkers\, commodes\, shower benches\, crutches\, hospital beds\, lift chairs\, Hoyer lifts\, and so much more. All equipment is clean and ready to go in “as is” condition. \nEquipment and supply use are free. Donations are tax deductible.
URL:https://heartlandlakescommunitycalendar.com/index.php/event/living-at-home-caregiver-closet-4-2/2025-07-01/
LOCATION:Living at Home\, 218 Industrial Park Rd\, Park Rapids\, MN\, 56470\, United States
CATEGORIES:Charity
ATTACH;FMTTYPE=image/png:https://heartlandlakescommunitycalendar.com/wp-content/uploads/2024/03/Caregiver-Closet.png
ORGANIZER;CN="Living at Home":MAILTO:dfc@parkrapidslivingathome.org
END:VEVENT
BEGIN:VEVENT
DTSTART;TZID=UTC:20250701T123000
DTEND;TZID=UTC:20250701T150000
DTSTAMP:20260425T212045
CREATED:20250430T143643Z
LAST-MODIFIED:20250510T215320Z
UID:10008362-1751373000-1751382000@heartlandlakescommunitycalendar.com
SUMMARY:Chess
DESCRIPTION:Living at Home invites players of all levels to join them for weekly chess! Come join a vibrant community!
URL:https://heartlandlakescommunitycalendar.com/index.php/event/chess/2025-07-01/
LOCATION:Living at Home\, 218 Industrial Park Rd\, Park Rapids\, MN\, 56470\, United States
CATEGORIES:Social
ORGANIZER;CN="Living at Home":MAILTO:dfc@parkrapidslivingathome.org
END:VEVENT
BEGIN:VEVENT
DTSTART;TZID=UTC:20250701T190000
DTEND;TZID=UTC:20250701T200000
DTSTAMP:20260425T212045
CREATED:20250614T211752Z
LAST-MODIFIED:20250614T211752Z
UID:10010063-1751396400-1751400000@heartlandlakescommunitycalendar.com
SUMMARY:Let's Go Fishing Bingo
DESCRIPTION:Join us for a fun-filled Bingo Night to support the Headwaters Chapter of Let’s Go Fishing! Enjoy an evening of games\, prizes\, and community spirit—all while helping provide meaningful outdoor experiences for seniors\, veterans\, and youth in our area. Every card played makes a difference!
URL:https://heartlandlakescommunitycalendar.com/index.php/event/lets-go-fishing-bingo/2025-07-01/
LOCATION:Mantrap Valley Conservation\, 20115 Jewel Dr\, Park Rapids\, MN\, 56470\, United States
CATEGORIES:Social
ATTACH;FMTTYPE=image/webp:https://heartlandlakescommunitycalendar.com/wp-content/uploads/2025/06/2025-bingo-flyer-0e6ab63f1e61c0d8fa8ece6250b2c5bd.webp
END:VEVENT
BEGIN:VEVENT
DTSTART;TZID=UTC:20250701T190000
DTEND;TZID=UTC:20250701T210000
DTSTAMP:20260425T212045
CREATED:20250123T094511Z
LAST-MODIFIED:20250123T095029Z
UID:10004105-1751396400-1751403600@heartlandlakescommunitycalendar.com
SUMMARY:DJ Bingo
DESCRIPTION:Tuesday nights just got way more fun! DJ Bingo kicks off at 7 PM\, and it’s totally FREE to play—so why not grab your crew and join in?💰 Win big! We’ve got a progressive cash prize up to $300 and Zorbaz Gift Cards for regular Bingo wins! 🎵 It’s bingo\, but with a beat! Expect good vibes and a whole lot of fun. 👨‍👩‍👧‍👦 All ages welcome! Don’t miss out—come play\, dance\, and win every Tuesday at 7 PM! See ya there! 🍻🎤🎉
URL:https://heartlandlakescommunitycalendar.com/index.php/event/dj-bingo/2025-07-01/
LOCATION:Zorbaz\, 22036 County 7\, Park Rapids\, 56470\, United States
CATEGORIES:Entertainment
END:VEVENT
BEGIN:VEVENT
DTSTART;TZID=UTC:20250702T063000
DTEND;TZID=UTC:20250702T073000
DTSTAMP:20260425T212045
CREATED:20250123T102734Z
LAST-MODIFIED:20250123T102734Z
UID:10004673-1751437800-1751441400@heartlandlakescommunitycalendar.com
SUMMARY:Open/Lap Swim
DESCRIPTION:Open Swim and Lap Swim through Park Rapids Community Ed. No Swimming on Holidays \nOpen Swim: Is available for ages 7 and older. Younger students can swim if an adult is in the water with him/her. Please come dressed in your suit\, bring your towel and goggles (if you want) and be ready for some fun! You are encouraged to come dressed in your suit but the locker rooms will be available. Pre-registration is required. Must register by Wed. before open swim. There is no charge for children ages 2 and under. https://www.parkrapidscomed.com/insight/registry/classinfo.asp?courseID=7056&catID=791  \nLap Swim: Bring your suit and a towel. Enter through door W7. Locker rooms are available. Please sign up in the deep end on dry erase board for a lane. Maximum of three people per lane. Punch cards only\, not to be left at the pool. To purchase a card\, please call Community Education at 218-237-6600. No cash at the pool\, no daily walk in rate. https://www.parkrapidscomed.com/insight/registry/classinfo.asp?courseID=7055&catID=791
URL:https://heartlandlakescommunitycalendar.com/index.php/event/open-lap-swim/2025-07-02/
LOCATION:Park Rapids High School\, 401 Huntsinger Ave\, Park Rapids\, Park Rapids\, 56470\, United States
CATEGORIES:Sport
END:VEVENT
BEGIN:VEVENT
DTSTART;TZID=UTC:20250702T093000
DTEND;TZID=UTC:20250702T103000
DTSTAMP:20260425T212045
CREATED:20250430T143329Z
LAST-MODIFIED:20250430T143330Z
UID:10000332-1751448600-1751452200@heartlandlakescommunitycalendar.com
SUMMARY:Free Senior Coffee Hour
DESCRIPTION:Living at Home of the Park Rapids Area invites you to join us for Free Senior Coffee Hour
URL:https://heartlandlakescommunitycalendar.com/index.php/event/free-senior-coffee-hour-2-2/2025-07-02/
LOCATION:Living at Home\, 218 Industrial Park Rd\, Park Rapids\, MN\, 56470\, United States
CATEGORIES:Social
ATTACH;FMTTYPE=image/png:https://heartlandlakescommunitycalendar.com/wp-content/uploads/2024/03/Senior-Coffee-Hour.png
ORGANIZER;CN="Living at Home":MAILTO:dfc@parkrapidslivingathome.org
END:VEVENT
BEGIN:VEVENT
DTSTART;TZID=UTC:20250702T100000
DTEND;TZID=UTC:20250702T140000
DTSTAMP:20260425T212045
CREATED:20250604T093324Z
LAST-MODIFIED:20250604T093325Z
UID:10009267-1751450400-1751464800@heartlandlakescommunitycalendar.com
SUMMARY:Living at Home Caregiver Closet
DESCRIPTION:The Caregiver Closet is a resource available to caregivers and veterans in Park Rapids and the surrounding areas. \nThe items provided by the Caregiver Closet include durable medical equipment\, both reusable medical supplies and one-time use supplies. The items are offered free of charge\, with the expectation that the items will be returned to the Caregiver Closet (if they are reusable) when they are no longer needed\, so they can be redistributed. \nThe Caregiver Closet can include\, at any given time\, canes\, walkers\, commodes\, shower benches\, crutches\, hospital beds\, lift chairs\, Hoyer lifts\, and so much more. All equipment is clean and ready to go in “as is” condition. \nEquipment and supply use are free. Donations are tax deductible.
URL:https://heartlandlakescommunitycalendar.com/index.php/event/living-at-home-caregiver-closet-3-2-2/2025-07-02/
LOCATION:Living at Home\, 218 Industrial Park Rd\, Park Rapids\, MN\, 56470\, United States
CATEGORIES:Charity
ATTACH;FMTTYPE=image/png:https://heartlandlakescommunitycalendar.com/wp-content/uploads/2024/03/Caregiver-Closet.png
ORGANIZER;CN="Living at Home":MAILTO:dfc@parkrapidslivingathome.org
END:VEVENT
BEGIN:VEVENT
DTSTART;TZID=UTC:20250703T100000
DTEND;TZID=UTC:20250703T140000
DTSTAMP:20260425T212045
CREATED:20250604T093341Z
LAST-MODIFIED:20250604T093341Z
UID:10001115-1751536800-1751551200@heartlandlakescommunitycalendar.com
SUMMARY:Living at Home Caregiver Closet
DESCRIPTION:The Caregiver Closet is a resource available to caregivers and veterans in Park Rapids and the surrounding areas. \nThe items provided by the Caregiver Closet include durable medical equipment\, both reusable medical supplies and one-time use supplies. The items are offered free of charge\, with the expectation that the items will be returned to the Caregiver Closet (if they are reusable) when they are no longer needed\, so they can be redistributed. \nThe Caregiver Closet can include\, at any given time\, canes\, walkers\, commodes\, shower benches\, crutches\, hospital beds\, lift chairs\, Hoyer lifts\, and so much more. All equipment is clean and ready to go in “as is” condition. \nEquipment and supply use are free. Donations are tax deductible.
URL:https://heartlandlakescommunitycalendar.com/index.php/event/living-at-home-caregiver-closet-2-3-2/2025-07-03/
LOCATION:Living at Home\, 218 Industrial Park Rd\, Park Rapids\, MN\, 56470\, United States
CATEGORIES:Charity
ATTACH;FMTTYPE=image/png:https://heartlandlakescommunitycalendar.com/wp-content/uploads/2024/03/Caregiver-Closet.png
ORGANIZER;CN="Living at Home":MAILTO:dfc@parkrapidslivingathome.org
END:VEVENT
BEGIN:VEVENT
DTSTART;TZID=UTC:20250703T121500
DTEND;TZID=UTC:20250703T124500
DTSTAMP:20260425T212045
CREATED:20250514T081841Z
LAST-MODIFIED:20250825T203128Z
UID:10008753-1751544900-1751546700@heartlandlakescommunitycalendar.com
SUMMARY:Summer Noon Hour Concerts
DESCRIPTION:Take a break in the middle of your day and enjoy the sounds of the Noon Hour Concert Series—a curated lineup of live performances featuring local and visiting musicians. Each concert offers a refreshing dose of culture and creativity to energize your afternoon. \nJune 5  – Emily Kjenaas Mezzo-Soprano \nJune 12 – Melanie Hanson\, Violin & Piano; Michael Hanson\, Soprano Saxophone; Rebekah Sundsrud\, Cello & Piano \nJune 19 – Jennie Anderson\, Flute; Rebekah Sundsrud\, Piano \nJune 26 – Bemidji Brass Quintet: Kyle Riess\, Trumpet; Alyssa Konecne\, Trombone; Steve Radley\, Bass Trombone; Eve Sumsky\, Horn; Craig Swartz\, Trumpet \nJuly 3- Brady Kacon: Percussion; Xylophone\, Snare\, Drum\, Drumset\, Marimba\, Vibraphone & Glockenspiel; Sarah Carlson\, Piano \nJuly 10 – North Wind Clarinets: Deane Johnson\, Beth Hahn\, Vickie Magnuson\, Peg Rickert\, Sarah Sundeen \nJuly 17 – Sarah Carlson\, Piano; Hannah Lewis\, Soprano \nJuly 24 – Sarah Kaufenberg\, Piano; Luke Helm\, Guitar \nJuly 31 – Sage Gonzales\, Cello \nAugust 7 – Blake Staines\, Baritone Soloist \nAugust 14 – Paul Lawrence\, Guitar and Vocal \nAugust 21 – Bob Madeson\, Euphonium; Sarah Carlson\, Piano; Merideth Klingbeil\, Organ \nAugust 28 – Matthew Lorenz\, Piano
URL:https://heartlandlakescommunitycalendar.com/index.php/event/summer-noon-hour-concerts/2025-07-03/
LOCATION:Calvary Lutheran Church\, 112 Park Ave\, Park Rapids\, MN\, 56470\, United States
CATEGORIES:Arts,Music
ORGANIZER;CN="Heartland Arts":MAILTO:parkrapidsarts@gmail.com
END:VEVENT
BEGIN:VEVENT
DTSTART;TZID=UTC:20250703T180000
DTEND;TZID=UTC:20250703T200000
DTSTAMP:20260425T212045
CREATED:20250122T214917Z
LAST-MODIFIED:20250528T184149Z
UID:10003880-1751565600-1751572800@heartlandlakescommunitycalendar.com
SUMMARY:2nd Street Stage - Lydia Rose and Band Decisions
DESCRIPTION:🎶 Summer Concert Series on 2nd Street! 🌟Join us for a FREE summer concert filled with live music\, dancing\, and community fun! Bring your family\, grab your lawn chairs\, and enjoy a night with your community. Say hi to local vendors and unwind with the famous Tap Castle beer garden while the music plays on. Whether you’re tapping your toes or dancing the night away\, there’s something for everyone. Don’t miss out on this perfect summer evening—see you there! 🌅🎤✨
URL:https://heartlandlakescommunitycalendar.com/index.php/event/2nd-street-stage-lydia-rose/
LOCATION:2nd Street Stage\, 201 Main Ave So\, Park Rapids\, MN\, 56470\, United States
CATEGORIES:Entertainment,Music
ATTACH;FMTTYPE=image/jpeg:https://heartlandlakescommunitycalendar.com/wp-content/uploads/2025/01/473167037_1015605300588299_308728130926842442_n.jpg
ORGANIZER;CN="Park Rapids Downtown Business Association":MAILTO:parkrapidsdba@gmail.com
END:VEVENT
BEGIN:VEVENT
DTSTART;TZID=UTC:20250703T190000
DTEND;TZID=UTC:20250703T200000
DTSTAMP:20260425T212045
CREATED:20250123T103436Z
LAST-MODIFIED:20250123T103436Z
UID:10006215-1751569200-1751572800@heartlandlakescommunitycalendar.com
SUMMARY:Open/Lap Swim
DESCRIPTION:Open Swim and Lap Swim through Park Rapids Community Ed. No Swimming on Holidays \nOpen Swim: Is available for ages 7 and older. Younger students can swim if an adult is in the water with him/her. Please come dressed in your suit\, bring your towel and goggles (if you want) and be ready for some fun! You are encouraged to come dressed in your suit but the locker rooms will be available. Pre-registration is required. Must register by Wed. before open swim. There is no charge for children ages 2 and under. https://www.parkrapidscomed.com/insight/registry/classinfo.asp?courseID=7056&catID=791  \nLap Swim: Bring your suit and a towel. Enter through door W7. Locker rooms are available. Please sign up in the deep end on dry erase board for a lane. Maximum of three people per lane. Punch cards only\, not to be left at the pool. To purchase a card\, please call Community Education at 218-237-6600. No cash at the pool\, no daily walk in rate. https://www.parkrapidscomed.com/insight/registry/classinfo.asp?courseID=7055&catID=791
URL:https://heartlandlakescommunitycalendar.com/index.php/event/open-lap-swim-2/2025-07-03/
LOCATION:Park Rapids High School\, 401 Huntsinger Ave\, Park Rapids\, Park Rapids\, 56470\, United States
CATEGORIES:Sport
END:VEVENT
BEGIN:VEVENT
DTSTART;TZID=UTC:20250704T063000
DTEND;TZID=UTC:20250704T073000
DTSTAMP:20260425T212045
CREATED:20250123T102734Z
LAST-MODIFIED:20250123T102734Z
UID:10004674-1751610600-1751614200@heartlandlakescommunitycalendar.com
SUMMARY:Open/Lap Swim
DESCRIPTION:Open Swim and Lap Swim through Park Rapids Community Ed. No Swimming on Holidays \nOpen Swim: Is available for ages 7 and older. Younger students can swim if an adult is in the water with him/her. Please come dressed in your suit\, bring your towel and goggles (if you want) and be ready for some fun! You are encouraged to come dressed in your suit but the locker rooms will be available. Pre-registration is required. Must register by Wed. before open swim. There is no charge for children ages 2 and under. https://www.parkrapidscomed.com/insight/registry/classinfo.asp?courseID=7056&catID=791  \nLap Swim: Bring your suit and a towel. Enter through door W7. Locker rooms are available. Please sign up in the deep end on dry erase board for a lane. Maximum of three people per lane. Punch cards only\, not to be left at the pool. To purchase a card\, please call Community Education at 218-237-6600. No cash at the pool\, no daily walk in rate. https://www.parkrapidscomed.com/insight/registry/classinfo.asp?courseID=7055&catID=791
URL:https://heartlandlakescommunitycalendar.com/index.php/event/open-lap-swim/2025-07-04/
LOCATION:Park Rapids High School\, 401 Huntsinger Ave\, Park Rapids\, Park Rapids\, 56470\, United States
CATEGORIES:Sport
END:VEVENT
BEGIN:VEVENT
DTSTART;TZID=UTC:20250705T090000
DTEND;TZID=UTC:20250705T130000
DTSTAMP:20260425T212045
CREATED:20250226T035325Z
LAST-MODIFIED:20250226T035326Z
UID:10007751-1751706000-1751720400@heartlandlakescommunitycalendar.com
SUMMARY:Park Rapids Farmers' Market
DESCRIPTION:One of the largest farmers’ market in the area. 50 friendly vendors with farm fresh local products and unique arts & crafts.\nOpen every Saturday rain or shine beginning May 24th-Sept. 20th. Live music and lots of free parking.
URL:https://heartlandlakescommunitycalendar.com/index.php/event/park-rapids-farmers-market/2025-07-05/
LOCATION:Park Rapids Farmers’ Market\, 910 1st St. East\, Park Rapids\, MN\, 56470\, United States
CATEGORIES:Arts
ATTACH;FMTTYPE=image/webp:https://heartlandlakescommunitycalendar.com/wp-content/uploads/2025/02/MemLogo_PR-Farmers-Market-logo-513c79293d4fdeab494615db8caf7093.webp
ORGANIZER;CN="Park Rapids Farmers' Market":MAILTO:Parkrapidsfm@gmail.com
END:VEVENT
END:VCALENDAR