BEGIN:VCALENDAR
VERSION:2.0
PRODID:-//The Heartland Lakes Community Calendar - ECPv6.3.7//NONSGML v1.0//EN
CALSCALE:GREGORIAN
METHOD:PUBLISH
X-WR-CALNAME:The Heartland Lakes Community Calendar
X-ORIGINAL-URL:https://heartlandlakescommunitycalendar.com
X-WR-CALDESC:Events for The Heartland Lakes Community Calendar
REFRESH-INTERVAL;VALUE=DURATION:PT1H
X-Robots-Tag:noindex
X-PUBLISHED-TTL:PT1H
BEGIN:VTIMEZONE
TZID:UTC
BEGIN:STANDARD
TZOFFSETFROM:+0000
TZOFFSETTO:+0000
TZNAME:UTC
DTSTART:20250101T000000
END:STANDARD
TZID:America/New_York
BEGIN:DAYLIGHT
TZOFFSETFROM:-0500
TZOFFSETTO:-0400
TZNAME:EDT
DTSTART:20250309T070000
END:DAYLIGHT
BEGIN:STANDARD
TZOFFSETFROM:-0400
TZOFFSETTO:-0500
TZNAME:EST
DTSTART:20251102T060000
END:STANDARD
END:VTIMEZONE
BEGIN:VEVENT
DTSTART;TZID=UTC:20251110T063000
DTEND;TZID=UTC:20251110T073000
DTSTAMP:20260419T144956
CREATED:20250123T102734Z
LAST-MODIFIED:20250123T102734Z
UID:10004729-1762756200-1762759800@heartlandlakescommunitycalendar.com
SUMMARY:Open/Lap Swim
DESCRIPTION:Open Swim and Lap Swim through Park Rapids Community Ed. No Swimming on Holidays \nOpen Swim: Is available for ages 7 and older. Younger students can swim if an adult is in the water with him/her. Please come dressed in your suit\, bring your towel and goggles (if you want) and be ready for some fun! You are encouraged to come dressed in your suit but the locker rooms will be available. Pre-registration is required. Must register by Wed. before open swim. There is no charge for children ages 2 and under. https://www.parkrapidscomed.com/insight/registry/classinfo.asp?courseID=7056&catID=791  \nLap Swim: Bring your suit and a towel. Enter through door W7. Locker rooms are available. Please sign up in the deep end on dry erase board for a lane. Maximum of three people per lane. Punch cards only\, not to be left at the pool. To purchase a card\, please call Community Education at 218-237-6600. No cash at the pool\, no daily walk in rate. https://www.parkrapidscomed.com/insight/registry/classinfo.asp?courseID=7055&catID=791
URL:https://heartlandlakescommunitycalendar.com/index.php/event/open-lap-swim/2025-11-10/
LOCATION:Park Rapids High School\, 401 Huntsinger Ave\, Park Rapids\, Park Rapids\, 56470\, United States
CATEGORIES:Sport
END:VEVENT
BEGIN:VEVENT
DTSTART;TZID=UTC:20251110T100000
DTEND;TZID=UTC:20251110T140000
DTSTAMP:20260419T144956
CREATED:20250604T093438Z
LAST-MODIFIED:20250604T093438Z
UID:10009820-1762768800-1762783200@heartlandlakescommunitycalendar.com
SUMMARY:Living at Home Caregiver Closet
DESCRIPTION:The Caregiver Closet is a resource available to caregivers and veterans in Park Rapids and the surrounding areas. \nThe items provided by the Caregiver Closet include durable medical equipment\, both reusable medical supplies and one-time use supplies. The items are offered free of charge\, with the expectation that the items will be returned to the Caregiver Closet (if they are reusable) when they are no longer needed\, so they can be redistributed. \nThe Caregiver Closet can include\, at any given time\, canes\, walkers\, commodes\, shower benches\, crutches\, hospital beds\, lift chairs\, Hoyer lifts\, and so much more. All equipment is clean and ready to go in “as is” condition. \nEquipment and supply use are free. Donations are tax deductible.
URL:https://heartlandlakescommunitycalendar.com/index.php/event/living-at-home-caregiver-closet-5/2025-11-10/
LOCATION:Living at Home\, 218 Industrial Park Rd\, Park Rapids\, MN\, 56470\, United States
CATEGORIES:Charity
ATTACH;FMTTYPE=image/png:https://heartlandlakescommunitycalendar.com/wp-content/uploads/2024/03/Caregiver-Closet.png
ORGANIZER;CN="Living at Home":MAILTO:dfc@parkrapidslivingathome.org
END:VEVENT
BEGIN:VEVENT
DTSTART;TZID=America/New_York:20251110T180000
DTEND;TZID=America/New_York:20251110T200000
DTSTAMP:20260419T144956
CREATED:20251010T060342Z
LAST-MODIFIED:20251010T060342Z
UID:10010959-1762797600-1762804800@heartlandlakescommunitycalendar.com
SUMMARY:Kinship Purse Bingo
DESCRIPTION:Enjoy a Night of Support for Kinship!\nMonday\, November 10\, 2025 | 6–8 PM\n📍 Clancy’s Restaurant\nJoin us for an evening of excitement\, anticipation\, and fun at our popular Purse Bingo — all in support of Kinship! 🎉👛\n🎟 $40 per person\n📞 Call to reserve your spot: 218-732-5270\nSpots fill fast\, so don’t wait!
URL:https://heartlandlakescommunitycalendar.com/index.php/event/kinship-purse-bingo/
LOCATION:Clancy’s – Vacationaire\, 26333 Icon Dr\, Park Rapids\, 56470\, United States
CATEGORIES:Charity
ATTACH;FMTTYPE=application/pdf:https://heartlandlakescommunitycalendar.com/wp-content/uploads/2025/10/Purse-Bingo-3b6db3e0f95f217fc7b019326bdf83a8.pdf
ORGANIZER;CN="Kinship of Park Rapids":MAILTO:kinshipparkrapids@gmail.com
END:VEVENT
BEGIN:VEVENT
DTSTART;TZID=UTC:20251110T190000
DTEND;TZID=UTC:20251110T200000
DTSTAMP:20260419T144956
CREATED:20250123T103436Z
LAST-MODIFIED:20250123T103436Z
UID:10006252-1762801200-1762804800@heartlandlakescommunitycalendar.com
SUMMARY:Open/Lap Swim
DESCRIPTION:Open Swim and Lap Swim through Park Rapids Community Ed. No Swimming on Holidays \nOpen Swim: Is available for ages 7 and older. Younger students can swim if an adult is in the water with him/her. Please come dressed in your suit\, bring your towel and goggles (if you want) and be ready for some fun! You are encouraged to come dressed in your suit but the locker rooms will be available. Pre-registration is required. Must register by Wed. before open swim. There is no charge for children ages 2 and under. https://www.parkrapidscomed.com/insight/registry/classinfo.asp?courseID=7056&catID=791  \nLap Swim: Bring your suit and a towel. Enter through door W7. Locker rooms are available. Please sign up in the deep end on dry erase board for a lane. Maximum of three people per lane. Punch cards only\, not to be left at the pool. To purchase a card\, please call Community Education at 218-237-6600. No cash at the pool\, no daily walk in rate. https://www.parkrapidscomed.com/insight/registry/classinfo.asp?courseID=7055&catID=791
URL:https://heartlandlakescommunitycalendar.com/index.php/event/open-lap-swim-2/2025-11-10/
LOCATION:Park Rapids High School\, 401 Huntsinger Ave\, Park Rapids\, Park Rapids\, 56470\, United States
CATEGORIES:Sport
END:VEVENT
BEGIN:VEVENT
DTSTART;TZID=UTC:20251111T100000
DTEND;TZID=UTC:20251111T140000
DTSTAMP:20260419T144956
CREATED:20250604T093302Z
LAST-MODIFIED:20250604T093303Z
UID:10009025-1762855200-1762869600@heartlandlakescommunitycalendar.com
SUMMARY:Living at Home Caregiver Closet
DESCRIPTION:The Caregiver Closet is a resource available to caregivers and veterans in Park Rapids and the surrounding areas. \nThe items provided by the Caregiver Closet include durable medical equipment\, both reusable medical supplies and one-time use supplies. The items are offered free of charge\, with the expectation that the items will be returned to the Caregiver Closet (if they are reusable) when they are no longer needed\, so they can be redistributed. \nThe Caregiver Closet can include\, at any given time\, canes\, walkers\, commodes\, shower benches\, crutches\, hospital beds\, lift chairs\, Hoyer lifts\, and so much more. All equipment is clean and ready to go in “as is” condition. \nEquipment and supply use are free. Donations are tax deductible.
URL:https://heartlandlakescommunitycalendar.com/index.php/event/living-at-home-caregiver-closet-4-2/2025-11-11/
LOCATION:Living at Home\, 218 Industrial Park Rd\, Park Rapids\, MN\, 56470\, United States
CATEGORIES:Charity
ATTACH;FMTTYPE=image/png:https://heartlandlakescommunitycalendar.com/wp-content/uploads/2024/03/Caregiver-Closet.png
ORGANIZER;CN="Living at Home":MAILTO:dfc@parkrapidslivingathome.org
END:VEVENT
BEGIN:VEVENT
DTSTART;TZID=UTC:20251111T123000
DTEND;TZID=UTC:20251111T150000
DTSTAMP:20260419T144956
CREATED:20250430T143643Z
LAST-MODIFIED:20250510T215320Z
UID:10008381-1762864200-1762873200@heartlandlakescommunitycalendar.com
SUMMARY:Chess
DESCRIPTION:Living at Home invites players of all levels to join them for weekly chess! Come join a vibrant community!
URL:https://heartlandlakescommunitycalendar.com/index.php/event/chess/2025-11-11/
LOCATION:Living at Home\, 218 Industrial Park Rd\, Park Rapids\, MN\, 56470\, United States
CATEGORIES:Social
ORGANIZER;CN="Living at Home":MAILTO:dfc@parkrapidslivingathome.org
END:VEVENT
BEGIN:VEVENT
DTSTART;TZID=UTC:20251111T190000
DTEND;TZID=UTC:20251111T210000
DTSTAMP:20260419T144956
CREATED:20250123T094511Z
LAST-MODIFIED:20250123T095029Z
UID:10004124-1762887600-1762894800@heartlandlakescommunitycalendar.com
SUMMARY:DJ Bingo
DESCRIPTION:Tuesday nights just got way more fun! DJ Bingo kicks off at 7 PM\, and it’s totally FREE to play—so why not grab your crew and join in?💰 Win big! We’ve got a progressive cash prize up to $300 and Zorbaz Gift Cards for regular Bingo wins! 🎵 It’s bingo\, but with a beat! Expect good vibes and a whole lot of fun. 👨‍👩‍👧‍👦 All ages welcome! Don’t miss out—come play\, dance\, and win every Tuesday at 7 PM! See ya there! 🍻🎤🎉
URL:https://heartlandlakescommunitycalendar.com/index.php/event/dj-bingo/2025-11-11/
LOCATION:Zorbaz\, 22036 County 7\, Park Rapids\, 56470\, United States
CATEGORIES:Entertainment
END:VEVENT
BEGIN:VEVENT
DTSTART;TZID=UTC:20251112T063000
DTEND;TZID=UTC:20251112T073000
DTSTAMP:20260419T144956
CREATED:20250123T102734Z
LAST-MODIFIED:20250123T102734Z
UID:10004730-1762929000-1762932600@heartlandlakescommunitycalendar.com
SUMMARY:Open/Lap Swim
DESCRIPTION:Open Swim and Lap Swim through Park Rapids Community Ed. No Swimming on Holidays \nOpen Swim: Is available for ages 7 and older. Younger students can swim if an adult is in the water with him/her. Please come dressed in your suit\, bring your towel and goggles (if you want) and be ready for some fun! You are encouraged to come dressed in your suit but the locker rooms will be available. Pre-registration is required. Must register by Wed. before open swim. There is no charge for children ages 2 and under. https://www.parkrapidscomed.com/insight/registry/classinfo.asp?courseID=7056&catID=791  \nLap Swim: Bring your suit and a towel. Enter through door W7. Locker rooms are available. Please sign up in the deep end on dry erase board for a lane. Maximum of three people per lane. Punch cards only\, not to be left at the pool. To purchase a card\, please call Community Education at 218-237-6600. No cash at the pool\, no daily walk in rate. https://www.parkrapidscomed.com/insight/registry/classinfo.asp?courseID=7055&catID=791
URL:https://heartlandlakescommunitycalendar.com/index.php/event/open-lap-swim/2025-11-12/
LOCATION:Park Rapids High School\, 401 Huntsinger Ave\, Park Rapids\, Park Rapids\, 56470\, United States
CATEGORIES:Sport
END:VEVENT
BEGIN:VEVENT
DTSTART;TZID=UTC:20251112T093000
DTEND;TZID=UTC:20251112T103000
DTSTAMP:20260419T144956
CREATED:20250430T143329Z
LAST-MODIFIED:20250430T143330Z
UID:10000351-1762939800-1762943400@heartlandlakescommunitycalendar.com
SUMMARY:Free Senior Coffee Hour
DESCRIPTION:Living at Home of the Park Rapids Area invites you to join us for Free Senior Coffee Hour
URL:https://heartlandlakescommunitycalendar.com/index.php/event/free-senior-coffee-hour-2-2/2025-11-12/
LOCATION:Living at Home\, 218 Industrial Park Rd\, Park Rapids\, MN\, 56470\, United States
CATEGORIES:Social
ATTACH;FMTTYPE=image/png:https://heartlandlakescommunitycalendar.com/wp-content/uploads/2024/03/Senior-Coffee-Hour.png
ORGANIZER;CN="Living at Home":MAILTO:dfc@parkrapidslivingathome.org
END:VEVENT
BEGIN:VEVENT
DTSTART;TZID=UTC:20251112T100000
DTEND;TZID=UTC:20251112T140000
DTSTAMP:20260419T144956
CREATED:20250604T093324Z
LAST-MODIFIED:20250604T093325Z
UID:10009286-1762941600-1762956000@heartlandlakescommunitycalendar.com
SUMMARY:Living at Home Caregiver Closet
DESCRIPTION:The Caregiver Closet is a resource available to caregivers and veterans in Park Rapids and the surrounding areas. \nThe items provided by the Caregiver Closet include durable medical equipment\, both reusable medical supplies and one-time use supplies. The items are offered free of charge\, with the expectation that the items will be returned to the Caregiver Closet (if they are reusable) when they are no longer needed\, so they can be redistributed. \nThe Caregiver Closet can include\, at any given time\, canes\, walkers\, commodes\, shower benches\, crutches\, hospital beds\, lift chairs\, Hoyer lifts\, and so much more. All equipment is clean and ready to go in “as is” condition. \nEquipment and supply use are free. Donations are tax deductible.
URL:https://heartlandlakescommunitycalendar.com/index.php/event/living-at-home-caregiver-closet-3-2-2/2025-11-12/
LOCATION:Living at Home\, 218 Industrial Park Rd\, Park Rapids\, MN\, 56470\, United States
CATEGORIES:Charity
ATTACH;FMTTYPE=image/png:https://heartlandlakescommunitycalendar.com/wp-content/uploads/2024/03/Caregiver-Closet.png
ORGANIZER;CN="Living at Home":MAILTO:dfc@parkrapidslivingathome.org
END:VEVENT
BEGIN:VEVENT
DTSTART;TZID=UTC:20251112T170000
DTEND;TZID=UTC:20251112T180000
DTSTAMP:20260419T144956
CREATED:20250122T224123Z
LAST-MODIFIED:20250122T224123Z
UID:10004018-1762966800-1762970400@heartlandlakescommunitycalendar.com
SUMMARY:Beagle TED (Topics Explored & Discussed) Book Group
DESCRIPTION:This book group goes beyond the pages! Each month\, we dive into books that challenge perspectives and inspire discussion\, covering themes like social issues\, philosophy\, history\, and more. If you love deep conversations and new ideas\, this is the club for you! Check our website for this month’s book: https://beagleandwolf.com/bookgroups.html \nOur book groups are open\, free of charge\, and you’re welcome to join us whenever you’re able. We ask that you purchase your books from us. Mention they’re for book group and we’ll give you a 10% discount on each book. (Unfortunately\, this discount is not available on any books purchased online from us.)
URL:https://heartlandlakescommunitycalendar.com/index.php/event/beagle-ted-topics-explored-discussed-book-group/2025-11-12/
LOCATION:Beagle and Wolf Books & Bindery\, 112 3rd Street West\, Park Rapids\, 56470\, United States
CATEGORIES:Literature
ATTACH;FMTTYPE=image/png:https://heartlandlakescommunitycalendar.com/wp-content/uploads/2025/01/womens-Book-Group-2.png
ORGANIZER;CN="Beagle and Wolf Books & Bindery":MAILTO:info@beagleandwolf.com
END:VEVENT
BEGIN:VEVENT
DTSTART;TZID=UTC:20251113T100000
DTEND;TZID=UTC:20251113T140000
DTSTAMP:20260419T144956
CREATED:20250604T093341Z
LAST-MODIFIED:20250604T093341Z
UID:10001134-1763028000-1763042400@heartlandlakescommunitycalendar.com
SUMMARY:Living at Home Caregiver Closet
DESCRIPTION:The Caregiver Closet is a resource available to caregivers and veterans in Park Rapids and the surrounding areas. \nThe items provided by the Caregiver Closet include durable medical equipment\, both reusable medical supplies and one-time use supplies. The items are offered free of charge\, with the expectation that the items will be returned to the Caregiver Closet (if they are reusable) when they are no longer needed\, so they can be redistributed. \nThe Caregiver Closet can include\, at any given time\, canes\, walkers\, commodes\, shower benches\, crutches\, hospital beds\, lift chairs\, Hoyer lifts\, and so much more. All equipment is clean and ready to go in “as is” condition. \nEquipment and supply use are free. Donations are tax deductible.
URL:https://heartlandlakescommunitycalendar.com/index.php/event/living-at-home-caregiver-closet-2-3-2/2025-11-13/
LOCATION:Living at Home\, 218 Industrial Park Rd\, Park Rapids\, MN\, 56470\, United States
CATEGORIES:Charity
ATTACH;FMTTYPE=image/png:https://heartlandlakescommunitycalendar.com/wp-content/uploads/2024/03/Caregiver-Closet.png
ORGANIZER;CN="Living at Home":MAILTO:dfc@parkrapidslivingathome.org
END:VEVENT
BEGIN:VEVENT
DTSTART;TZID=America/New_York:20251113T170000
DTEND;TZID=America/New_York:20251113T180000
DTSTAMP:20260419T144956
CREATED:20250824T040623Z
LAST-MODIFIED:20250824T040623Z
UID:10010761-1763053200-1763056800@heartlandlakescommunitycalendar.com
SUMMARY:End of Life Preparations
DESCRIPTION:Are you wondering what steps you can take to make sure your final wishes\, or those of a loved one\, are honored when the time comes? What legal steps do you need to take? Can you choose and pay for your funeral now? What records have to be aligned? Who can represent your wishes? Join area residents as they hear from Charles Cease from Cease Family Funeral Home in Park Rapids on steps you can take now to ensure your final wishes are known and implemented.
URL:https://heartlandlakescommunitycalendar.com/index.php/event/end-of-life-preparations/
LOCATION:Century School\, 501 Helten Ave\, Park Rapids\, 56470\, United States
CATEGORIES:Education
END:VEVENT
BEGIN:VEVENT
DTSTART;TZID=UTC:20251113T190000
DTEND;TZID=UTC:20251113T200000
DTSTAMP:20260419T144956
CREATED:20250123T103436Z
LAST-MODIFIED:20250123T103436Z
UID:10006253-1763060400-1763064000@heartlandlakescommunitycalendar.com
SUMMARY:Open/Lap Swim
DESCRIPTION:Open Swim and Lap Swim through Park Rapids Community Ed. No Swimming on Holidays \nOpen Swim: Is available for ages 7 and older. Younger students can swim if an adult is in the water with him/her. Please come dressed in your suit\, bring your towel and goggles (if you want) and be ready for some fun! You are encouraged to come dressed in your suit but the locker rooms will be available. Pre-registration is required. Must register by Wed. before open swim. There is no charge for children ages 2 and under. https://www.parkrapidscomed.com/insight/registry/classinfo.asp?courseID=7056&catID=791  \nLap Swim: Bring your suit and a towel. Enter through door W7. Locker rooms are available. Please sign up in the deep end on dry erase board for a lane. Maximum of three people per lane. Punch cards only\, not to be left at the pool. To purchase a card\, please call Community Education at 218-237-6600. No cash at the pool\, no daily walk in rate. https://www.parkrapidscomed.com/insight/registry/classinfo.asp?courseID=7055&catID=791
URL:https://heartlandlakescommunitycalendar.com/index.php/event/open-lap-swim-2/2025-11-13/
LOCATION:Park Rapids High School\, 401 Huntsinger Ave\, Park Rapids\, Park Rapids\, 56470\, United States
CATEGORIES:Sport
END:VEVENT
BEGIN:VEVENT
DTSTART;TZID=UTC:20251114T063000
DTEND;TZID=UTC:20251114T073000
DTSTAMP:20260419T144956
CREATED:20250123T102734Z
LAST-MODIFIED:20250123T102734Z
UID:10004731-1763101800-1763105400@heartlandlakescommunitycalendar.com
SUMMARY:Open/Lap Swim
DESCRIPTION:Open Swim and Lap Swim through Park Rapids Community Ed. No Swimming on Holidays \nOpen Swim: Is available for ages 7 and older. Younger students can swim if an adult is in the water with him/her. Please come dressed in your suit\, bring your towel and goggles (if you want) and be ready for some fun! You are encouraged to come dressed in your suit but the locker rooms will be available. Pre-registration is required. Must register by Wed. before open swim. There is no charge for children ages 2 and under. https://www.parkrapidscomed.com/insight/registry/classinfo.asp?courseID=7056&catID=791  \nLap Swim: Bring your suit and a towel. Enter through door W7. Locker rooms are available. Please sign up in the deep end on dry erase board for a lane. Maximum of three people per lane. Punch cards only\, not to be left at the pool. To purchase a card\, please call Community Education at 218-237-6600. No cash at the pool\, no daily walk in rate. https://www.parkrapidscomed.com/insight/registry/classinfo.asp?courseID=7055&catID=791
URL:https://heartlandlakescommunitycalendar.com/index.php/event/open-lap-swim/2025-11-14/
LOCATION:Park Rapids High School\, 401 Huntsinger Ave\, Park Rapids\, Park Rapids\, 56470\, United States
CATEGORIES:Sport
END:VEVENT
END:VCALENDAR