BEGIN:VCALENDAR
VERSION:2.0
PRODID:-//The Heartland Lakes Community Calendar - ECPv6.3.7//NONSGML v1.0//EN
CALSCALE:GREGORIAN
METHOD:PUBLISH
X-ORIGINAL-URL:https://heartlandlakescommunitycalendar.com
X-WR-CALDESC:Events for The Heartland Lakes Community Calendar
REFRESH-INTERVAL;VALUE=DURATION:PT1H
X-Robots-Tag:noindex
X-PUBLISHED-TTL:PT1H
BEGIN:VTIMEZONE
TZID:America/New_York
BEGIN:DAYLIGHT
TZOFFSETFROM:-0500
TZOFFSETTO:-0400
TZNAME:EDT
DTSTART:20250309T070000
END:DAYLIGHT
BEGIN:STANDARD
TZOFFSETFROM:-0400
TZOFFSETTO:-0500
TZNAME:EST
DTSTART:20251102T060000
END:STANDARD
TZID:UTC
BEGIN:STANDARD
TZOFFSETFROM:+0000
TZOFFSETTO:+0000
TZNAME:UTC
DTSTART:20240101T000000
END:STANDARD
END:VTIMEZONE
BEGIN:VEVENT
DTSTART;TZID=America/New_York:20251108T160000
DTEND;TZID=America/New_York:20251108T190000
DTSTAMP:20260420T011714
CREATED:20251023T031858Z
LAST-MODIFIED:20251023T031859Z
UID:10010961-1762617600-1762628400@heartlandlakescommunitycalendar.com
SUMMARY:Tasty\, Tender\, Turkey Dinner Benefiting the Headwaters Animal Shelter
DESCRIPTION:Join us on Friday\, November 8th from 4pm to 7pm at the Park Rapids American Legion for a heartwarming community event you won’t want to miss! We’ll be serving up a homestyle turkey dinner complete with mashed potatoes and gravy\, vegetables\, and a delicious selection of desserts. \nAlong with a hearty meal\, the evening will feature a Silent Auction filled with great items\, and our Cash Raffle Drawing with $5\,000 in prizes\, including a $2\,000 grand prize! \nThis event is open to everyone so stop in\, enjoy a hot meal\, and join in the fun while supporting a great cause. All proceeds benefit the animals at Headwaters Animal Shelter\, giving them the care and second chances they deserve. Come hungry\, leave happy\, and help us make a difference.
URL:https://heartlandlakescommunitycalendar.com/index.php/event/tasty-tender-turkey-dinner-benefiting-the-headwaters-animal-shelter/
LOCATION:Park Rapids American Legion\, 900 1st St E\, Park Rapids\, MN\, 56470\, United States
CATEGORIES:Charity,Dinner
ATTACH;FMTTYPE=application/pdf:https://heartlandlakescommunitycalendar.com/wp-content/uploads/2025/10/turkey-dinner-poster-2025.pdf
ORGANIZER;CN="Headwaters Animal Shelter":MAILTO:HAS@HeadwatersAnimalShelter.org
END:VEVENT
BEGIN:VEVENT
DTSTART;TZID=UTC:20250606T180000
DTEND;TZID=UTC:20250606T200000
DTSTAMP:20260420T011714
CREATED:20250522T035213Z
LAST-MODIFIED:20250522T035213Z
UID:10008910-1749232800-1749240000@heartlandlakescommunitycalendar.com
SUMMARY:Purse Bingo - Headwaters Animal Shelter
DESCRIPTION:This fun-filled evening offers attendees the chance to win paws-itively chic handbags while supporting a great cause! Tickets are $40 per person if pre-registered or $50 at the door\, with all proceeds benefiting the shelter’s mission to improve the quality of life for companion animals.
URL:https://heartlandlakescommunitycalendar.com/index.php/event/purse-bingo-headwaters-animal-shelter/
LOCATION:Park Rapids American Legion\, 900 1st St E\, Park Rapids\, MN\, 56470\, United States
CATEGORIES:Charity
ATTACH;FMTTYPE=image/jpeg:https://heartlandlakescommunitycalendar.com/wp-content/uploads/2025/05/499403251_1083370407171889_6383822600507422369_n.jpg
ORGANIZER;CN="Headwaters Animal Shelter":MAILTO:HAS@HeadwatersAnimalShelter.org
END:VEVENT
BEGIN:VEVENT
DTSTART;TZID=UTC:20250410T120000
DTEND;TZID=UTC:20250410T160000
DTSTAMP:20260420T011714
CREATED:20250407T120002Z
LAST-MODIFIED:20250407T120002Z
UID:10008191-1744286400-1744300800@heartlandlakescommunitycalendar.com
SUMMARY:Week of the Young Child at Headwaters Animal Shelter
DESCRIPTION:Headwaters Animal Shelter invites the kids and their families to come and visit the animals! From 12pm-4pm\, we will be giving out goodie bags and open to visitors!
URL:https://heartlandlakescommunitycalendar.com/index.php/event/week-of-the-young-child-at-headwaters-animal-shelter/
LOCATION:Headwaters Animal Shelter\, 901 Western Ave. S.\, Park Rapids\, MN\, 56470\, United States
CATEGORIES:Holiday,Social
ATTACH;FMTTYPE=image/jpeg:https://heartlandlakescommunitycalendar.com/wp-content/uploads/2025/04/489289141_1048775577298039_76404270696339468_n.jpg
ORGANIZER;CN="Headwaters Animal Shelter":MAILTO:HAS@HeadwatersAnimalShelter.org
END:VEVENT
BEGIN:VEVENT
DTSTART;TZID=UTC:20241212T110000
DTEND;TZID=UTC:20241212T220000
DTSTAMP:20260420T011714
CREATED:20241211T214131Z
LAST-MODIFIED:20241211T214131Z
UID:10003676-1734001200-1734040800@heartlandlakescommunitycalendar.com
SUMMARY:Pizza for Paws
DESCRIPTION:Celebrate pizza with a purpose! Park Rapids Pizza Hut is proudly donating 20% of all sales on Thursday\, December 12\, including dine-in\, carry out and delivery\,  to Headwaters Animal Shelter— come enjoy delicious pizza and make a paws-itive impact on animals in need! 
URL:https://heartlandlakescommunitycalendar.com/index.php/event/pizza-for-paws/
LOCATION:Pizza Hut Park Rapids\, 109 - 1st St E\, Park Rapids\, MN\, 56470\, United States
CATEGORIES:Charity
ATTACH;FMTTYPE=image/png:https://heartlandlakescommunitycalendar.com/wp-content/uploads/2024/12/Pizza-for-Paws-Pets-Flyer.png
ORGANIZER;CN="Headwaters Animal Shelter":MAILTO:HAS@HeadwatersAnimalShelter.org
END:VEVENT
BEGIN:VEVENT
DTSTART;TZID=UTC:20241116T190000
DTEND;TZID=UTC:20241116T200000
DTSTAMP:20260420T011714
CREATED:20240827T085548Z
LAST-MODIFIED:20240830T010448Z
UID:10003377-1731783600-1731787200@heartlandlakescommunitycalendar.com
SUMMARY:Headwaters Animal Shelter Cash Raffle
DESCRIPTION:Win big for a good cause! $5\,000 in prizes will be awarded to lucky winners at the Headwaters Animal Shelter Cash Raffle drawing on November 16th\, 2024. Tickets will be $5 with proceeds benefiting our furry friends! Need not be present to win
URL:https://heartlandlakescommunitycalendar.com/index.php/event/headwaters-animal-shelter-cash-raffle/
LOCATION:Park Rapids American Legion\, 900 1st St E\, Park Rapids\, MN\, 56470\, United States
CATEGORIES:Fundraiser
ATTACH;FMTTYPE=image/jpeg:https://heartlandlakescommunitycalendar.com/wp-content/uploads/2024/08/CASH-RAFFLE-SIGN-LG-scaled.jpg
ORGANIZER;CN="Headwaters Animal Shelter":MAILTO:HAS@HeadwatersAnimalShelter.org
END:VEVENT
BEGIN:VEVENT
DTSTART;TZID=UTC:20241009T173000
DTEND;TZID=UTC:20241009T183000
DTSTAMP:20260420T011714
CREATED:20241001T203922Z
LAST-MODIFIED:20241001T203922Z
UID:10003388-1728495000-1728498600@heartlandlakescommunitycalendar.com
SUMMARY:Blingo! at Wine Not?
DESCRIPTION:Join us for a fun evening of Bingo with prizes of fine jewelry and precious stones from Jeweler of the North! All proceeds will go to the Headwaters Animal Shelter! Doors open at 4pm and Bingo will start at 5:30pm. Cost is $45 for 5 cards and cards for an additional 6th game will be available for purchase that night for the chance to win a 1 ct diamond! Reservations are required by clicking the ticket link below. A $10 fee per person will save your spot and that fee will be applied to your final cost that night. Space is limited! Contact Wine Not? at (218) 366-2071 to reserve your seat.
URL:https://heartlandlakescommunitycalendar.com/index.php/event/blingo-at-wine-not/
LOCATION:Wine Not?\, 110 4th St W.\, Park Rapids\, MN\, 56470\, United States
CATEGORIES:Charity,Fundraiser
ATTACH;FMTTYPE=image/jpeg:https://heartlandlakescommunitycalendar.com/wp-content/uploads/2024/10/461064119_842652344732201_8839045631063460289_n.jpg
ORGANIZER;CN="Headwaters Animal Shelter":MAILTO:HAS@HeadwatersAnimalShelter.org
END:VEVENT
BEGIN:VEVENT
DTSTART;TZID=UTC:20240830T120000
DTEND;TZID=UTC:20240830T160000
DTSTAMP:20260420T011714
CREATED:20240827T093150Z
LAST-MODIFIED:20240830T010254Z
UID:10003378-1725019200-1725033600@heartlandlakescommunitycalendar.com
SUMMARY:Shop for the Shelter
DESCRIPTION:Shop for the Shelter at Hugo’s Family Market on August 30th\, 2024 from noon-4pm. Cash raffle tickets will also be available to purchase with proceeds going to help our furry friends!
URL:https://heartlandlakescommunitycalendar.com/index.php/event/shop-for-the-shelter/
LOCATION:Hugo’s Family Marketplace\, 101 4th St E\, Park Rapids\, MN\, 56470\, United States
CATEGORIES:Charity,Fundraiser
ATTACH;FMTTYPE=image/png:https://heartlandlakescommunitycalendar.com/wp-content/uploads/2024/08/HugosShopForTheShelter_Aug3024.png
ORGANIZER;CN="Headwaters Animal Shelter":MAILTO:HAS@HeadwatersAnimalShelter.org
END:VEVENT
END:VCALENDAR