BEGIN:VCALENDAR
VERSION:2.0
PRODID:-//The Heartland Lakes Community Calendar - ECPv6.3.7//NONSGML v1.0//EN
CALSCALE:GREGORIAN
METHOD:PUBLISH
X-WR-CALNAME:The Heartland Lakes Community Calendar
X-ORIGINAL-URL:https://heartlandlakescommunitycalendar.com
X-WR-CALDESC:Events for The Heartland Lakes Community Calendar
REFRESH-INTERVAL;VALUE=DURATION:PT1H
X-Robots-Tag:noindex
X-PUBLISHED-TTL:PT1H
BEGIN:VTIMEZONE
TZID:UTC
BEGIN:STANDARD
TZOFFSETFROM:+0000
TZOFFSETTO:+0000
TZNAME:UTC
DTSTART:20250101T000000
END:STANDARD
END:VTIMEZONE
BEGIN:VEVENT
DTSTART;TZID=UTC:20260414T080000
DTEND;TZID=UTC:20260414T103000
DTSTAMP:20260419T232054
CREATED:20250511T094305Z
LAST-MODIFIED:20250511T094305Z
UID:10008688-1776153600-1776162600@heartlandlakescommunitycalendar.com
SUMMARY:Coffee with Veterans
DESCRIPTION:Join us every first Tuesday of the month for Coffee with Veterans\, a casual\, welcoming gathering where Hubbard County Veteran Service Officers and community members can connect\, learn about services available\, and enjoy a warm cup of coffee together.
URL:https://heartlandlakescommunitycalendar.com/index.php/event/coffee-with-veterans/2026-04-14/
LOCATION:Park Rapids American Legion\, 900 1st St E\, Park Rapids\, MN\, 56470\, United States
CATEGORIES:Social
ORGANIZER;CN="Hubbard County Veterans Services":MAILTO:jerrold.bjerke@co.hubbard.mn.us
END:VEVENT
BEGIN:VEVENT
DTSTART;TZID=UTC:20260310T080000
DTEND;TZID=UTC:20260310T103000
DTSTAMP:20260419T232054
CREATED:20250511T094305Z
LAST-MODIFIED:20250511T094305Z
UID:10008687-1773129600-1773138600@heartlandlakescommunitycalendar.com
SUMMARY:Coffee with Veterans
DESCRIPTION:Join us every first Tuesday of the month for Coffee with Veterans\, a casual\, welcoming gathering where Hubbard County Veteran Service Officers and community members can connect\, learn about services available\, and enjoy a warm cup of coffee together.
URL:https://heartlandlakescommunitycalendar.com/index.php/event/coffee-with-veterans/2026-03-10/
LOCATION:Park Rapids American Legion\, 900 1st St E\, Park Rapids\, MN\, 56470\, United States
CATEGORIES:Social
ORGANIZER;CN="Hubbard County Veterans Services":MAILTO:jerrold.bjerke@co.hubbard.mn.us
END:VEVENT
BEGIN:VEVENT
DTSTART;TZID=UTC:20260210T080000
DTEND;TZID=UTC:20260210T103000
DTSTAMP:20260419T232054
CREATED:20250511T094305Z
LAST-MODIFIED:20250511T094305Z
UID:10008686-1770710400-1770719400@heartlandlakescommunitycalendar.com
SUMMARY:Coffee with Veterans
DESCRIPTION:Join us every first Tuesday of the month for Coffee with Veterans\, a casual\, welcoming gathering where Hubbard County Veteran Service Officers and community members can connect\, learn about services available\, and enjoy a warm cup of coffee together.
URL:https://heartlandlakescommunitycalendar.com/index.php/event/coffee-with-veterans/2026-02-10/
LOCATION:Park Rapids American Legion\, 900 1st St E\, Park Rapids\, MN\, 56470\, United States
CATEGORIES:Social
ORGANIZER;CN="Hubbard County Veterans Services":MAILTO:jerrold.bjerke@co.hubbard.mn.us
END:VEVENT
BEGIN:VEVENT
DTSTART;TZID=UTC:20251209T080000
DTEND;TZID=UTC:20251209T103000
DTSTAMP:20260419T232054
CREATED:20250511T094305Z
LAST-MODIFIED:20250511T094305Z
UID:10008684-1765267200-1765276200@heartlandlakescommunitycalendar.com
SUMMARY:Coffee with Veterans
DESCRIPTION:Join us every first Tuesday of the month for Coffee with Veterans\, a casual\, welcoming gathering where Hubbard County Veteran Service Officers and community members can connect\, learn about services available\, and enjoy a warm cup of coffee together.
URL:https://heartlandlakescommunitycalendar.com/index.php/event/coffee-with-veterans/2025-12-09/
LOCATION:Park Rapids American Legion\, 900 1st St E\, Park Rapids\, MN\, 56470\, United States
CATEGORIES:Social
ORGANIZER;CN="Hubbard County Veterans Services":MAILTO:jerrold.bjerke@co.hubbard.mn.us
END:VEVENT
BEGIN:VEVENT
DTSTART;TZID=UTC:20251111T080000
DTEND;TZID=UTC:20251111T103000
DTSTAMP:20260419T232054
CREATED:20250511T094305Z
LAST-MODIFIED:20250511T094305Z
UID:10008683-1762848000-1762857000@heartlandlakescommunitycalendar.com
SUMMARY:Coffee with Veterans
DESCRIPTION:Join us every first Tuesday of the month for Coffee with Veterans\, a casual\, welcoming gathering where Hubbard County Veteran Service Officers and community members can connect\, learn about services available\, and enjoy a warm cup of coffee together.
URL:https://heartlandlakescommunitycalendar.com/index.php/event/coffee-with-veterans/2025-11-11/
LOCATION:Park Rapids American Legion\, 900 1st St E\, Park Rapids\, MN\, 56470\, United States
CATEGORIES:Social
ORGANIZER;CN="Hubbard County Veterans Services":MAILTO:jerrold.bjerke@co.hubbard.mn.us
END:VEVENT
BEGIN:VEVENT
DTSTART;TZID=UTC:20251014T080000
DTEND;TZID=UTC:20251014T103000
DTSTAMP:20260419T232054
CREATED:20250511T094305Z
LAST-MODIFIED:20250511T094305Z
UID:10008682-1760428800-1760437800@heartlandlakescommunitycalendar.com
SUMMARY:Coffee with Veterans
DESCRIPTION:Join us every first Tuesday of the month for Coffee with Veterans\, a casual\, welcoming gathering where Hubbard County Veteran Service Officers and community members can connect\, learn about services available\, and enjoy a warm cup of coffee together.
URL:https://heartlandlakescommunitycalendar.com/index.php/event/coffee-with-veterans/2025-10-14/
LOCATION:Park Rapids American Legion\, 900 1st St E\, Park Rapids\, MN\, 56470\, United States
CATEGORIES:Social
ORGANIZER;CN="Hubbard County Veterans Services":MAILTO:jerrold.bjerke@co.hubbard.mn.us
END:VEVENT
BEGIN:VEVENT
DTSTART;TZID=UTC:20250909T080000
DTEND;TZID=UTC:20250909T103000
DTSTAMP:20260419T232054
CREATED:20250511T094305Z
LAST-MODIFIED:20250511T094305Z
UID:10008681-1757404800-1757413800@heartlandlakescommunitycalendar.com
SUMMARY:Coffee with Veterans
DESCRIPTION:Join us every first Tuesday of the month for Coffee with Veterans\, a casual\, welcoming gathering where Hubbard County Veteran Service Officers and community members can connect\, learn about services available\, and enjoy a warm cup of coffee together.
URL:https://heartlandlakescommunitycalendar.com/index.php/event/coffee-with-veterans/2025-09-09/
LOCATION:Park Rapids American Legion\, 900 1st St E\, Park Rapids\, MN\, 56470\, United States
CATEGORIES:Social
ORGANIZER;CN="Hubbard County Veterans Services":MAILTO:jerrold.bjerke@co.hubbard.mn.us
END:VEVENT
BEGIN:VEVENT
DTSTART;TZID=UTC:20250812T080000
DTEND;TZID=UTC:20250812T103000
DTSTAMP:20260419T232054
CREATED:20250511T094305Z
LAST-MODIFIED:20250511T094305Z
UID:10008680-1754985600-1754994600@heartlandlakescommunitycalendar.com
SUMMARY:Coffee with Veterans
DESCRIPTION:Join us every first Tuesday of the month for Coffee with Veterans\, a casual\, welcoming gathering where Hubbard County Veteran Service Officers and community members can connect\, learn about services available\, and enjoy a warm cup of coffee together.
URL:https://heartlandlakescommunitycalendar.com/index.php/event/coffee-with-veterans/2025-08-12/
LOCATION:Park Rapids American Legion\, 900 1st St E\, Park Rapids\, MN\, 56470\, United States
CATEGORIES:Social
ORGANIZER;CN="Hubbard County Veterans Services":MAILTO:jerrold.bjerke@co.hubbard.mn.us
END:VEVENT
BEGIN:VEVENT
DTSTART;TZID=UTC:20250708T080000
DTEND;TZID=UTC:20250708T103000
DTSTAMP:20260419T232054
CREATED:20250511T094305Z
LAST-MODIFIED:20250511T094305Z
UID:10008679-1751961600-1751970600@heartlandlakescommunitycalendar.com
SUMMARY:Coffee with Veterans
DESCRIPTION:Join us every first Tuesday of the month for Coffee with Veterans\, a casual\, welcoming gathering where Hubbard County Veteran Service Officers and community members can connect\, learn about services available\, and enjoy a warm cup of coffee together.
URL:https://heartlandlakescommunitycalendar.com/index.php/event/coffee-with-veterans/2025-07-08/
LOCATION:Park Rapids American Legion\, 900 1st St E\, Park Rapids\, MN\, 56470\, United States
CATEGORIES:Social
ORGANIZER;CN="Hubbard County Veterans Services":MAILTO:jerrold.bjerke@co.hubbard.mn.us
END:VEVENT
BEGIN:VEVENT
DTSTART;TZID=UTC:20250610T080000
DTEND;TZID=UTC:20250610T103000
DTSTAMP:20260419T232054
CREATED:20250511T094305Z
LAST-MODIFIED:20250511T094305Z
UID:10008678-1749542400-1749551400@heartlandlakescommunitycalendar.com
SUMMARY:Coffee with Veterans
DESCRIPTION:Join us every first Tuesday of the month for Coffee with Veterans\, a casual\, welcoming gathering where Hubbard County Veteran Service Officers and community members can connect\, learn about services available\, and enjoy a warm cup of coffee together.
URL:https://heartlandlakescommunitycalendar.com/index.php/event/coffee-with-veterans/2025-06-10/
LOCATION:Park Rapids American Legion\, 900 1st St E\, Park Rapids\, MN\, 56470\, United States
CATEGORIES:Social
ORGANIZER;CN="Hubbard County Veterans Services":MAILTO:jerrold.bjerke@co.hubbard.mn.us
END:VEVENT
END:VCALENDAR