BEGIN:VCALENDAR
VERSION:2.0
PRODID:-//The Heartland Lakes Community Calendar - ECPv6.3.7//NONSGML v1.0//EN
CALSCALE:GREGORIAN
METHOD:PUBLISH
X-ORIGINAL-URL:https://heartlandlakescommunitycalendar.com
X-WR-CALDESC:Events for The Heartland Lakes Community Calendar
REFRESH-INTERVAL;VALUE=DURATION:PT1H
X-Robots-Tag:noindex
X-PUBLISHED-TTL:PT1H
BEGIN:VTIMEZONE
TZID:UTC
BEGIN:STANDARD
TZOFFSETFROM:+0000
TZOFFSETTO:+0000
TZNAME:UTC
DTSTART:20260101T000000
END:STANDARD
END:VTIMEZONE
BEGIN:VEVENT
DTSTART;TZID=UTC:20260512T080000
DTEND;TZID=UTC:20260512T103000
DTSTAMP:20260419T211005
CREATED:20250511T094305Z
LAST-MODIFIED:20250511T094305Z
UID:10008689-1778572800-1778581800@heartlandlakescommunitycalendar.com
SUMMARY:Coffee with Veterans
DESCRIPTION:Join us every first Tuesday of the month for Coffee with Veterans\, a casual\, welcoming gathering where Hubbard County Veteran Service Officers and community members can connect\, learn about services available\, and enjoy a warm cup of coffee together.
URL:https://heartlandlakescommunitycalendar.com/index.php/event/coffee-with-veterans/2026-05-12/
LOCATION:Park Rapids American Legion\, 900 1st St E\, Park Rapids\, MN\, 56470\, United States
CATEGORIES:Social
ORGANIZER;CN="Hubbard County Veterans Services":MAILTO:jerrold.bjerke@co.hubbard.mn.us
END:VEVENT
BEGIN:VEVENT
DTSTART;TZID=UTC:20260609T080000
DTEND;TZID=UTC:20260609T103000
DTSTAMP:20260419T211005
CREATED:20250511T094305Z
LAST-MODIFIED:20250511T094305Z
UID:10008690-1780992000-1781001000@heartlandlakescommunitycalendar.com
SUMMARY:Coffee with Veterans
DESCRIPTION:Join us every first Tuesday of the month for Coffee with Veterans\, a casual\, welcoming gathering where Hubbard County Veteran Service Officers and community members can connect\, learn about services available\, and enjoy a warm cup of coffee together.
URL:https://heartlandlakescommunitycalendar.com/index.php/event/coffee-with-veterans/2026-06-09/
LOCATION:Park Rapids American Legion\, 900 1st St E\, Park Rapids\, MN\, 56470\, United States
CATEGORIES:Social
ORGANIZER;CN="Hubbard County Veterans Services":MAILTO:jerrold.bjerke@co.hubbard.mn.us
END:VEVENT
BEGIN:VEVENT
DTSTART;TZID=UTC:20260714T080000
DTEND;TZID=UTC:20260714T103000
DTSTAMP:20260419T211005
CREATED:20250511T094305Z
LAST-MODIFIED:20250511T094305Z
UID:10008691-1784016000-1784025000@heartlandlakescommunitycalendar.com
SUMMARY:Coffee with Veterans
DESCRIPTION:Join us every first Tuesday of the month for Coffee with Veterans\, a casual\, welcoming gathering where Hubbard County Veteran Service Officers and community members can connect\, learn about services available\, and enjoy a warm cup of coffee together.
URL:https://heartlandlakescommunitycalendar.com/index.php/event/coffee-with-veterans/2026-07-14/
LOCATION:Park Rapids American Legion\, 900 1st St E\, Park Rapids\, MN\, 56470\, United States
CATEGORIES:Social
ORGANIZER;CN="Hubbard County Veterans Services":MAILTO:jerrold.bjerke@co.hubbard.mn.us
END:VEVENT
BEGIN:VEVENT
DTSTART;TZID=UTC:20260811T080000
DTEND;TZID=UTC:20260811T103000
DTSTAMP:20260419T211005
CREATED:20250511T094305Z
LAST-MODIFIED:20250511T094305Z
UID:10008692-1786435200-1786444200@heartlandlakescommunitycalendar.com
SUMMARY:Coffee with Veterans
DESCRIPTION:Join us every first Tuesday of the month for Coffee with Veterans\, a casual\, welcoming gathering where Hubbard County Veteran Service Officers and community members can connect\, learn about services available\, and enjoy a warm cup of coffee together.
URL:https://heartlandlakescommunitycalendar.com/index.php/event/coffee-with-veterans/2026-08-11/
LOCATION:Park Rapids American Legion\, 900 1st St E\, Park Rapids\, MN\, 56470\, United States
CATEGORIES:Social
ORGANIZER;CN="Hubbard County Veterans Services":MAILTO:jerrold.bjerke@co.hubbard.mn.us
END:VEVENT
BEGIN:VEVENT
DTSTART;TZID=UTC:20260908T080000
DTEND;TZID=UTC:20260908T103000
DTSTAMP:20260419T211005
CREATED:20250511T094305Z
LAST-MODIFIED:20250511T094305Z
UID:10008693-1788854400-1788863400@heartlandlakescommunitycalendar.com
SUMMARY:Coffee with Veterans
DESCRIPTION:Join us every first Tuesday of the month for Coffee with Veterans\, a casual\, welcoming gathering where Hubbard County Veteran Service Officers and community members can connect\, learn about services available\, and enjoy a warm cup of coffee together.
URL:https://heartlandlakescommunitycalendar.com/index.php/event/coffee-with-veterans/2026-09-08/
LOCATION:Park Rapids American Legion\, 900 1st St E\, Park Rapids\, MN\, 56470\, United States
CATEGORIES:Social
ORGANIZER;CN="Hubbard County Veterans Services":MAILTO:jerrold.bjerke@co.hubbard.mn.us
END:VEVENT
BEGIN:VEVENT
DTSTART;TZID=UTC:20261013T080000
DTEND;TZID=UTC:20261013T103000
DTSTAMP:20260419T211005
CREATED:20250511T094305Z
LAST-MODIFIED:20250511T094305Z
UID:10008694-1791878400-1791887400@heartlandlakescommunitycalendar.com
SUMMARY:Coffee with Veterans
DESCRIPTION:Join us every first Tuesday of the month for Coffee with Veterans\, a casual\, welcoming gathering where Hubbard County Veteran Service Officers and community members can connect\, learn about services available\, and enjoy a warm cup of coffee together.
URL:https://heartlandlakescommunitycalendar.com/index.php/event/coffee-with-veterans/2026-10-13/
LOCATION:Park Rapids American Legion\, 900 1st St E\, Park Rapids\, MN\, 56470\, United States
CATEGORIES:Social
ORGANIZER;CN="Hubbard County Veterans Services":MAILTO:jerrold.bjerke@co.hubbard.mn.us
END:VEVENT
BEGIN:VEVENT
DTSTART;TZID=UTC:20261110T080000
DTEND;TZID=UTC:20261110T103000
DTSTAMP:20260419T211005
CREATED:20250511T094305Z
LAST-MODIFIED:20250511T094305Z
UID:10008695-1794297600-1794306600@heartlandlakescommunitycalendar.com
SUMMARY:Coffee with Veterans
DESCRIPTION:Join us every first Tuesday of the month for Coffee with Veterans\, a casual\, welcoming gathering where Hubbard County Veteran Service Officers and community members can connect\, learn about services available\, and enjoy a warm cup of coffee together.
URL:https://heartlandlakescommunitycalendar.com/index.php/event/coffee-with-veterans/2026-11-10/
LOCATION:Park Rapids American Legion\, 900 1st St E\, Park Rapids\, MN\, 56470\, United States
CATEGORIES:Social
ORGANIZER;CN="Hubbard County Veterans Services":MAILTO:jerrold.bjerke@co.hubbard.mn.us
END:VEVENT
BEGIN:VEVENT
DTSTART;TZID=UTC:20261208T080000
DTEND;TZID=UTC:20261208T103000
DTSTAMP:20260419T211005
CREATED:20250511T094305Z
LAST-MODIFIED:20250511T094305Z
UID:10008696-1796716800-1796725800@heartlandlakescommunitycalendar.com
SUMMARY:Coffee with Veterans
DESCRIPTION:Join us every first Tuesday of the month for Coffee with Veterans\, a casual\, welcoming gathering where Hubbard County Veteran Service Officers and community members can connect\, learn about services available\, and enjoy a warm cup of coffee together.
URL:https://heartlandlakescommunitycalendar.com/index.php/event/coffee-with-veterans/2026-12-08/
LOCATION:Park Rapids American Legion\, 900 1st St E\, Park Rapids\, MN\, 56470\, United States
CATEGORIES:Social
ORGANIZER;CN="Hubbard County Veterans Services":MAILTO:jerrold.bjerke@co.hubbard.mn.us
END:VEVENT
BEGIN:VEVENT
DTSTART;TZID=UTC:20270112T080000
DTEND;TZID=UTC:20270112T103000
DTSTAMP:20260419T211005
CREATED:20250511T094305Z
LAST-MODIFIED:20250511T094305Z
UID:10008697-1799740800-1799749800@heartlandlakescommunitycalendar.com
SUMMARY:Coffee with Veterans
DESCRIPTION:Join us every first Tuesday of the month for Coffee with Veterans\, a casual\, welcoming gathering where Hubbard County Veteran Service Officers and community members can connect\, learn about services available\, and enjoy a warm cup of coffee together.
URL:https://heartlandlakescommunitycalendar.com/index.php/event/coffee-with-veterans/2027-01-12/
LOCATION:Park Rapids American Legion\, 900 1st St E\, Park Rapids\, MN\, 56470\, United States
CATEGORIES:Social
ORGANIZER;CN="Hubbard County Veterans Services":MAILTO:jerrold.bjerke@co.hubbard.mn.us
END:VEVENT
BEGIN:VEVENT
DTSTART;TZID=UTC:20270209T080000
DTEND;TZID=UTC:20270209T103000
DTSTAMP:20260419T211005
CREATED:20250511T094305Z
LAST-MODIFIED:20250511T094305Z
UID:10008698-1802160000-1802169000@heartlandlakescommunitycalendar.com
SUMMARY:Coffee with Veterans
DESCRIPTION:Join us every first Tuesday of the month for Coffee with Veterans\, a casual\, welcoming gathering where Hubbard County Veteran Service Officers and community members can connect\, learn about services available\, and enjoy a warm cup of coffee together.
URL:https://heartlandlakescommunitycalendar.com/index.php/event/coffee-with-veterans/2027-02-09/
LOCATION:Park Rapids American Legion\, 900 1st St E\, Park Rapids\, MN\, 56470\, United States
CATEGORIES:Social
ORGANIZER;CN="Hubbard County Veterans Services":MAILTO:jerrold.bjerke@co.hubbard.mn.us
END:VEVENT
BEGIN:VEVENT
DTSTART;TZID=UTC:20270309T080000
DTEND;TZID=UTC:20270309T103000
DTSTAMP:20260419T211005
CREATED:20250511T094305Z
LAST-MODIFIED:20250511T094305Z
UID:10008699-1804579200-1804588200@heartlandlakescommunitycalendar.com
SUMMARY:Coffee with Veterans
DESCRIPTION:Join us every first Tuesday of the month for Coffee with Veterans\, a casual\, welcoming gathering where Hubbard County Veteran Service Officers and community members can connect\, learn about services available\, and enjoy a warm cup of coffee together.
URL:https://heartlandlakescommunitycalendar.com/index.php/event/coffee-with-veterans/2027-03-09/
LOCATION:Park Rapids American Legion\, 900 1st St E\, Park Rapids\, MN\, 56470\, United States
CATEGORIES:Social
ORGANIZER;CN="Hubbard County Veterans Services":MAILTO:jerrold.bjerke@co.hubbard.mn.us
END:VEVENT
BEGIN:VEVENT
DTSTART;TZID=UTC:20270413T080000
DTEND;TZID=UTC:20270413T103000
DTSTAMP:20260419T211005
CREATED:20250511T094305Z
LAST-MODIFIED:20250511T094305Z
UID:10008700-1807603200-1807612200@heartlandlakescommunitycalendar.com
SUMMARY:Coffee with Veterans
DESCRIPTION:Join us every first Tuesday of the month for Coffee with Veterans\, a casual\, welcoming gathering where Hubbard County Veteran Service Officers and community members can connect\, learn about services available\, and enjoy a warm cup of coffee together.
URL:https://heartlandlakescommunitycalendar.com/index.php/event/coffee-with-veterans/2027-04-13/
LOCATION:Park Rapids American Legion\, 900 1st St E\, Park Rapids\, MN\, 56470\, United States
CATEGORIES:Social
ORGANIZER;CN="Hubbard County Veterans Services":MAILTO:jerrold.bjerke@co.hubbard.mn.us
END:VEVENT
BEGIN:VEVENT
DTSTART;TZID=UTC:20270511T080000
DTEND;TZID=UTC:20270511T103000
DTSTAMP:20260419T211005
CREATED:20250511T094305Z
LAST-MODIFIED:20250511T094305Z
UID:10008701-1810022400-1810031400@heartlandlakescommunitycalendar.com
SUMMARY:Coffee with Veterans
DESCRIPTION:Join us every first Tuesday of the month for Coffee with Veterans\, a casual\, welcoming gathering where Hubbard County Veteran Service Officers and community members can connect\, learn about services available\, and enjoy a warm cup of coffee together.
URL:https://heartlandlakescommunitycalendar.com/index.php/event/coffee-with-veterans/2027-05-11/
LOCATION:Park Rapids American Legion\, 900 1st St E\, Park Rapids\, MN\, 56470\, United States
CATEGORIES:Social
ORGANIZER;CN="Hubbard County Veterans Services":MAILTO:jerrold.bjerke@co.hubbard.mn.us
END:VEVENT
BEGIN:VEVENT
DTSTART;TZID=UTC:20270608T080000
DTEND;TZID=UTC:20270608T103000
DTSTAMP:20260419T211005
CREATED:20250511T094305Z
LAST-MODIFIED:20250511T094305Z
UID:10008702-1812441600-1812450600@heartlandlakescommunitycalendar.com
SUMMARY:Coffee with Veterans
DESCRIPTION:Join us every first Tuesday of the month for Coffee with Veterans\, a casual\, welcoming gathering where Hubbard County Veteran Service Officers and community members can connect\, learn about services available\, and enjoy a warm cup of coffee together.
URL:https://heartlandlakescommunitycalendar.com/index.php/event/coffee-with-veterans/2027-06-08/
LOCATION:Park Rapids American Legion\, 900 1st St E\, Park Rapids\, MN\, 56470\, United States
CATEGORIES:Social
ORGANIZER;CN="Hubbard County Veterans Services":MAILTO:jerrold.bjerke@co.hubbard.mn.us
END:VEVENT
BEGIN:VEVENT
DTSTART;TZID=UTC:20270713T080000
DTEND;TZID=UTC:20270713T103000
DTSTAMP:20260419T211005
CREATED:20250511T094305Z
LAST-MODIFIED:20250511T094305Z
UID:10008703-1815465600-1815474600@heartlandlakescommunitycalendar.com
SUMMARY:Coffee with Veterans
DESCRIPTION:Join us every first Tuesday of the month for Coffee with Veterans\, a casual\, welcoming gathering where Hubbard County Veteran Service Officers and community members can connect\, learn about services available\, and enjoy a warm cup of coffee together.
URL:https://heartlandlakescommunitycalendar.com/index.php/event/coffee-with-veterans/2027-07-13/
LOCATION:Park Rapids American Legion\, 900 1st St E\, Park Rapids\, MN\, 56470\, United States
CATEGORIES:Social
ORGANIZER;CN="Hubbard County Veterans Services":MAILTO:jerrold.bjerke@co.hubbard.mn.us
END:VEVENT
BEGIN:VEVENT
DTSTART;TZID=UTC:20270810T080000
DTEND;TZID=UTC:20270810T103000
DTSTAMP:20260419T211005
CREATED:20250511T094305Z
LAST-MODIFIED:20250511T094305Z
UID:10008704-1817884800-1817893800@heartlandlakescommunitycalendar.com
SUMMARY:Coffee with Veterans
DESCRIPTION:Join us every first Tuesday of the month for Coffee with Veterans\, a casual\, welcoming gathering where Hubbard County Veteran Service Officers and community members can connect\, learn about services available\, and enjoy a warm cup of coffee together.
URL:https://heartlandlakescommunitycalendar.com/index.php/event/coffee-with-veterans/2027-08-10/
LOCATION:Park Rapids American Legion\, 900 1st St E\, Park Rapids\, MN\, 56470\, United States
CATEGORIES:Social
ORGANIZER;CN="Hubbard County Veterans Services":MAILTO:jerrold.bjerke@co.hubbard.mn.us
END:VEVENT
BEGIN:VEVENT
DTSTART;TZID=UTC:20270914T080000
DTEND;TZID=UTC:20270914T103000
DTSTAMP:20260419T211005
CREATED:20250511T094305Z
LAST-MODIFIED:20250511T094305Z
UID:10008705-1820908800-1820917800@heartlandlakescommunitycalendar.com
SUMMARY:Coffee with Veterans
DESCRIPTION:Join us every first Tuesday of the month for Coffee with Veterans\, a casual\, welcoming gathering where Hubbard County Veteran Service Officers and community members can connect\, learn about services available\, and enjoy a warm cup of coffee together.
URL:https://heartlandlakescommunitycalendar.com/index.php/event/coffee-with-veterans/2027-09-14/
LOCATION:Park Rapids American Legion\, 900 1st St E\, Park Rapids\, MN\, 56470\, United States
CATEGORIES:Social
ORGANIZER;CN="Hubbard County Veterans Services":MAILTO:jerrold.bjerke@co.hubbard.mn.us
END:VEVENT
BEGIN:VEVENT
DTSTART;TZID=UTC:20271012T080000
DTEND;TZID=UTC:20271012T103000
DTSTAMP:20260419T211005
CREATED:20250511T094305Z
LAST-MODIFIED:20250511T094305Z
UID:10008706-1823328000-1823337000@heartlandlakescommunitycalendar.com
SUMMARY:Coffee with Veterans
DESCRIPTION:Join us every first Tuesday of the month for Coffee with Veterans\, a casual\, welcoming gathering where Hubbard County Veteran Service Officers and community members can connect\, learn about services available\, and enjoy a warm cup of coffee together.
URL:https://heartlandlakescommunitycalendar.com/index.php/event/coffee-with-veterans/2027-10-12/
LOCATION:Park Rapids American Legion\, 900 1st St E\, Park Rapids\, MN\, 56470\, United States
CATEGORIES:Social
ORGANIZER;CN="Hubbard County Veterans Services":MAILTO:jerrold.bjerke@co.hubbard.mn.us
END:VEVENT
BEGIN:VEVENT
DTSTART;TZID=UTC:20271109T080000
DTEND;TZID=UTC:20271109T103000
DTSTAMP:20260419T211005
CREATED:20250511T094305Z
LAST-MODIFIED:20250511T094305Z
UID:10008707-1825747200-1825756200@heartlandlakescommunitycalendar.com
SUMMARY:Coffee with Veterans
DESCRIPTION:Join us every first Tuesday of the month for Coffee with Veterans\, a casual\, welcoming gathering where Hubbard County Veteran Service Officers and community members can connect\, learn about services available\, and enjoy a warm cup of coffee together.
URL:https://heartlandlakescommunitycalendar.com/index.php/event/coffee-with-veterans/2027-11-09/
LOCATION:Park Rapids American Legion\, 900 1st St E\, Park Rapids\, MN\, 56470\, United States
CATEGORIES:Social
ORGANIZER;CN="Hubbard County Veterans Services":MAILTO:jerrold.bjerke@co.hubbard.mn.us
END:VEVENT
BEGIN:VEVENT
DTSTART;TZID=UTC:20271214T080000
DTEND;TZID=UTC:20271214T103000
DTSTAMP:20260419T211005
CREATED:20250511T094305Z
LAST-MODIFIED:20250511T094305Z
UID:10008708-1828771200-1828780200@heartlandlakescommunitycalendar.com
SUMMARY:Coffee with Veterans
DESCRIPTION:Join us every first Tuesday of the month for Coffee with Veterans\, a casual\, welcoming gathering where Hubbard County Veteran Service Officers and community members can connect\, learn about services available\, and enjoy a warm cup of coffee together.
URL:https://heartlandlakescommunitycalendar.com/index.php/event/coffee-with-veterans/2027-12-14/
LOCATION:Park Rapids American Legion\, 900 1st St E\, Park Rapids\, MN\, 56470\, United States
CATEGORIES:Social
ORGANIZER;CN="Hubbard County Veterans Services":MAILTO:jerrold.bjerke@co.hubbard.mn.us
END:VEVENT
BEGIN:VEVENT
DTSTART;TZID=UTC:20280111T080000
DTEND;TZID=UTC:20280111T103000
DTSTAMP:20260419T211005
CREATED:20250511T094305Z
LAST-MODIFIED:20250511T094305Z
UID:10008709-1831190400-1831199400@heartlandlakescommunitycalendar.com
SUMMARY:Coffee with Veterans
DESCRIPTION:Join us every first Tuesday of the month for Coffee with Veterans\, a casual\, welcoming gathering where Hubbard County Veteran Service Officers and community members can connect\, learn about services available\, and enjoy a warm cup of coffee together.
URL:https://heartlandlakescommunitycalendar.com/index.php/event/coffee-with-veterans/2028-01-11/
LOCATION:Park Rapids American Legion\, 900 1st St E\, Park Rapids\, MN\, 56470\, United States
CATEGORIES:Social
ORGANIZER;CN="Hubbard County Veterans Services":MAILTO:jerrold.bjerke@co.hubbard.mn.us
END:VEVENT
BEGIN:VEVENT
DTSTART;TZID=UTC:20280208T080000
DTEND;TZID=UTC:20280208T103000
DTSTAMP:20260419T211005
CREATED:20250511T094305Z
LAST-MODIFIED:20250511T094305Z
UID:10008710-1833609600-1833618600@heartlandlakescommunitycalendar.com
SUMMARY:Coffee with Veterans
DESCRIPTION:Join us every first Tuesday of the month for Coffee with Veterans\, a casual\, welcoming gathering where Hubbard County Veteran Service Officers and community members can connect\, learn about services available\, and enjoy a warm cup of coffee together.
URL:https://heartlandlakescommunitycalendar.com/index.php/event/coffee-with-veterans/2028-02-08/
LOCATION:Park Rapids American Legion\, 900 1st St E\, Park Rapids\, MN\, 56470\, United States
CATEGORIES:Social
ORGANIZER;CN="Hubbard County Veterans Services":MAILTO:jerrold.bjerke@co.hubbard.mn.us
END:VEVENT
BEGIN:VEVENT
DTSTART;TZID=UTC:20280314T080000
DTEND;TZID=UTC:20280314T103000
DTSTAMP:20260419T211005
CREATED:20250511T094305Z
LAST-MODIFIED:20250511T094305Z
UID:10008711-1836633600-1836642600@heartlandlakescommunitycalendar.com
SUMMARY:Coffee with Veterans
DESCRIPTION:Join us every first Tuesday of the month for Coffee with Veterans\, a casual\, welcoming gathering where Hubbard County Veteran Service Officers and community members can connect\, learn about services available\, and enjoy a warm cup of coffee together.
URL:https://heartlandlakescommunitycalendar.com/index.php/event/coffee-with-veterans/2028-03-14/
LOCATION:Park Rapids American Legion\, 900 1st St E\, Park Rapids\, MN\, 56470\, United States
CATEGORIES:Social
ORGANIZER;CN="Hubbard County Veterans Services":MAILTO:jerrold.bjerke@co.hubbard.mn.us
END:VEVENT
BEGIN:VEVENT
DTSTART;TZID=UTC:20280411T080000
DTEND;TZID=UTC:20280411T103000
DTSTAMP:20260419T211005
CREATED:20250511T094305Z
LAST-MODIFIED:20250511T094305Z
UID:10008712-1839052800-1839061800@heartlandlakescommunitycalendar.com
SUMMARY:Coffee with Veterans
DESCRIPTION:Join us every first Tuesday of the month for Coffee with Veterans\, a casual\, welcoming gathering where Hubbard County Veteran Service Officers and community members can connect\, learn about services available\, and enjoy a warm cup of coffee together.
URL:https://heartlandlakescommunitycalendar.com/index.php/event/coffee-with-veterans/2028-04-11/
LOCATION:Park Rapids American Legion\, 900 1st St E\, Park Rapids\, MN\, 56470\, United States
CATEGORIES:Social
ORGANIZER;CN="Hubbard County Veterans Services":MAILTO:jerrold.bjerke@co.hubbard.mn.us
END:VEVENT
BEGIN:VEVENT
DTSTART;TZID=UTC:20280509T080000
DTEND;TZID=UTC:20280509T103000
DTSTAMP:20260419T211005
CREATED:20250511T094305Z
LAST-MODIFIED:20250511T094305Z
UID:10008713-1841472000-1841481000@heartlandlakescommunitycalendar.com
SUMMARY:Coffee with Veterans
DESCRIPTION:Join us every first Tuesday of the month for Coffee with Veterans\, a casual\, welcoming gathering where Hubbard County Veteran Service Officers and community members can connect\, learn about services available\, and enjoy a warm cup of coffee together.
URL:https://heartlandlakescommunitycalendar.com/index.php/event/coffee-with-veterans/2028-05-09/
LOCATION:Park Rapids American Legion\, 900 1st St E\, Park Rapids\, MN\, 56470\, United States
CATEGORIES:Social
ORGANIZER;CN="Hubbard County Veterans Services":MAILTO:jerrold.bjerke@co.hubbard.mn.us
END:VEVENT
BEGIN:VEVENT
DTSTART;TZID=UTC:20280613T080000
DTEND;TZID=UTC:20280613T103000
DTSTAMP:20260419T211005
CREATED:20250511T094305Z
LAST-MODIFIED:20250511T094305Z
UID:10008714-1844496000-1844505000@heartlandlakescommunitycalendar.com
SUMMARY:Coffee with Veterans
DESCRIPTION:Join us every first Tuesday of the month for Coffee with Veterans\, a casual\, welcoming gathering where Hubbard County Veteran Service Officers and community members can connect\, learn about services available\, and enjoy a warm cup of coffee together.
URL:https://heartlandlakescommunitycalendar.com/index.php/event/coffee-with-veterans/2028-06-13/
LOCATION:Park Rapids American Legion\, 900 1st St E\, Park Rapids\, MN\, 56470\, United States
CATEGORIES:Social
ORGANIZER;CN="Hubbard County Veterans Services":MAILTO:jerrold.bjerke@co.hubbard.mn.us
END:VEVENT
BEGIN:VEVENT
DTSTART;TZID=UTC:20280711T080000
DTEND;TZID=UTC:20280711T103000
DTSTAMP:20260419T211005
CREATED:20250511T094305Z
LAST-MODIFIED:20250511T094305Z
UID:10008715-1846915200-1846924200@heartlandlakescommunitycalendar.com
SUMMARY:Coffee with Veterans
DESCRIPTION:Join us every first Tuesday of the month for Coffee with Veterans\, a casual\, welcoming gathering where Hubbard County Veteran Service Officers and community members can connect\, learn about services available\, and enjoy a warm cup of coffee together.
URL:https://heartlandlakescommunitycalendar.com/index.php/event/coffee-with-veterans/2028-07-11/
LOCATION:Park Rapids American Legion\, 900 1st St E\, Park Rapids\, MN\, 56470\, United States
CATEGORIES:Social
ORGANIZER;CN="Hubbard County Veterans Services":MAILTO:jerrold.bjerke@co.hubbard.mn.us
END:VEVENT
BEGIN:VEVENT
DTSTART;TZID=UTC:20280808T080000
DTEND;TZID=UTC:20280808T103000
DTSTAMP:20260419T211005
CREATED:20250511T094305Z
LAST-MODIFIED:20250511T094305Z
UID:10008716-1849334400-1849343400@heartlandlakescommunitycalendar.com
SUMMARY:Coffee with Veterans
DESCRIPTION:Join us every first Tuesday of the month for Coffee with Veterans\, a casual\, welcoming gathering where Hubbard County Veteran Service Officers and community members can connect\, learn about services available\, and enjoy a warm cup of coffee together.
URL:https://heartlandlakescommunitycalendar.com/index.php/event/coffee-with-veterans/2028-08-08/
LOCATION:Park Rapids American Legion\, 900 1st St E\, Park Rapids\, MN\, 56470\, United States
CATEGORIES:Social
ORGANIZER;CN="Hubbard County Veterans Services":MAILTO:jerrold.bjerke@co.hubbard.mn.us
END:VEVENT
BEGIN:VEVENT
DTSTART;TZID=UTC:20280912T080000
DTEND;TZID=UTC:20280912T103000
DTSTAMP:20260419T211005
CREATED:20250511T094305Z
LAST-MODIFIED:20250511T094305Z
UID:10008717-1852358400-1852367400@heartlandlakescommunitycalendar.com
SUMMARY:Coffee with Veterans
DESCRIPTION:Join us every first Tuesday of the month for Coffee with Veterans\, a casual\, welcoming gathering where Hubbard County Veteran Service Officers and community members can connect\, learn about services available\, and enjoy a warm cup of coffee together.
URL:https://heartlandlakescommunitycalendar.com/index.php/event/coffee-with-veterans/2028-09-12/
LOCATION:Park Rapids American Legion\, 900 1st St E\, Park Rapids\, MN\, 56470\, United States
CATEGORIES:Social
ORGANIZER;CN="Hubbard County Veterans Services":MAILTO:jerrold.bjerke@co.hubbard.mn.us
END:VEVENT
BEGIN:VEVENT
DTSTART;TZID=UTC:20281010T080000
DTEND;TZID=UTC:20281010T103000
DTSTAMP:20260419T211005
CREATED:20250511T094305Z
LAST-MODIFIED:20250511T094305Z
UID:10008718-1854777600-1854786600@heartlandlakescommunitycalendar.com
SUMMARY:Coffee with Veterans
DESCRIPTION:Join us every first Tuesday of the month for Coffee with Veterans\, a casual\, welcoming gathering where Hubbard County Veteran Service Officers and community members can connect\, learn about services available\, and enjoy a warm cup of coffee together.
URL:https://heartlandlakescommunitycalendar.com/index.php/event/coffee-with-veterans/2028-10-10/
LOCATION:Park Rapids American Legion\, 900 1st St E\, Park Rapids\, MN\, 56470\, United States
CATEGORIES:Social
ORGANIZER;CN="Hubbard County Veterans Services":MAILTO:jerrold.bjerke@co.hubbard.mn.us
END:VEVENT
END:VCALENDAR