BEGIN:VCALENDAR
VERSION:2.0
PRODID:-//The Heartland Lakes Community Calendar - ECPv6.3.7//NONSGML v1.0//EN
CALSCALE:GREGORIAN
METHOD:PUBLISH
X-WR-CALNAME:The Heartland Lakes Community Calendar
X-ORIGINAL-URL:https://heartlandlakescommunitycalendar.com
X-WR-CALDESC:Events for The Heartland Lakes Community Calendar
REFRESH-INTERVAL;VALUE=DURATION:PT1H
X-Robots-Tag:noindex
X-PUBLISHED-TTL:PT1H
BEGIN:VTIMEZONE
TZID:UTC
BEGIN:STANDARD
TZOFFSETFROM:+0000
TZOFFSETTO:+0000
TZNAME:UTC
DTSTART:20290101T000000
END:STANDARD
END:VTIMEZONE
BEGIN:VEVENT
DTSTART;TZID=UTC:20290508T080000
DTEND;TZID=UTC:20290508T103000
DTSTAMP:20260422T142321
CREATED:20250511T094305Z
LAST-MODIFIED:20250511T094305Z
UID:10008725-1872921600-1872930600@heartlandlakescommunitycalendar.com
SUMMARY:Coffee with Veterans
DESCRIPTION:Join us every first Tuesday of the month for Coffee with Veterans\, a casual\, welcoming gathering where Hubbard County Veteran Service Officers and community members can connect\, learn about services available\, and enjoy a warm cup of coffee together.
URL:https://heartlandlakescommunitycalendar.com/index.php/event/coffee-with-veterans/2029-05-08/
LOCATION:Park Rapids American Legion\, 900 1st St E\, Park Rapids\, MN\, 56470\, United States
CATEGORIES:Social
ORGANIZER;CN="Hubbard County Veterans Services":MAILTO:jerrold.bjerke@co.hubbard.mn.us
END:VEVENT
BEGIN:VEVENT
DTSTART;TZID=UTC:20290612T080000
DTEND;TZID=UTC:20290612T103000
DTSTAMP:20260422T142321
CREATED:20250511T094305Z
LAST-MODIFIED:20250511T094305Z
UID:10008726-1875945600-1875954600@heartlandlakescommunitycalendar.com
SUMMARY:Coffee with Veterans
DESCRIPTION:Join us every first Tuesday of the month for Coffee with Veterans\, a casual\, welcoming gathering where Hubbard County Veteran Service Officers and community members can connect\, learn about services available\, and enjoy a warm cup of coffee together.
URL:https://heartlandlakescommunitycalendar.com/index.php/event/coffee-with-veterans/2029-06-12/
LOCATION:Park Rapids American Legion\, 900 1st St E\, Park Rapids\, MN\, 56470\, United States
CATEGORIES:Social
ORGANIZER;CN="Hubbard County Veterans Services":MAILTO:jerrold.bjerke@co.hubbard.mn.us
END:VEVENT
BEGIN:VEVENT
DTSTART;TZID=UTC:20290710T080000
DTEND;TZID=UTC:20290710T103000
DTSTAMP:20260422T142321
CREATED:20250511T094305Z
LAST-MODIFIED:20250511T094305Z
UID:10008727-1878364800-1878373800@heartlandlakescommunitycalendar.com
SUMMARY:Coffee with Veterans
DESCRIPTION:Join us every first Tuesday of the month for Coffee with Veterans\, a casual\, welcoming gathering where Hubbard County Veteran Service Officers and community members can connect\, learn about services available\, and enjoy a warm cup of coffee together.
URL:https://heartlandlakescommunitycalendar.com/index.php/event/coffee-with-veterans/2029-07-10/
LOCATION:Park Rapids American Legion\, 900 1st St E\, Park Rapids\, MN\, 56470\, United States
CATEGORIES:Social
ORGANIZER;CN="Hubbard County Veterans Services":MAILTO:jerrold.bjerke@co.hubbard.mn.us
END:VEVENT
BEGIN:VEVENT
DTSTART;TZID=UTC:20290814T080000
DTEND;TZID=UTC:20290814T103000
DTSTAMP:20260422T142321
CREATED:20250511T094305Z
LAST-MODIFIED:20250511T094305Z
UID:10008728-1881388800-1881397800@heartlandlakescommunitycalendar.com
SUMMARY:Coffee with Veterans
DESCRIPTION:Join us every first Tuesday of the month for Coffee with Veterans\, a casual\, welcoming gathering where Hubbard County Veteran Service Officers and community members can connect\, learn about services available\, and enjoy a warm cup of coffee together.
URL:https://heartlandlakescommunitycalendar.com/index.php/event/coffee-with-veterans/2029-08-14/
LOCATION:Park Rapids American Legion\, 900 1st St E\, Park Rapids\, MN\, 56470\, United States
CATEGORIES:Social
ORGANIZER;CN="Hubbard County Veterans Services":MAILTO:jerrold.bjerke@co.hubbard.mn.us
END:VEVENT
BEGIN:VEVENT
DTSTART;TZID=UTC:20290911T080000
DTEND;TZID=UTC:20290911T103000
DTSTAMP:20260422T142321
CREATED:20250511T094305Z
LAST-MODIFIED:20250511T094305Z
UID:10008729-1883808000-1883817000@heartlandlakescommunitycalendar.com
SUMMARY:Coffee with Veterans
DESCRIPTION:Join us every first Tuesday of the month for Coffee with Veterans\, a casual\, welcoming gathering where Hubbard County Veteran Service Officers and community members can connect\, learn about services available\, and enjoy a warm cup of coffee together.
URL:https://heartlandlakescommunitycalendar.com/index.php/event/coffee-with-veterans/2029-09-11/
LOCATION:Park Rapids American Legion\, 900 1st St E\, Park Rapids\, MN\, 56470\, United States
CATEGORIES:Social
ORGANIZER;CN="Hubbard County Veterans Services":MAILTO:jerrold.bjerke@co.hubbard.mn.us
END:VEVENT
BEGIN:VEVENT
DTSTART;TZID=UTC:20291009T080000
DTEND;TZID=UTC:20291009T103000
DTSTAMP:20260422T142321
CREATED:20250511T094305Z
LAST-MODIFIED:20250511T094305Z
UID:10008730-1886227200-1886236200@heartlandlakescommunitycalendar.com
SUMMARY:Coffee with Veterans
DESCRIPTION:Join us every first Tuesday of the month for Coffee with Veterans\, a casual\, welcoming gathering where Hubbard County Veteran Service Officers and community members can connect\, learn about services available\, and enjoy a warm cup of coffee together.
URL:https://heartlandlakescommunitycalendar.com/index.php/event/coffee-with-veterans/2029-10-09/
LOCATION:Park Rapids American Legion\, 900 1st St E\, Park Rapids\, MN\, 56470\, United States
CATEGORIES:Social
ORGANIZER;CN="Hubbard County Veterans Services":MAILTO:jerrold.bjerke@co.hubbard.mn.us
END:VEVENT
BEGIN:VEVENT
DTSTART;TZID=UTC:20291113T080000
DTEND;TZID=UTC:20291113T103000
DTSTAMP:20260422T142321
CREATED:20250511T094305Z
LAST-MODIFIED:20250511T094305Z
UID:10008731-1889251200-1889260200@heartlandlakescommunitycalendar.com
SUMMARY:Coffee with Veterans
DESCRIPTION:Join us every first Tuesday of the month for Coffee with Veterans\, a casual\, welcoming gathering where Hubbard County Veteran Service Officers and community members can connect\, learn about services available\, and enjoy a warm cup of coffee together.
URL:https://heartlandlakescommunitycalendar.com/index.php/event/coffee-with-veterans/2029-11-13/
LOCATION:Park Rapids American Legion\, 900 1st St E\, Park Rapids\, MN\, 56470\, United States
CATEGORIES:Social
ORGANIZER;CN="Hubbard County Veterans Services":MAILTO:jerrold.bjerke@co.hubbard.mn.us
END:VEVENT
BEGIN:VEVENT
DTSTART;TZID=UTC:20291211T080000
DTEND;TZID=UTC:20291211T103000
DTSTAMP:20260422T142321
CREATED:20250511T094305Z
LAST-MODIFIED:20250511T094305Z
UID:10008732-1891670400-1891679400@heartlandlakescommunitycalendar.com
SUMMARY:Coffee with Veterans
DESCRIPTION:Join us every first Tuesday of the month for Coffee with Veterans\, a casual\, welcoming gathering where Hubbard County Veteran Service Officers and community members can connect\, learn about services available\, and enjoy a warm cup of coffee together.
URL:https://heartlandlakescommunitycalendar.com/index.php/event/coffee-with-veterans/2029-12-11/
LOCATION:Park Rapids American Legion\, 900 1st St E\, Park Rapids\, MN\, 56470\, United States
CATEGORIES:Social
ORGANIZER;CN="Hubbard County Veterans Services":MAILTO:jerrold.bjerke@co.hubbard.mn.us
END:VEVENT
BEGIN:VEVENT
DTSTART;TZID=UTC:20300108T080000
DTEND;TZID=UTC:20300108T103000
DTSTAMP:20260422T142321
CREATED:20250511T094305Z
LAST-MODIFIED:20250511T094305Z
UID:10008733-1894089600-1894098600@heartlandlakescommunitycalendar.com
SUMMARY:Coffee with Veterans
DESCRIPTION:Join us every first Tuesday of the month for Coffee with Veterans\, a casual\, welcoming gathering where Hubbard County Veteran Service Officers and community members can connect\, learn about services available\, and enjoy a warm cup of coffee together.
URL:https://heartlandlakescommunitycalendar.com/index.php/event/coffee-with-veterans/2030-01-08/
LOCATION:Park Rapids American Legion\, 900 1st St E\, Park Rapids\, MN\, 56470\, United States
CATEGORIES:Social
ORGANIZER;CN="Hubbard County Veterans Services":MAILTO:jerrold.bjerke@co.hubbard.mn.us
END:VEVENT
BEGIN:VEVENT
DTSTART;TZID=UTC:20300212T080000
DTEND;TZID=UTC:20300212T103000
DTSTAMP:20260422T142321
CREATED:20250511T094305Z
LAST-MODIFIED:20250511T094305Z
UID:10008734-1897113600-1897122600@heartlandlakescommunitycalendar.com
SUMMARY:Coffee with Veterans
DESCRIPTION:Join us every first Tuesday of the month for Coffee with Veterans\, a casual\, welcoming gathering where Hubbard County Veteran Service Officers and community members can connect\, learn about services available\, and enjoy a warm cup of coffee together.
URL:https://heartlandlakescommunitycalendar.com/index.php/event/coffee-with-veterans/2030-02-12/
LOCATION:Park Rapids American Legion\, 900 1st St E\, Park Rapids\, MN\, 56470\, United States
CATEGORIES:Social
ORGANIZER;CN="Hubbard County Veterans Services":MAILTO:jerrold.bjerke@co.hubbard.mn.us
END:VEVENT
BEGIN:VEVENT
DTSTART;TZID=UTC:20300312T080000
DTEND;TZID=UTC:20300312T103000
DTSTAMP:20260422T142321
CREATED:20250511T094305Z
LAST-MODIFIED:20250511T094305Z
UID:10008735-1899532800-1899541800@heartlandlakescommunitycalendar.com
SUMMARY:Coffee with Veterans
DESCRIPTION:Join us every first Tuesday of the month for Coffee with Veterans\, a casual\, welcoming gathering where Hubbard County Veteran Service Officers and community members can connect\, learn about services available\, and enjoy a warm cup of coffee together.
URL:https://heartlandlakescommunitycalendar.com/index.php/event/coffee-with-veterans/2030-03-12/
LOCATION:Park Rapids American Legion\, 900 1st St E\, Park Rapids\, MN\, 56470\, United States
CATEGORIES:Social
ORGANIZER;CN="Hubbard County Veterans Services":MAILTO:jerrold.bjerke@co.hubbard.mn.us
END:VEVENT
BEGIN:VEVENT
DTSTART;TZID=UTC:20300409T080000
DTEND;TZID=UTC:20300409T103000
DTSTAMP:20260422T142321
CREATED:20250511T094305Z
LAST-MODIFIED:20250511T094305Z
UID:10008736-1901952000-1901961000@heartlandlakescommunitycalendar.com
SUMMARY:Coffee with Veterans
DESCRIPTION:Join us every first Tuesday of the month for Coffee with Veterans\, a casual\, welcoming gathering where Hubbard County Veteran Service Officers and community members can connect\, learn about services available\, and enjoy a warm cup of coffee together.
URL:https://heartlandlakescommunitycalendar.com/index.php/event/coffee-with-veterans/2030-04-09/
LOCATION:Park Rapids American Legion\, 900 1st St E\, Park Rapids\, MN\, 56470\, United States
CATEGORIES:Social
ORGANIZER;CN="Hubbard County Veterans Services":MAILTO:jerrold.bjerke@co.hubbard.mn.us
END:VEVENT
BEGIN:VEVENT
DTSTART;TZID=UTC:20300514T080000
DTEND;TZID=UTC:20300514T103000
DTSTAMP:20260422T142321
CREATED:20250511T094305Z
LAST-MODIFIED:20250511T094305Z
UID:10011716-1904976000-1904985000@heartlandlakescommunitycalendar.com
SUMMARY:Coffee with Veterans
DESCRIPTION:Join us every first Tuesday of the month for Coffee with Veterans\, a casual\, welcoming gathering where Hubbard County Veteran Service Officers and community members can connect\, learn about services available\, and enjoy a warm cup of coffee together.
URL:https://heartlandlakescommunitycalendar.com/index.php/event/coffee-with-veterans/2030-05-14/
LOCATION:Park Rapids American Legion\, 900 1st St E\, Park Rapids\, MN\, 56470\, United States
CATEGORIES:Social
ORGANIZER;CN="Hubbard County Veterans Services":MAILTO:jerrold.bjerke@co.hubbard.mn.us
END:VEVENT
BEGIN:VEVENT
DTSTART;TZID=UTC:20300611T080000
DTEND;TZID=UTC:20300611T103000
DTSTAMP:20260422T142321
CREATED:20250511T094305Z
LAST-MODIFIED:20250511T094305Z
UID:10011717-1907395200-1907404200@heartlandlakescommunitycalendar.com
SUMMARY:Coffee with Veterans
DESCRIPTION:Join us every first Tuesday of the month for Coffee with Veterans\, a casual\, welcoming gathering where Hubbard County Veteran Service Officers and community members can connect\, learn about services available\, and enjoy a warm cup of coffee together.
URL:https://heartlandlakescommunitycalendar.com/index.php/event/coffee-with-veterans/2030-06-11/
LOCATION:Park Rapids American Legion\, 900 1st St E\, Park Rapids\, MN\, 56470\, United States
CATEGORIES:Social
ORGANIZER;CN="Hubbard County Veterans Services":MAILTO:jerrold.bjerke@co.hubbard.mn.us
END:VEVENT
BEGIN:VEVENT
DTSTART;TZID=UTC:20300709T080000
DTEND;TZID=UTC:20300709T103000
DTSTAMP:20260422T142321
CREATED:20250511T094305Z
LAST-MODIFIED:20250511T094305Z
UID:10011718-1909814400-1909823400@heartlandlakescommunitycalendar.com
SUMMARY:Coffee with Veterans
DESCRIPTION:Join us every first Tuesday of the month for Coffee with Veterans\, a casual\, welcoming gathering where Hubbard County Veteran Service Officers and community members can connect\, learn about services available\, and enjoy a warm cup of coffee together.
URL:https://heartlandlakescommunitycalendar.com/index.php/event/coffee-with-veterans/2030-07-09/
LOCATION:Park Rapids American Legion\, 900 1st St E\, Park Rapids\, MN\, 56470\, United States
CATEGORIES:Social
ORGANIZER;CN="Hubbard County Veterans Services":MAILTO:jerrold.bjerke@co.hubbard.mn.us
END:VEVENT
BEGIN:VEVENT
DTSTART;TZID=UTC:20300813T080000
DTEND;TZID=UTC:20300813T103000
DTSTAMP:20260422T142321
CREATED:20250511T094305Z
LAST-MODIFIED:20250511T094305Z
UID:10011719-1912838400-1912847400@heartlandlakescommunitycalendar.com
SUMMARY:Coffee with Veterans
DESCRIPTION:Join us every first Tuesday of the month for Coffee with Veterans\, a casual\, welcoming gathering where Hubbard County Veteran Service Officers and community members can connect\, learn about services available\, and enjoy a warm cup of coffee together.
URL:https://heartlandlakescommunitycalendar.com/index.php/event/coffee-with-veterans/2030-08-13/
LOCATION:Park Rapids American Legion\, 900 1st St E\, Park Rapids\, MN\, 56470\, United States
CATEGORIES:Social
ORGANIZER;CN="Hubbard County Veterans Services":MAILTO:jerrold.bjerke@co.hubbard.mn.us
END:VEVENT
BEGIN:VEVENT
DTSTART;TZID=UTC:20300910T080000
DTEND;TZID=UTC:20300910T103000
DTSTAMP:20260422T142321
CREATED:20250511T094305Z
LAST-MODIFIED:20250511T094305Z
UID:10011720-1915257600-1915266600@heartlandlakescommunitycalendar.com
SUMMARY:Coffee with Veterans
DESCRIPTION:Join us every first Tuesday of the month for Coffee with Veterans\, a casual\, welcoming gathering where Hubbard County Veteran Service Officers and community members can connect\, learn about services available\, and enjoy a warm cup of coffee together.
URL:https://heartlandlakescommunitycalendar.com/index.php/event/coffee-with-veterans/2030-09-10/
LOCATION:Park Rapids American Legion\, 900 1st St E\, Park Rapids\, MN\, 56470\, United States
CATEGORIES:Social
ORGANIZER;CN="Hubbard County Veterans Services":MAILTO:jerrold.bjerke@co.hubbard.mn.us
END:VEVENT
BEGIN:VEVENT
DTSTART;TZID=UTC:20301008T080000
DTEND;TZID=UTC:20301008T103000
DTSTAMP:20260422T142321
CREATED:20250511T094305Z
LAST-MODIFIED:20250511T094305Z
UID:10011721-1917676800-1917685800@heartlandlakescommunitycalendar.com
SUMMARY:Coffee with Veterans
DESCRIPTION:Join us every first Tuesday of the month for Coffee with Veterans\, a casual\, welcoming gathering where Hubbard County Veteran Service Officers and community members can connect\, learn about services available\, and enjoy a warm cup of coffee together.
URL:https://heartlandlakescommunitycalendar.com/index.php/event/coffee-with-veterans/2030-10-08/
LOCATION:Park Rapids American Legion\, 900 1st St E\, Park Rapids\, MN\, 56470\, United States
CATEGORIES:Social
ORGANIZER;CN="Hubbard County Veterans Services":MAILTO:jerrold.bjerke@co.hubbard.mn.us
END:VEVENT
BEGIN:VEVENT
DTSTART;TZID=UTC:20301112T080000
DTEND;TZID=UTC:20301112T103000
DTSTAMP:20260422T142321
CREATED:20250511T094305Z
LAST-MODIFIED:20250511T094305Z
UID:10011722-1920700800-1920709800@heartlandlakescommunitycalendar.com
SUMMARY:Coffee with Veterans
DESCRIPTION:Join us every first Tuesday of the month for Coffee with Veterans\, a casual\, welcoming gathering where Hubbard County Veteran Service Officers and community members can connect\, learn about services available\, and enjoy a warm cup of coffee together.
URL:https://heartlandlakescommunitycalendar.com/index.php/event/coffee-with-veterans/2030-11-12/
LOCATION:Park Rapids American Legion\, 900 1st St E\, Park Rapids\, MN\, 56470\, United States
CATEGORIES:Social
ORGANIZER;CN="Hubbard County Veterans Services":MAILTO:jerrold.bjerke@co.hubbard.mn.us
END:VEVENT
BEGIN:VEVENT
DTSTART;TZID=UTC:20301210T080000
DTEND;TZID=UTC:20301210T103000
DTSTAMP:20260422T142321
CREATED:20250511T094305Z
LAST-MODIFIED:20250511T094305Z
UID:10011723-1923120000-1923129000@heartlandlakescommunitycalendar.com
SUMMARY:Coffee with Veterans
DESCRIPTION:Join us every first Tuesday of the month for Coffee with Veterans\, a casual\, welcoming gathering where Hubbard County Veteran Service Officers and community members can connect\, learn about services available\, and enjoy a warm cup of coffee together.
URL:https://heartlandlakescommunitycalendar.com/index.php/event/coffee-with-veterans/2030-12-10/
LOCATION:Park Rapids American Legion\, 900 1st St E\, Park Rapids\, MN\, 56470\, United States
CATEGORIES:Social
ORGANIZER;CN="Hubbard County Veterans Services":MAILTO:jerrold.bjerke@co.hubbard.mn.us
END:VEVENT
END:VCALENDAR