BEGIN:VCALENDAR
VERSION:2.0
PRODID:-//The Heartland Lakes Community Calendar - ECPv6.3.7//NONSGML v1.0//EN
CALSCALE:GREGORIAN
METHOD:PUBLISH
X-ORIGINAL-URL:https://heartlandlakescommunitycalendar.com
X-WR-CALDESC:Events for The Heartland Lakes Community Calendar
REFRESH-INTERVAL;VALUE=DURATION:PT1H
X-Robots-Tag:noindex
X-PUBLISHED-TTL:PT1H
BEGIN:VTIMEZONE
TZID:America/New_York
BEGIN:DAYLIGHT
TZOFFSETFROM:-0500
TZOFFSETTO:-0400
TZNAME:EDT
DTSTART:20290311T070000
END:DAYLIGHT
BEGIN:STANDARD
TZOFFSETFROM:-0400
TZOFFSETTO:-0500
TZNAME:EST
DTSTART:20291104T060000
END:STANDARD
END:VTIMEZONE
BEGIN:VEVENT
DTSTART;TZID=America/New_York:20290128T140000
DTEND;TZID=America/New_York:20290128T160000
DTSTAMP:20260422T000954
CREATED:20260301T092616Z
LAST-MODIFIED:20260301T092616Z
UID:10011974-1864303200-1864310400@heartlandlakescommunitycalendar.com
SUMMARY:Sunday Meat Raffle
DESCRIPTION:Make it a Sunday Funday with Mandatory Fun Outdoors’ weekly meat raffle in Emmaville. Enjoy drinks\, appetizers\, and a good time!
URL:https://heartlandlakescommunitycalendar.com/index.php/event/sunday-meat-raffle/2029-01-28/
LOCATION:Emmaville Inn and Cafe\, 28021 County 4\, Park Rapids\, MN\, 56470\, United States
CATEGORIES:Entertainment
ATTACH;FMTTYPE=image/jpeg:https://heartlandlakescommunitycalendar.com/wp-content/uploads/2026/03/630433450_122172222890776256_5251886797231679564_n.jpg
ORGANIZER;CN="Mandatory Fun Outdoors":MAILTO:mfo.information@gmail.com
END:VEVENT
BEGIN:VEVENT
DTSTART;TZID=America/New_York:20290204T140000
DTEND;TZID=America/New_York:20290204T160000
DTSTAMP:20260422T000954
CREATED:20260301T092616Z
LAST-MODIFIED:20260301T092616Z
UID:10011975-1864908000-1864915200@heartlandlakescommunitycalendar.com
SUMMARY:Sunday Meat Raffle
DESCRIPTION:Make it a Sunday Funday with Mandatory Fun Outdoors’ weekly meat raffle in Emmaville. Enjoy drinks\, appetizers\, and a good time!
URL:https://heartlandlakescommunitycalendar.com/index.php/event/sunday-meat-raffle/2029-02-04/
LOCATION:Emmaville Inn and Cafe\, 28021 County 4\, Park Rapids\, MN\, 56470\, United States
CATEGORIES:Entertainment
ATTACH;FMTTYPE=image/jpeg:https://heartlandlakescommunitycalendar.com/wp-content/uploads/2026/03/630433450_122172222890776256_5251886797231679564_n.jpg
ORGANIZER;CN="Mandatory Fun Outdoors":MAILTO:mfo.information@gmail.com
END:VEVENT
BEGIN:VEVENT
DTSTART;TZID=America/New_York:20290211T140000
DTEND;TZID=America/New_York:20290211T160000
DTSTAMP:20260422T000954
CREATED:20260301T092616Z
LAST-MODIFIED:20260301T092616Z
UID:10011976-1865512800-1865520000@heartlandlakescommunitycalendar.com
SUMMARY:Sunday Meat Raffle
DESCRIPTION:Make it a Sunday Funday with Mandatory Fun Outdoors’ weekly meat raffle in Emmaville. Enjoy drinks\, appetizers\, and a good time!
URL:https://heartlandlakescommunitycalendar.com/index.php/event/sunday-meat-raffle/2029-02-11/
LOCATION:Emmaville Inn and Cafe\, 28021 County 4\, Park Rapids\, MN\, 56470\, United States
CATEGORIES:Entertainment
ATTACH;FMTTYPE=image/jpeg:https://heartlandlakescommunitycalendar.com/wp-content/uploads/2026/03/630433450_122172222890776256_5251886797231679564_n.jpg
ORGANIZER;CN="Mandatory Fun Outdoors":MAILTO:mfo.information@gmail.com
END:VEVENT
BEGIN:VEVENT
DTSTART;TZID=America/New_York:20290218T140000
DTEND;TZID=America/New_York:20290218T160000
DTSTAMP:20260422T000954
CREATED:20260301T092616Z
LAST-MODIFIED:20260301T092616Z
UID:10011977-1866117600-1866124800@heartlandlakescommunitycalendar.com
SUMMARY:Sunday Meat Raffle
DESCRIPTION:Make it a Sunday Funday with Mandatory Fun Outdoors’ weekly meat raffle in Emmaville. Enjoy drinks\, appetizers\, and a good time!
URL:https://heartlandlakescommunitycalendar.com/index.php/event/sunday-meat-raffle/2029-02-18/
LOCATION:Emmaville Inn and Cafe\, 28021 County 4\, Park Rapids\, MN\, 56470\, United States
CATEGORIES:Entertainment
ATTACH;FMTTYPE=image/jpeg:https://heartlandlakescommunitycalendar.com/wp-content/uploads/2026/03/630433450_122172222890776256_5251886797231679564_n.jpg
ORGANIZER;CN="Mandatory Fun Outdoors":MAILTO:mfo.information@gmail.com
END:VEVENT
BEGIN:VEVENT
DTSTART;TZID=America/New_York:20290225T140000
DTEND;TZID=America/New_York:20290225T160000
DTSTAMP:20260422T000954
CREATED:20260301T092616Z
LAST-MODIFIED:20260301T092616Z
UID:10011978-1866722400-1866729600@heartlandlakescommunitycalendar.com
SUMMARY:Sunday Meat Raffle
DESCRIPTION:Make it a Sunday Funday with Mandatory Fun Outdoors’ weekly meat raffle in Emmaville. Enjoy drinks\, appetizers\, and a good time!
URL:https://heartlandlakescommunitycalendar.com/index.php/event/sunday-meat-raffle/2029-02-25/
LOCATION:Emmaville Inn and Cafe\, 28021 County 4\, Park Rapids\, MN\, 56470\, United States
CATEGORIES:Entertainment
ATTACH;FMTTYPE=image/jpeg:https://heartlandlakescommunitycalendar.com/wp-content/uploads/2026/03/630433450_122172222890776256_5251886797231679564_n.jpg
ORGANIZER;CN="Mandatory Fun Outdoors":MAILTO:mfo.information@gmail.com
END:VEVENT
BEGIN:VEVENT
DTSTART;TZID=America/New_York:20290304T140000
DTEND;TZID=America/New_York:20290304T160000
DTSTAMP:20260422T000954
CREATED:20260301T092616Z
LAST-MODIFIED:20260301T092616Z
UID:10011979-1867327200-1867334400@heartlandlakescommunitycalendar.com
SUMMARY:Sunday Meat Raffle
DESCRIPTION:Make it a Sunday Funday with Mandatory Fun Outdoors’ weekly meat raffle in Emmaville. Enjoy drinks\, appetizers\, and a good time!
URL:https://heartlandlakescommunitycalendar.com/index.php/event/sunday-meat-raffle/2029-03-04/
LOCATION:Emmaville Inn and Cafe\, 28021 County 4\, Park Rapids\, MN\, 56470\, United States
CATEGORIES:Entertainment
ATTACH;FMTTYPE=image/jpeg:https://heartlandlakescommunitycalendar.com/wp-content/uploads/2026/03/630433450_122172222890776256_5251886797231679564_n.jpg
ORGANIZER;CN="Mandatory Fun Outdoors":MAILTO:mfo.information@gmail.com
END:VEVENT
BEGIN:VEVENT
DTSTART;TZID=America/New_York:20290311T140000
DTEND;TZID=America/New_York:20290311T160000
DTSTAMP:20260422T000954
CREATED:20260301T092616Z
LAST-MODIFIED:20260301T092616Z
UID:10011980-1867932000-1867939200@heartlandlakescommunitycalendar.com
SUMMARY:Sunday Meat Raffle
DESCRIPTION:Make it a Sunday Funday with Mandatory Fun Outdoors’ weekly meat raffle in Emmaville. Enjoy drinks\, appetizers\, and a good time!
URL:https://heartlandlakescommunitycalendar.com/index.php/event/sunday-meat-raffle/2029-03-11/
LOCATION:Emmaville Inn and Cafe\, 28021 County 4\, Park Rapids\, MN\, 56470\, United States
CATEGORIES:Entertainment
ATTACH;FMTTYPE=image/jpeg:https://heartlandlakescommunitycalendar.com/wp-content/uploads/2026/03/630433450_122172222890776256_5251886797231679564_n.jpg
ORGANIZER;CN="Mandatory Fun Outdoors":MAILTO:mfo.information@gmail.com
END:VEVENT
BEGIN:VEVENT
DTSTART;TZID=America/New_York:20290318T140000
DTEND;TZID=America/New_York:20290318T160000
DTSTAMP:20260422T000954
CREATED:20260301T092616Z
LAST-MODIFIED:20260301T092616Z
UID:10011981-1868536800-1868544000@heartlandlakescommunitycalendar.com
SUMMARY:Sunday Meat Raffle
DESCRIPTION:Make it a Sunday Funday with Mandatory Fun Outdoors’ weekly meat raffle in Emmaville. Enjoy drinks\, appetizers\, and a good time!
URL:https://heartlandlakescommunitycalendar.com/index.php/event/sunday-meat-raffle/2029-03-18/
LOCATION:Emmaville Inn and Cafe\, 28021 County 4\, Park Rapids\, MN\, 56470\, United States
CATEGORIES:Entertainment
ATTACH;FMTTYPE=image/jpeg:https://heartlandlakescommunitycalendar.com/wp-content/uploads/2026/03/630433450_122172222890776256_5251886797231679564_n.jpg
ORGANIZER;CN="Mandatory Fun Outdoors":MAILTO:mfo.information@gmail.com
END:VEVENT
BEGIN:VEVENT
DTSTART;TZID=America/New_York:20290325T140000
DTEND;TZID=America/New_York:20290325T160000
DTSTAMP:20260422T000954
CREATED:20260301T092616Z
LAST-MODIFIED:20260301T092616Z
UID:10011982-1869141600-1869148800@heartlandlakescommunitycalendar.com
SUMMARY:Sunday Meat Raffle
DESCRIPTION:Make it a Sunday Funday with Mandatory Fun Outdoors’ weekly meat raffle in Emmaville. Enjoy drinks\, appetizers\, and a good time!
URL:https://heartlandlakescommunitycalendar.com/index.php/event/sunday-meat-raffle/2029-03-25/
LOCATION:Emmaville Inn and Cafe\, 28021 County 4\, Park Rapids\, MN\, 56470\, United States
CATEGORIES:Entertainment
ATTACH;FMTTYPE=image/jpeg:https://heartlandlakescommunitycalendar.com/wp-content/uploads/2026/03/630433450_122172222890776256_5251886797231679564_n.jpg
ORGANIZER;CN="Mandatory Fun Outdoors":MAILTO:mfo.information@gmail.com
END:VEVENT
BEGIN:VEVENT
DTSTART;TZID=America/New_York:20290401T140000
DTEND;TZID=America/New_York:20290401T160000
DTSTAMP:20260422T000954
CREATED:20260301T092616Z
LAST-MODIFIED:20260301T092616Z
UID:10011983-1869746400-1869753600@heartlandlakescommunitycalendar.com
SUMMARY:Sunday Meat Raffle
DESCRIPTION:Make it a Sunday Funday with Mandatory Fun Outdoors’ weekly meat raffle in Emmaville. Enjoy drinks\, appetizers\, and a good time!
URL:https://heartlandlakescommunitycalendar.com/index.php/event/sunday-meat-raffle/2029-04-01/
LOCATION:Emmaville Inn and Cafe\, 28021 County 4\, Park Rapids\, MN\, 56470\, United States
CATEGORIES:Entertainment
ATTACH;FMTTYPE=image/jpeg:https://heartlandlakescommunitycalendar.com/wp-content/uploads/2026/03/630433450_122172222890776256_5251886797231679564_n.jpg
ORGANIZER;CN="Mandatory Fun Outdoors":MAILTO:mfo.information@gmail.com
END:VEVENT
BEGIN:VEVENT
DTSTART;TZID=America/New_York:20290408T140000
DTEND;TZID=America/New_York:20290408T160000
DTSTAMP:20260422T000954
CREATED:20260301T092616Z
LAST-MODIFIED:20260301T092616Z
UID:10011984-1870351200-1870358400@heartlandlakescommunitycalendar.com
SUMMARY:Sunday Meat Raffle
DESCRIPTION:Make it a Sunday Funday with Mandatory Fun Outdoors’ weekly meat raffle in Emmaville. Enjoy drinks\, appetizers\, and a good time!
URL:https://heartlandlakescommunitycalendar.com/index.php/event/sunday-meat-raffle/2029-04-08/
LOCATION:Emmaville Inn and Cafe\, 28021 County 4\, Park Rapids\, MN\, 56470\, United States
CATEGORIES:Entertainment
ATTACH;FMTTYPE=image/jpeg:https://heartlandlakescommunitycalendar.com/wp-content/uploads/2026/03/630433450_122172222890776256_5251886797231679564_n.jpg
ORGANIZER;CN="Mandatory Fun Outdoors":MAILTO:mfo.information@gmail.com
END:VEVENT
BEGIN:VEVENT
DTSTART;TZID=America/New_York:20290415T140000
DTEND;TZID=America/New_York:20290415T160000
DTSTAMP:20260422T000954
CREATED:20260301T092616Z
LAST-MODIFIED:20260301T092616Z
UID:10011985-1870956000-1870963200@heartlandlakescommunitycalendar.com
SUMMARY:Sunday Meat Raffle
DESCRIPTION:Make it a Sunday Funday with Mandatory Fun Outdoors’ weekly meat raffle in Emmaville. Enjoy drinks\, appetizers\, and a good time!
URL:https://heartlandlakescommunitycalendar.com/index.php/event/sunday-meat-raffle/2029-04-15/
LOCATION:Emmaville Inn and Cafe\, 28021 County 4\, Park Rapids\, MN\, 56470\, United States
CATEGORIES:Entertainment
ATTACH;FMTTYPE=image/jpeg:https://heartlandlakescommunitycalendar.com/wp-content/uploads/2026/03/630433450_122172222890776256_5251886797231679564_n.jpg
ORGANIZER;CN="Mandatory Fun Outdoors":MAILTO:mfo.information@gmail.com
END:VEVENT
BEGIN:VEVENT
DTSTART;TZID=America/New_York:20290422T140000
DTEND;TZID=America/New_York:20290422T160000
DTSTAMP:20260422T000954
CREATED:20260301T092616Z
LAST-MODIFIED:20260301T092616Z
UID:10011986-1871560800-1871568000@heartlandlakescommunitycalendar.com
SUMMARY:Sunday Meat Raffle
DESCRIPTION:Make it a Sunday Funday with Mandatory Fun Outdoors’ weekly meat raffle in Emmaville. Enjoy drinks\, appetizers\, and a good time!
URL:https://heartlandlakescommunitycalendar.com/index.php/event/sunday-meat-raffle/2029-04-22/
LOCATION:Emmaville Inn and Cafe\, 28021 County 4\, Park Rapids\, MN\, 56470\, United States
CATEGORIES:Entertainment
ATTACH;FMTTYPE=image/jpeg:https://heartlandlakescommunitycalendar.com/wp-content/uploads/2026/03/630433450_122172222890776256_5251886797231679564_n.jpg
ORGANIZER;CN="Mandatory Fun Outdoors":MAILTO:mfo.information@gmail.com
END:VEVENT
BEGIN:VEVENT
DTSTART;TZID=America/New_York:20290429T140000
DTEND;TZID=America/New_York:20290429T160000
DTSTAMP:20260422T000954
CREATED:20260301T092616Z
LAST-MODIFIED:20260301T092616Z
UID:10011987-1872165600-1872172800@heartlandlakescommunitycalendar.com
SUMMARY:Sunday Meat Raffle
DESCRIPTION:Make it a Sunday Funday with Mandatory Fun Outdoors’ weekly meat raffle in Emmaville. Enjoy drinks\, appetizers\, and a good time!
URL:https://heartlandlakescommunitycalendar.com/index.php/event/sunday-meat-raffle/2029-04-29/
LOCATION:Emmaville Inn and Cafe\, 28021 County 4\, Park Rapids\, MN\, 56470\, United States
CATEGORIES:Entertainment
ATTACH;FMTTYPE=image/jpeg:https://heartlandlakescommunitycalendar.com/wp-content/uploads/2026/03/630433450_122172222890776256_5251886797231679564_n.jpg
ORGANIZER;CN="Mandatory Fun Outdoors":MAILTO:mfo.information@gmail.com
END:VEVENT
BEGIN:VEVENT
DTSTART;TZID=America/New_York:20290506T140000
DTEND;TZID=America/New_York:20290506T160000
DTSTAMP:20260422T000954
CREATED:20260301T092616Z
LAST-MODIFIED:20260301T092616Z
UID:10011988-1872770400-1872777600@heartlandlakescommunitycalendar.com
SUMMARY:Sunday Meat Raffle
DESCRIPTION:Make it a Sunday Funday with Mandatory Fun Outdoors’ weekly meat raffle in Emmaville. Enjoy drinks\, appetizers\, and a good time!
URL:https://heartlandlakescommunitycalendar.com/index.php/event/sunday-meat-raffle/2029-05-06/
LOCATION:Emmaville Inn and Cafe\, 28021 County 4\, Park Rapids\, MN\, 56470\, United States
CATEGORIES:Entertainment
ATTACH;FMTTYPE=image/jpeg:https://heartlandlakescommunitycalendar.com/wp-content/uploads/2026/03/630433450_122172222890776256_5251886797231679564_n.jpg
ORGANIZER;CN="Mandatory Fun Outdoors":MAILTO:mfo.information@gmail.com
END:VEVENT
BEGIN:VEVENT
DTSTART;TZID=America/New_York:20290513T140000
DTEND;TZID=America/New_York:20290513T160000
DTSTAMP:20260422T000954
CREATED:20260301T092616Z
LAST-MODIFIED:20260301T092616Z
UID:10011989-1873375200-1873382400@heartlandlakescommunitycalendar.com
SUMMARY:Sunday Meat Raffle
DESCRIPTION:Make it a Sunday Funday with Mandatory Fun Outdoors’ weekly meat raffle in Emmaville. Enjoy drinks\, appetizers\, and a good time!
URL:https://heartlandlakescommunitycalendar.com/index.php/event/sunday-meat-raffle/2029-05-13/
LOCATION:Emmaville Inn and Cafe\, 28021 County 4\, Park Rapids\, MN\, 56470\, United States
CATEGORIES:Entertainment
ATTACH;FMTTYPE=image/jpeg:https://heartlandlakescommunitycalendar.com/wp-content/uploads/2026/03/630433450_122172222890776256_5251886797231679564_n.jpg
ORGANIZER;CN="Mandatory Fun Outdoors":MAILTO:mfo.information@gmail.com
END:VEVENT
BEGIN:VEVENT
DTSTART;TZID=America/New_York:20290520T140000
DTEND;TZID=America/New_York:20290520T160000
DTSTAMP:20260422T000954
CREATED:20260301T092616Z
LAST-MODIFIED:20260301T092616Z
UID:10011990-1873980000-1873987200@heartlandlakescommunitycalendar.com
SUMMARY:Sunday Meat Raffle
DESCRIPTION:Make it a Sunday Funday with Mandatory Fun Outdoors’ weekly meat raffle in Emmaville. Enjoy drinks\, appetizers\, and a good time!
URL:https://heartlandlakescommunitycalendar.com/index.php/event/sunday-meat-raffle/2029-05-20/
LOCATION:Emmaville Inn and Cafe\, 28021 County 4\, Park Rapids\, MN\, 56470\, United States
CATEGORIES:Entertainment
ATTACH;FMTTYPE=image/jpeg:https://heartlandlakescommunitycalendar.com/wp-content/uploads/2026/03/630433450_122172222890776256_5251886797231679564_n.jpg
ORGANIZER;CN="Mandatory Fun Outdoors":MAILTO:mfo.information@gmail.com
END:VEVENT
BEGIN:VEVENT
DTSTART;TZID=America/New_York:20290527T140000
DTEND;TZID=America/New_York:20290527T160000
DTSTAMP:20260422T000954
CREATED:20260301T092616Z
LAST-MODIFIED:20260301T092616Z
UID:10011991-1874584800-1874592000@heartlandlakescommunitycalendar.com
SUMMARY:Sunday Meat Raffle
DESCRIPTION:Make it a Sunday Funday with Mandatory Fun Outdoors’ weekly meat raffle in Emmaville. Enjoy drinks\, appetizers\, and a good time!
URL:https://heartlandlakescommunitycalendar.com/index.php/event/sunday-meat-raffle/2029-05-27/
LOCATION:Emmaville Inn and Cafe\, 28021 County 4\, Park Rapids\, MN\, 56470\, United States
CATEGORIES:Entertainment
ATTACH;FMTTYPE=image/jpeg:https://heartlandlakescommunitycalendar.com/wp-content/uploads/2026/03/630433450_122172222890776256_5251886797231679564_n.jpg
ORGANIZER;CN="Mandatory Fun Outdoors":MAILTO:mfo.information@gmail.com
END:VEVENT
BEGIN:VEVENT
DTSTART;TZID=America/New_York:20290603T140000
DTEND;TZID=America/New_York:20290603T160000
DTSTAMP:20260422T000954
CREATED:20260301T092616Z
LAST-MODIFIED:20260301T092616Z
UID:10011992-1875189600-1875196800@heartlandlakescommunitycalendar.com
SUMMARY:Sunday Meat Raffle
DESCRIPTION:Make it a Sunday Funday with Mandatory Fun Outdoors’ weekly meat raffle in Emmaville. Enjoy drinks\, appetizers\, and a good time!
URL:https://heartlandlakescommunitycalendar.com/index.php/event/sunday-meat-raffle/2029-06-03/
LOCATION:Emmaville Inn and Cafe\, 28021 County 4\, Park Rapids\, MN\, 56470\, United States
CATEGORIES:Entertainment
ATTACH;FMTTYPE=image/jpeg:https://heartlandlakescommunitycalendar.com/wp-content/uploads/2026/03/630433450_122172222890776256_5251886797231679564_n.jpg
ORGANIZER;CN="Mandatory Fun Outdoors":MAILTO:mfo.information@gmail.com
END:VEVENT
BEGIN:VEVENT
DTSTART;TZID=America/New_York:20290610T140000
DTEND;TZID=America/New_York:20290610T160000
DTSTAMP:20260422T000954
CREATED:20260301T092616Z
LAST-MODIFIED:20260301T092616Z
UID:10011993-1875794400-1875801600@heartlandlakescommunitycalendar.com
SUMMARY:Sunday Meat Raffle
DESCRIPTION:Make it a Sunday Funday with Mandatory Fun Outdoors’ weekly meat raffle in Emmaville. Enjoy drinks\, appetizers\, and a good time!
URL:https://heartlandlakescommunitycalendar.com/index.php/event/sunday-meat-raffle/2029-06-10/
LOCATION:Emmaville Inn and Cafe\, 28021 County 4\, Park Rapids\, MN\, 56470\, United States
CATEGORIES:Entertainment
ATTACH;FMTTYPE=image/jpeg:https://heartlandlakescommunitycalendar.com/wp-content/uploads/2026/03/630433450_122172222890776256_5251886797231679564_n.jpg
ORGANIZER;CN="Mandatory Fun Outdoors":MAILTO:mfo.information@gmail.com
END:VEVENT
BEGIN:VEVENT
DTSTART;TZID=America/New_York:20290617T140000
DTEND;TZID=America/New_York:20290617T160000
DTSTAMP:20260422T000954
CREATED:20260301T092616Z
LAST-MODIFIED:20260301T092616Z
UID:10011994-1876399200-1876406400@heartlandlakescommunitycalendar.com
SUMMARY:Sunday Meat Raffle
DESCRIPTION:Make it a Sunday Funday with Mandatory Fun Outdoors’ weekly meat raffle in Emmaville. Enjoy drinks\, appetizers\, and a good time!
URL:https://heartlandlakescommunitycalendar.com/index.php/event/sunday-meat-raffle/2029-06-17/
LOCATION:Emmaville Inn and Cafe\, 28021 County 4\, Park Rapids\, MN\, 56470\, United States
CATEGORIES:Entertainment
ATTACH;FMTTYPE=image/jpeg:https://heartlandlakescommunitycalendar.com/wp-content/uploads/2026/03/630433450_122172222890776256_5251886797231679564_n.jpg
ORGANIZER;CN="Mandatory Fun Outdoors":MAILTO:mfo.information@gmail.com
END:VEVENT
BEGIN:VEVENT
DTSTART;TZID=America/New_York:20290624T140000
DTEND;TZID=America/New_York:20290624T160000
DTSTAMP:20260422T000954
CREATED:20260301T092616Z
LAST-MODIFIED:20260301T092616Z
UID:10011995-1877004000-1877011200@heartlandlakescommunitycalendar.com
SUMMARY:Sunday Meat Raffle
DESCRIPTION:Make it a Sunday Funday with Mandatory Fun Outdoors’ weekly meat raffle in Emmaville. Enjoy drinks\, appetizers\, and a good time!
URL:https://heartlandlakescommunitycalendar.com/index.php/event/sunday-meat-raffle/2029-06-24/
LOCATION:Emmaville Inn and Cafe\, 28021 County 4\, Park Rapids\, MN\, 56470\, United States
CATEGORIES:Entertainment
ATTACH;FMTTYPE=image/jpeg:https://heartlandlakescommunitycalendar.com/wp-content/uploads/2026/03/630433450_122172222890776256_5251886797231679564_n.jpg
ORGANIZER;CN="Mandatory Fun Outdoors":MAILTO:mfo.information@gmail.com
END:VEVENT
BEGIN:VEVENT
DTSTART;TZID=America/New_York:20290701T140000
DTEND;TZID=America/New_York:20290701T160000
DTSTAMP:20260422T000954
CREATED:20260301T092616Z
LAST-MODIFIED:20260301T092616Z
UID:10011996-1877608800-1877616000@heartlandlakescommunitycalendar.com
SUMMARY:Sunday Meat Raffle
DESCRIPTION:Make it a Sunday Funday with Mandatory Fun Outdoors’ weekly meat raffle in Emmaville. Enjoy drinks\, appetizers\, and a good time!
URL:https://heartlandlakescommunitycalendar.com/index.php/event/sunday-meat-raffle/2029-07-01/
LOCATION:Emmaville Inn and Cafe\, 28021 County 4\, Park Rapids\, MN\, 56470\, United States
CATEGORIES:Entertainment
ATTACH;FMTTYPE=image/jpeg:https://heartlandlakescommunitycalendar.com/wp-content/uploads/2026/03/630433450_122172222890776256_5251886797231679564_n.jpg
ORGANIZER;CN="Mandatory Fun Outdoors":MAILTO:mfo.information@gmail.com
END:VEVENT
BEGIN:VEVENT
DTSTART;TZID=America/New_York:20290708T140000
DTEND;TZID=America/New_York:20290708T160000
DTSTAMP:20260422T000954
CREATED:20260301T092616Z
LAST-MODIFIED:20260301T092616Z
UID:10011997-1878213600-1878220800@heartlandlakescommunitycalendar.com
SUMMARY:Sunday Meat Raffle
DESCRIPTION:Make it a Sunday Funday with Mandatory Fun Outdoors’ weekly meat raffle in Emmaville. Enjoy drinks\, appetizers\, and a good time!
URL:https://heartlandlakescommunitycalendar.com/index.php/event/sunday-meat-raffle/2029-07-08/
LOCATION:Emmaville Inn and Cafe\, 28021 County 4\, Park Rapids\, MN\, 56470\, United States
CATEGORIES:Entertainment
ATTACH;FMTTYPE=image/jpeg:https://heartlandlakescommunitycalendar.com/wp-content/uploads/2026/03/630433450_122172222890776256_5251886797231679564_n.jpg
ORGANIZER;CN="Mandatory Fun Outdoors":MAILTO:mfo.information@gmail.com
END:VEVENT
BEGIN:VEVENT
DTSTART;TZID=America/New_York:20290715T140000
DTEND;TZID=America/New_York:20290715T160000
DTSTAMP:20260422T000954
CREATED:20260301T092616Z
LAST-MODIFIED:20260301T092616Z
UID:10011998-1878818400-1878825600@heartlandlakescommunitycalendar.com
SUMMARY:Sunday Meat Raffle
DESCRIPTION:Make it a Sunday Funday with Mandatory Fun Outdoors’ weekly meat raffle in Emmaville. Enjoy drinks\, appetizers\, and a good time!
URL:https://heartlandlakescommunitycalendar.com/index.php/event/sunday-meat-raffle/2029-07-15/
LOCATION:Emmaville Inn and Cafe\, 28021 County 4\, Park Rapids\, MN\, 56470\, United States
CATEGORIES:Entertainment
ATTACH;FMTTYPE=image/jpeg:https://heartlandlakescommunitycalendar.com/wp-content/uploads/2026/03/630433450_122172222890776256_5251886797231679564_n.jpg
ORGANIZER;CN="Mandatory Fun Outdoors":MAILTO:mfo.information@gmail.com
END:VEVENT
BEGIN:VEVENT
DTSTART;TZID=America/New_York:20290722T140000
DTEND;TZID=America/New_York:20290722T160000
DTSTAMP:20260422T000954
CREATED:20260301T092616Z
LAST-MODIFIED:20260301T092616Z
UID:10011999-1879423200-1879430400@heartlandlakescommunitycalendar.com
SUMMARY:Sunday Meat Raffle
DESCRIPTION:Make it a Sunday Funday with Mandatory Fun Outdoors’ weekly meat raffle in Emmaville. Enjoy drinks\, appetizers\, and a good time!
URL:https://heartlandlakescommunitycalendar.com/index.php/event/sunday-meat-raffle/2029-07-22/
LOCATION:Emmaville Inn and Cafe\, 28021 County 4\, Park Rapids\, MN\, 56470\, United States
CATEGORIES:Entertainment
ATTACH;FMTTYPE=image/jpeg:https://heartlandlakescommunitycalendar.com/wp-content/uploads/2026/03/630433450_122172222890776256_5251886797231679564_n.jpg
ORGANIZER;CN="Mandatory Fun Outdoors":MAILTO:mfo.information@gmail.com
END:VEVENT
BEGIN:VEVENT
DTSTART;TZID=America/New_York:20290729T140000
DTEND;TZID=America/New_York:20290729T160000
DTSTAMP:20260422T000954
CREATED:20260301T092616Z
LAST-MODIFIED:20260301T092616Z
UID:10012000-1880028000-1880035200@heartlandlakescommunitycalendar.com
SUMMARY:Sunday Meat Raffle
DESCRIPTION:Make it a Sunday Funday with Mandatory Fun Outdoors’ weekly meat raffle in Emmaville. Enjoy drinks\, appetizers\, and a good time!
URL:https://heartlandlakescommunitycalendar.com/index.php/event/sunday-meat-raffle/2029-07-29/
LOCATION:Emmaville Inn and Cafe\, 28021 County 4\, Park Rapids\, MN\, 56470\, United States
CATEGORIES:Entertainment
ATTACH;FMTTYPE=image/jpeg:https://heartlandlakescommunitycalendar.com/wp-content/uploads/2026/03/630433450_122172222890776256_5251886797231679564_n.jpg
ORGANIZER;CN="Mandatory Fun Outdoors":MAILTO:mfo.information@gmail.com
END:VEVENT
BEGIN:VEVENT
DTSTART;TZID=America/New_York:20290805T140000
DTEND;TZID=America/New_York:20290805T160000
DTSTAMP:20260422T000954
CREATED:20260301T092616Z
LAST-MODIFIED:20260301T092616Z
UID:10012001-1880632800-1880640000@heartlandlakescommunitycalendar.com
SUMMARY:Sunday Meat Raffle
DESCRIPTION:Make it a Sunday Funday with Mandatory Fun Outdoors’ weekly meat raffle in Emmaville. Enjoy drinks\, appetizers\, and a good time!
URL:https://heartlandlakescommunitycalendar.com/index.php/event/sunday-meat-raffle/2029-08-05/
LOCATION:Emmaville Inn and Cafe\, 28021 County 4\, Park Rapids\, MN\, 56470\, United States
CATEGORIES:Entertainment
ATTACH;FMTTYPE=image/jpeg:https://heartlandlakescommunitycalendar.com/wp-content/uploads/2026/03/630433450_122172222890776256_5251886797231679564_n.jpg
ORGANIZER;CN="Mandatory Fun Outdoors":MAILTO:mfo.information@gmail.com
END:VEVENT
BEGIN:VEVENT
DTSTART;TZID=America/New_York:20290812T140000
DTEND;TZID=America/New_York:20290812T160000
DTSTAMP:20260422T000954
CREATED:20260301T092616Z
LAST-MODIFIED:20260301T092616Z
UID:10012002-1881237600-1881244800@heartlandlakescommunitycalendar.com
SUMMARY:Sunday Meat Raffle
DESCRIPTION:Make it a Sunday Funday with Mandatory Fun Outdoors’ weekly meat raffle in Emmaville. Enjoy drinks\, appetizers\, and a good time!
URL:https://heartlandlakescommunitycalendar.com/index.php/event/sunday-meat-raffle/2029-08-12/
LOCATION:Emmaville Inn and Cafe\, 28021 County 4\, Park Rapids\, MN\, 56470\, United States
CATEGORIES:Entertainment
ATTACH;FMTTYPE=image/jpeg:https://heartlandlakescommunitycalendar.com/wp-content/uploads/2026/03/630433450_122172222890776256_5251886797231679564_n.jpg
ORGANIZER;CN="Mandatory Fun Outdoors":MAILTO:mfo.information@gmail.com
END:VEVENT
BEGIN:VEVENT
DTSTART;TZID=America/New_York:20290819T140000
DTEND;TZID=America/New_York:20290819T160000
DTSTAMP:20260422T000954
CREATED:20260301T092616Z
LAST-MODIFIED:20260301T092616Z
UID:10012003-1881842400-1881849600@heartlandlakescommunitycalendar.com
SUMMARY:Sunday Meat Raffle
DESCRIPTION:Make it a Sunday Funday with Mandatory Fun Outdoors’ weekly meat raffle in Emmaville. Enjoy drinks\, appetizers\, and a good time!
URL:https://heartlandlakescommunitycalendar.com/index.php/event/sunday-meat-raffle/2029-08-19/
LOCATION:Emmaville Inn and Cafe\, 28021 County 4\, Park Rapids\, MN\, 56470\, United States
CATEGORIES:Entertainment
ATTACH;FMTTYPE=image/jpeg:https://heartlandlakescommunitycalendar.com/wp-content/uploads/2026/03/630433450_122172222890776256_5251886797231679564_n.jpg
ORGANIZER;CN="Mandatory Fun Outdoors":MAILTO:mfo.information@gmail.com
END:VEVENT
END:VCALENDAR