BEGIN:VCALENDAR
VERSION:2.0
PRODID:-//The Heartland Lakes Community Calendar - ECPv6.3.7//NONSGML v1.0//EN
CALSCALE:GREGORIAN
METHOD:PUBLISH
X-ORIGINAL-URL:https://heartlandlakescommunitycalendar.com
X-WR-CALDESC:Events for The Heartland Lakes Community Calendar
REFRESH-INTERVAL;VALUE=DURATION:PT1H
X-Robots-Tag:noindex
X-PUBLISHED-TTL:PT1H
BEGIN:VTIMEZONE
TZID:America/New_York
BEGIN:DAYLIGHT
TZOFFSETFROM:-0500
TZOFFSETTO:-0400
TZNAME:EDT
DTSTART:20290311T070000
END:DAYLIGHT
BEGIN:STANDARD
TZOFFSETFROM:-0400
TZOFFSETTO:-0500
TZNAME:EST
DTSTART:20291104T060000
END:STANDARD
BEGIN:DAYLIGHT
TZOFFSETFROM:-0500
TZOFFSETTO:-0400
TZNAME:EDT
DTSTART:20300310T070000
END:DAYLIGHT
BEGIN:STANDARD
TZOFFSETFROM:-0400
TZOFFSETTO:-0500
TZNAME:EST
DTSTART:20301103T060000
END:STANDARD
END:VTIMEZONE
BEGIN:VEVENT
DTSTART;TZID=America/New_York:20290715T140000
DTEND;TZID=America/New_York:20290715T160000
DTSTAMP:20260422T070709
CREATED:20260301T092616Z
LAST-MODIFIED:20260301T092616Z
UID:10011998-1878818400-1878825600@heartlandlakescommunitycalendar.com
SUMMARY:Sunday Meat Raffle
DESCRIPTION:Make it a Sunday Funday with Mandatory Fun Outdoors’ weekly meat raffle in Emmaville. Enjoy drinks\, appetizers\, and a good time!
URL:https://heartlandlakescommunitycalendar.com/index.php/event/sunday-meat-raffle/2029-07-15/
LOCATION:Emmaville Inn and Cafe\, 28021 County 4\, Park Rapids\, MN\, 56470\, United States
CATEGORIES:Entertainment
ATTACH;FMTTYPE=image/jpeg:https://heartlandlakescommunitycalendar.com/wp-content/uploads/2026/03/630433450_122172222890776256_5251886797231679564_n.jpg
ORGANIZER;CN="Mandatory Fun Outdoors":MAILTO:mfo.information@gmail.com
END:VEVENT
BEGIN:VEVENT
DTSTART;TZID=America/New_York:20290722T140000
DTEND;TZID=America/New_York:20290722T160000
DTSTAMP:20260422T070709
CREATED:20260301T092616Z
LAST-MODIFIED:20260301T092616Z
UID:10011999-1879423200-1879430400@heartlandlakescommunitycalendar.com
SUMMARY:Sunday Meat Raffle
DESCRIPTION:Make it a Sunday Funday with Mandatory Fun Outdoors’ weekly meat raffle in Emmaville. Enjoy drinks\, appetizers\, and a good time!
URL:https://heartlandlakescommunitycalendar.com/index.php/event/sunday-meat-raffle/2029-07-22/
LOCATION:Emmaville Inn and Cafe\, 28021 County 4\, Park Rapids\, MN\, 56470\, United States
CATEGORIES:Entertainment
ATTACH;FMTTYPE=image/jpeg:https://heartlandlakescommunitycalendar.com/wp-content/uploads/2026/03/630433450_122172222890776256_5251886797231679564_n.jpg
ORGANIZER;CN="Mandatory Fun Outdoors":MAILTO:mfo.information@gmail.com
END:VEVENT
BEGIN:VEVENT
DTSTART;TZID=America/New_York:20290729T140000
DTEND;TZID=America/New_York:20290729T160000
DTSTAMP:20260422T070709
CREATED:20260301T092616Z
LAST-MODIFIED:20260301T092616Z
UID:10012000-1880028000-1880035200@heartlandlakescommunitycalendar.com
SUMMARY:Sunday Meat Raffle
DESCRIPTION:Make it a Sunday Funday with Mandatory Fun Outdoors’ weekly meat raffle in Emmaville. Enjoy drinks\, appetizers\, and a good time!
URL:https://heartlandlakescommunitycalendar.com/index.php/event/sunday-meat-raffle/2029-07-29/
LOCATION:Emmaville Inn and Cafe\, 28021 County 4\, Park Rapids\, MN\, 56470\, United States
CATEGORIES:Entertainment
ATTACH;FMTTYPE=image/jpeg:https://heartlandlakescommunitycalendar.com/wp-content/uploads/2026/03/630433450_122172222890776256_5251886797231679564_n.jpg
ORGANIZER;CN="Mandatory Fun Outdoors":MAILTO:mfo.information@gmail.com
END:VEVENT
BEGIN:VEVENT
DTSTART;TZID=America/New_York:20290805T140000
DTEND;TZID=America/New_York:20290805T160000
DTSTAMP:20260422T070709
CREATED:20260301T092616Z
LAST-MODIFIED:20260301T092616Z
UID:10012001-1880632800-1880640000@heartlandlakescommunitycalendar.com
SUMMARY:Sunday Meat Raffle
DESCRIPTION:Make it a Sunday Funday with Mandatory Fun Outdoors’ weekly meat raffle in Emmaville. Enjoy drinks\, appetizers\, and a good time!
URL:https://heartlandlakescommunitycalendar.com/index.php/event/sunday-meat-raffle/2029-08-05/
LOCATION:Emmaville Inn and Cafe\, 28021 County 4\, Park Rapids\, MN\, 56470\, United States
CATEGORIES:Entertainment
ATTACH;FMTTYPE=image/jpeg:https://heartlandlakescommunitycalendar.com/wp-content/uploads/2026/03/630433450_122172222890776256_5251886797231679564_n.jpg
ORGANIZER;CN="Mandatory Fun Outdoors":MAILTO:mfo.information@gmail.com
END:VEVENT
BEGIN:VEVENT
DTSTART;TZID=America/New_York:20290812T140000
DTEND;TZID=America/New_York:20290812T160000
DTSTAMP:20260422T070709
CREATED:20260301T092616Z
LAST-MODIFIED:20260301T092616Z
UID:10012002-1881237600-1881244800@heartlandlakescommunitycalendar.com
SUMMARY:Sunday Meat Raffle
DESCRIPTION:Make it a Sunday Funday with Mandatory Fun Outdoors’ weekly meat raffle in Emmaville. Enjoy drinks\, appetizers\, and a good time!
URL:https://heartlandlakescommunitycalendar.com/index.php/event/sunday-meat-raffle/2029-08-12/
LOCATION:Emmaville Inn and Cafe\, 28021 County 4\, Park Rapids\, MN\, 56470\, United States
CATEGORIES:Entertainment
ATTACH;FMTTYPE=image/jpeg:https://heartlandlakescommunitycalendar.com/wp-content/uploads/2026/03/630433450_122172222890776256_5251886797231679564_n.jpg
ORGANIZER;CN="Mandatory Fun Outdoors":MAILTO:mfo.information@gmail.com
END:VEVENT
BEGIN:VEVENT
DTSTART;TZID=America/New_York:20290819T140000
DTEND;TZID=America/New_York:20290819T160000
DTSTAMP:20260422T070709
CREATED:20260301T092616Z
LAST-MODIFIED:20260301T092616Z
UID:10012003-1881842400-1881849600@heartlandlakescommunitycalendar.com
SUMMARY:Sunday Meat Raffle
DESCRIPTION:Make it a Sunday Funday with Mandatory Fun Outdoors’ weekly meat raffle in Emmaville. Enjoy drinks\, appetizers\, and a good time!
URL:https://heartlandlakescommunitycalendar.com/index.php/event/sunday-meat-raffle/2029-08-19/
LOCATION:Emmaville Inn and Cafe\, 28021 County 4\, Park Rapids\, MN\, 56470\, United States
CATEGORIES:Entertainment
ATTACH;FMTTYPE=image/jpeg:https://heartlandlakescommunitycalendar.com/wp-content/uploads/2026/03/630433450_122172222890776256_5251886797231679564_n.jpg
ORGANIZER;CN="Mandatory Fun Outdoors":MAILTO:mfo.information@gmail.com
END:VEVENT
BEGIN:VEVENT
DTSTART;TZID=America/New_York:20290826T140000
DTEND;TZID=America/New_York:20290826T160000
DTSTAMP:20260422T070709
CREATED:20260301T092616Z
LAST-MODIFIED:20260301T092616Z
UID:10012004-1882447200-1882454400@heartlandlakescommunitycalendar.com
SUMMARY:Sunday Meat Raffle
DESCRIPTION:Make it a Sunday Funday with Mandatory Fun Outdoors’ weekly meat raffle in Emmaville. Enjoy drinks\, appetizers\, and a good time!
URL:https://heartlandlakescommunitycalendar.com/index.php/event/sunday-meat-raffle/2029-08-26/
LOCATION:Emmaville Inn and Cafe\, 28021 County 4\, Park Rapids\, MN\, 56470\, United States
CATEGORIES:Entertainment
ATTACH;FMTTYPE=image/jpeg:https://heartlandlakescommunitycalendar.com/wp-content/uploads/2026/03/630433450_122172222890776256_5251886797231679564_n.jpg
ORGANIZER;CN="Mandatory Fun Outdoors":MAILTO:mfo.information@gmail.com
END:VEVENT
BEGIN:VEVENT
DTSTART;TZID=America/New_York:20290902T140000
DTEND;TZID=America/New_York:20290902T160000
DTSTAMP:20260422T070709
CREATED:20260301T092616Z
LAST-MODIFIED:20260301T092616Z
UID:10012005-1883052000-1883059200@heartlandlakescommunitycalendar.com
SUMMARY:Sunday Meat Raffle
DESCRIPTION:Make it a Sunday Funday with Mandatory Fun Outdoors’ weekly meat raffle in Emmaville. Enjoy drinks\, appetizers\, and a good time!
URL:https://heartlandlakescommunitycalendar.com/index.php/event/sunday-meat-raffle/2029-09-02/
LOCATION:Emmaville Inn and Cafe\, 28021 County 4\, Park Rapids\, MN\, 56470\, United States
CATEGORIES:Entertainment
ATTACH;FMTTYPE=image/jpeg:https://heartlandlakescommunitycalendar.com/wp-content/uploads/2026/03/630433450_122172222890776256_5251886797231679564_n.jpg
ORGANIZER;CN="Mandatory Fun Outdoors":MAILTO:mfo.information@gmail.com
END:VEVENT
BEGIN:VEVENT
DTSTART;TZID=America/New_York:20290909T140000
DTEND;TZID=America/New_York:20290909T160000
DTSTAMP:20260422T070709
CREATED:20260301T092616Z
LAST-MODIFIED:20260301T092616Z
UID:10012006-1883656800-1883664000@heartlandlakescommunitycalendar.com
SUMMARY:Sunday Meat Raffle
DESCRIPTION:Make it a Sunday Funday with Mandatory Fun Outdoors’ weekly meat raffle in Emmaville. Enjoy drinks\, appetizers\, and a good time!
URL:https://heartlandlakescommunitycalendar.com/index.php/event/sunday-meat-raffle/2029-09-09/
LOCATION:Emmaville Inn and Cafe\, 28021 County 4\, Park Rapids\, MN\, 56470\, United States
CATEGORIES:Entertainment
ATTACH;FMTTYPE=image/jpeg:https://heartlandlakescommunitycalendar.com/wp-content/uploads/2026/03/630433450_122172222890776256_5251886797231679564_n.jpg
ORGANIZER;CN="Mandatory Fun Outdoors":MAILTO:mfo.information@gmail.com
END:VEVENT
BEGIN:VEVENT
DTSTART;TZID=America/New_York:20290916T140000
DTEND;TZID=America/New_York:20290916T160000
DTSTAMP:20260422T070709
CREATED:20260301T092616Z
LAST-MODIFIED:20260301T092616Z
UID:10012007-1884261600-1884268800@heartlandlakescommunitycalendar.com
SUMMARY:Sunday Meat Raffle
DESCRIPTION:Make it a Sunday Funday with Mandatory Fun Outdoors’ weekly meat raffle in Emmaville. Enjoy drinks\, appetizers\, and a good time!
URL:https://heartlandlakescommunitycalendar.com/index.php/event/sunday-meat-raffle/2029-09-16/
LOCATION:Emmaville Inn and Cafe\, 28021 County 4\, Park Rapids\, MN\, 56470\, United States
CATEGORIES:Entertainment
ATTACH;FMTTYPE=image/jpeg:https://heartlandlakescommunitycalendar.com/wp-content/uploads/2026/03/630433450_122172222890776256_5251886797231679564_n.jpg
ORGANIZER;CN="Mandatory Fun Outdoors":MAILTO:mfo.information@gmail.com
END:VEVENT
BEGIN:VEVENT
DTSTART;TZID=America/New_York:20290923T140000
DTEND;TZID=America/New_York:20290923T160000
DTSTAMP:20260422T070709
CREATED:20260301T092616Z
LAST-MODIFIED:20260301T092616Z
UID:10012008-1884866400-1884873600@heartlandlakescommunitycalendar.com
SUMMARY:Sunday Meat Raffle
DESCRIPTION:Make it a Sunday Funday with Mandatory Fun Outdoors’ weekly meat raffle in Emmaville. Enjoy drinks\, appetizers\, and a good time!
URL:https://heartlandlakescommunitycalendar.com/index.php/event/sunday-meat-raffle/2029-09-23/
LOCATION:Emmaville Inn and Cafe\, 28021 County 4\, Park Rapids\, MN\, 56470\, United States
CATEGORIES:Entertainment
ATTACH;FMTTYPE=image/jpeg:https://heartlandlakescommunitycalendar.com/wp-content/uploads/2026/03/630433450_122172222890776256_5251886797231679564_n.jpg
ORGANIZER;CN="Mandatory Fun Outdoors":MAILTO:mfo.information@gmail.com
END:VEVENT
BEGIN:VEVENT
DTSTART;TZID=America/New_York:20290930T140000
DTEND;TZID=America/New_York:20290930T160000
DTSTAMP:20260422T070709
CREATED:20260301T092616Z
LAST-MODIFIED:20260301T092616Z
UID:10012009-1885471200-1885478400@heartlandlakescommunitycalendar.com
SUMMARY:Sunday Meat Raffle
DESCRIPTION:Make it a Sunday Funday with Mandatory Fun Outdoors’ weekly meat raffle in Emmaville. Enjoy drinks\, appetizers\, and a good time!
URL:https://heartlandlakescommunitycalendar.com/index.php/event/sunday-meat-raffle/2029-09-30/
LOCATION:Emmaville Inn and Cafe\, 28021 County 4\, Park Rapids\, MN\, 56470\, United States
CATEGORIES:Entertainment
ATTACH;FMTTYPE=image/jpeg:https://heartlandlakescommunitycalendar.com/wp-content/uploads/2026/03/630433450_122172222890776256_5251886797231679564_n.jpg
ORGANIZER;CN="Mandatory Fun Outdoors":MAILTO:mfo.information@gmail.com
END:VEVENT
BEGIN:VEVENT
DTSTART;TZID=America/New_York:20291007T140000
DTEND;TZID=America/New_York:20291007T160000
DTSTAMP:20260422T070709
CREATED:20260301T092616Z
LAST-MODIFIED:20260301T092616Z
UID:10012010-1886076000-1886083200@heartlandlakescommunitycalendar.com
SUMMARY:Sunday Meat Raffle
DESCRIPTION:Make it a Sunday Funday with Mandatory Fun Outdoors’ weekly meat raffle in Emmaville. Enjoy drinks\, appetizers\, and a good time!
URL:https://heartlandlakescommunitycalendar.com/index.php/event/sunday-meat-raffle/2029-10-07/
LOCATION:Emmaville Inn and Cafe\, 28021 County 4\, Park Rapids\, MN\, 56470\, United States
CATEGORIES:Entertainment
ATTACH;FMTTYPE=image/jpeg:https://heartlandlakescommunitycalendar.com/wp-content/uploads/2026/03/630433450_122172222890776256_5251886797231679564_n.jpg
ORGANIZER;CN="Mandatory Fun Outdoors":MAILTO:mfo.information@gmail.com
END:VEVENT
BEGIN:VEVENT
DTSTART;TZID=America/New_York:20291014T140000
DTEND;TZID=America/New_York:20291014T160000
DTSTAMP:20260422T070709
CREATED:20260301T092616Z
LAST-MODIFIED:20260301T092616Z
UID:10012011-1886680800-1886688000@heartlandlakescommunitycalendar.com
SUMMARY:Sunday Meat Raffle
DESCRIPTION:Make it a Sunday Funday with Mandatory Fun Outdoors’ weekly meat raffle in Emmaville. Enjoy drinks\, appetizers\, and a good time!
URL:https://heartlandlakescommunitycalendar.com/index.php/event/sunday-meat-raffle/2029-10-14/
LOCATION:Emmaville Inn and Cafe\, 28021 County 4\, Park Rapids\, MN\, 56470\, United States
CATEGORIES:Entertainment
ATTACH;FMTTYPE=image/jpeg:https://heartlandlakescommunitycalendar.com/wp-content/uploads/2026/03/630433450_122172222890776256_5251886797231679564_n.jpg
ORGANIZER;CN="Mandatory Fun Outdoors":MAILTO:mfo.information@gmail.com
END:VEVENT
BEGIN:VEVENT
DTSTART;TZID=America/New_York:20291021T140000
DTEND;TZID=America/New_York:20291021T160000
DTSTAMP:20260422T070709
CREATED:20260301T092616Z
LAST-MODIFIED:20260301T092616Z
UID:10012012-1887285600-1887292800@heartlandlakescommunitycalendar.com
SUMMARY:Sunday Meat Raffle
DESCRIPTION:Make it a Sunday Funday with Mandatory Fun Outdoors’ weekly meat raffle in Emmaville. Enjoy drinks\, appetizers\, and a good time!
URL:https://heartlandlakescommunitycalendar.com/index.php/event/sunday-meat-raffle/2029-10-21/
LOCATION:Emmaville Inn and Cafe\, 28021 County 4\, Park Rapids\, MN\, 56470\, United States
CATEGORIES:Entertainment
ATTACH;FMTTYPE=image/jpeg:https://heartlandlakescommunitycalendar.com/wp-content/uploads/2026/03/630433450_122172222890776256_5251886797231679564_n.jpg
ORGANIZER;CN="Mandatory Fun Outdoors":MAILTO:mfo.information@gmail.com
END:VEVENT
BEGIN:VEVENT
DTSTART;TZID=America/New_York:20291028T140000
DTEND;TZID=America/New_York:20291028T160000
DTSTAMP:20260422T070709
CREATED:20260301T092616Z
LAST-MODIFIED:20260301T092616Z
UID:10012013-1887890400-1887897600@heartlandlakescommunitycalendar.com
SUMMARY:Sunday Meat Raffle
DESCRIPTION:Make it a Sunday Funday with Mandatory Fun Outdoors’ weekly meat raffle in Emmaville. Enjoy drinks\, appetizers\, and a good time!
URL:https://heartlandlakescommunitycalendar.com/index.php/event/sunday-meat-raffle/2029-10-28/
LOCATION:Emmaville Inn and Cafe\, 28021 County 4\, Park Rapids\, MN\, 56470\, United States
CATEGORIES:Entertainment
ATTACH;FMTTYPE=image/jpeg:https://heartlandlakescommunitycalendar.com/wp-content/uploads/2026/03/630433450_122172222890776256_5251886797231679564_n.jpg
ORGANIZER;CN="Mandatory Fun Outdoors":MAILTO:mfo.information@gmail.com
END:VEVENT
BEGIN:VEVENT
DTSTART;TZID=America/New_York:20291104T140000
DTEND;TZID=America/New_York:20291104T160000
DTSTAMP:20260422T070709
CREATED:20260301T092616Z
LAST-MODIFIED:20260301T092616Z
UID:10012014-1888495200-1888502400@heartlandlakescommunitycalendar.com
SUMMARY:Sunday Meat Raffle
DESCRIPTION:Make it a Sunday Funday with Mandatory Fun Outdoors’ weekly meat raffle in Emmaville. Enjoy drinks\, appetizers\, and a good time!
URL:https://heartlandlakescommunitycalendar.com/index.php/event/sunday-meat-raffle/2029-11-04/
LOCATION:Emmaville Inn and Cafe\, 28021 County 4\, Park Rapids\, MN\, 56470\, United States
CATEGORIES:Entertainment
ATTACH;FMTTYPE=image/jpeg:https://heartlandlakescommunitycalendar.com/wp-content/uploads/2026/03/630433450_122172222890776256_5251886797231679564_n.jpg
ORGANIZER;CN="Mandatory Fun Outdoors":MAILTO:mfo.information@gmail.com
END:VEVENT
BEGIN:VEVENT
DTSTART;TZID=America/New_York:20291111T140000
DTEND;TZID=America/New_York:20291111T160000
DTSTAMP:20260422T070709
CREATED:20260301T092616Z
LAST-MODIFIED:20260301T092616Z
UID:10012015-1889100000-1889107200@heartlandlakescommunitycalendar.com
SUMMARY:Sunday Meat Raffle
DESCRIPTION:Make it a Sunday Funday with Mandatory Fun Outdoors’ weekly meat raffle in Emmaville. Enjoy drinks\, appetizers\, and a good time!
URL:https://heartlandlakescommunitycalendar.com/index.php/event/sunday-meat-raffle/2029-11-11/
LOCATION:Emmaville Inn and Cafe\, 28021 County 4\, Park Rapids\, MN\, 56470\, United States
CATEGORIES:Entertainment
ATTACH;FMTTYPE=image/jpeg:https://heartlandlakescommunitycalendar.com/wp-content/uploads/2026/03/630433450_122172222890776256_5251886797231679564_n.jpg
ORGANIZER;CN="Mandatory Fun Outdoors":MAILTO:mfo.information@gmail.com
END:VEVENT
BEGIN:VEVENT
DTSTART;TZID=America/New_York:20291118T140000
DTEND;TZID=America/New_York:20291118T160000
DTSTAMP:20260422T070709
CREATED:20260301T092616Z
LAST-MODIFIED:20260301T092616Z
UID:10012016-1889704800-1889712000@heartlandlakescommunitycalendar.com
SUMMARY:Sunday Meat Raffle
DESCRIPTION:Make it a Sunday Funday with Mandatory Fun Outdoors’ weekly meat raffle in Emmaville. Enjoy drinks\, appetizers\, and a good time!
URL:https://heartlandlakescommunitycalendar.com/index.php/event/sunday-meat-raffle/2029-11-18/
LOCATION:Emmaville Inn and Cafe\, 28021 County 4\, Park Rapids\, MN\, 56470\, United States
CATEGORIES:Entertainment
ATTACH;FMTTYPE=image/jpeg:https://heartlandlakescommunitycalendar.com/wp-content/uploads/2026/03/630433450_122172222890776256_5251886797231679564_n.jpg
ORGANIZER;CN="Mandatory Fun Outdoors":MAILTO:mfo.information@gmail.com
END:VEVENT
BEGIN:VEVENT
DTSTART;TZID=America/New_York:20291125T140000
DTEND;TZID=America/New_York:20291125T160000
DTSTAMP:20260422T070709
CREATED:20260301T092616Z
LAST-MODIFIED:20260301T092616Z
UID:10012017-1890309600-1890316800@heartlandlakescommunitycalendar.com
SUMMARY:Sunday Meat Raffle
DESCRIPTION:Make it a Sunday Funday with Mandatory Fun Outdoors’ weekly meat raffle in Emmaville. Enjoy drinks\, appetizers\, and a good time!
URL:https://heartlandlakescommunitycalendar.com/index.php/event/sunday-meat-raffle/2029-11-25/
LOCATION:Emmaville Inn and Cafe\, 28021 County 4\, Park Rapids\, MN\, 56470\, United States
CATEGORIES:Entertainment
ATTACH;FMTTYPE=image/jpeg:https://heartlandlakescommunitycalendar.com/wp-content/uploads/2026/03/630433450_122172222890776256_5251886797231679564_n.jpg
ORGANIZER;CN="Mandatory Fun Outdoors":MAILTO:mfo.information@gmail.com
END:VEVENT
BEGIN:VEVENT
DTSTART;TZID=America/New_York:20291202T140000
DTEND;TZID=America/New_York:20291202T160000
DTSTAMP:20260422T070709
CREATED:20260301T092616Z
LAST-MODIFIED:20260301T092616Z
UID:10012018-1890914400-1890921600@heartlandlakescommunitycalendar.com
SUMMARY:Sunday Meat Raffle
DESCRIPTION:Make it a Sunday Funday with Mandatory Fun Outdoors’ weekly meat raffle in Emmaville. Enjoy drinks\, appetizers\, and a good time!
URL:https://heartlandlakescommunitycalendar.com/index.php/event/sunday-meat-raffle/2029-12-02/
LOCATION:Emmaville Inn and Cafe\, 28021 County 4\, Park Rapids\, MN\, 56470\, United States
CATEGORIES:Entertainment
ATTACH;FMTTYPE=image/jpeg:https://heartlandlakescommunitycalendar.com/wp-content/uploads/2026/03/630433450_122172222890776256_5251886797231679564_n.jpg
ORGANIZER;CN="Mandatory Fun Outdoors":MAILTO:mfo.information@gmail.com
END:VEVENT
BEGIN:VEVENT
DTSTART;TZID=America/New_York:20291209T140000
DTEND;TZID=America/New_York:20291209T160000
DTSTAMP:20260422T070709
CREATED:20260301T092616Z
LAST-MODIFIED:20260301T092616Z
UID:10012019-1891519200-1891526400@heartlandlakescommunitycalendar.com
SUMMARY:Sunday Meat Raffle
DESCRIPTION:Make it a Sunday Funday with Mandatory Fun Outdoors’ weekly meat raffle in Emmaville. Enjoy drinks\, appetizers\, and a good time!
URL:https://heartlandlakescommunitycalendar.com/index.php/event/sunday-meat-raffle/2029-12-09/
LOCATION:Emmaville Inn and Cafe\, 28021 County 4\, Park Rapids\, MN\, 56470\, United States
CATEGORIES:Entertainment
ATTACH;FMTTYPE=image/jpeg:https://heartlandlakescommunitycalendar.com/wp-content/uploads/2026/03/630433450_122172222890776256_5251886797231679564_n.jpg
ORGANIZER;CN="Mandatory Fun Outdoors":MAILTO:mfo.information@gmail.com
END:VEVENT
BEGIN:VEVENT
DTSTART;TZID=America/New_York:20291216T140000
DTEND;TZID=America/New_York:20291216T160000
DTSTAMP:20260422T070709
CREATED:20260301T092616Z
LAST-MODIFIED:20260301T092616Z
UID:10012020-1892124000-1892131200@heartlandlakescommunitycalendar.com
SUMMARY:Sunday Meat Raffle
DESCRIPTION:Make it a Sunday Funday with Mandatory Fun Outdoors’ weekly meat raffle in Emmaville. Enjoy drinks\, appetizers\, and a good time!
URL:https://heartlandlakescommunitycalendar.com/index.php/event/sunday-meat-raffle/2029-12-16/
LOCATION:Emmaville Inn and Cafe\, 28021 County 4\, Park Rapids\, MN\, 56470\, United States
CATEGORIES:Entertainment
ATTACH;FMTTYPE=image/jpeg:https://heartlandlakescommunitycalendar.com/wp-content/uploads/2026/03/630433450_122172222890776256_5251886797231679564_n.jpg
ORGANIZER;CN="Mandatory Fun Outdoors":MAILTO:mfo.information@gmail.com
END:VEVENT
BEGIN:VEVENT
DTSTART;TZID=America/New_York:20291223T140000
DTEND;TZID=America/New_York:20291223T160000
DTSTAMP:20260422T070709
CREATED:20260301T092616Z
LAST-MODIFIED:20260301T092616Z
UID:10012021-1892728800-1892736000@heartlandlakescommunitycalendar.com
SUMMARY:Sunday Meat Raffle
DESCRIPTION:Make it a Sunday Funday with Mandatory Fun Outdoors’ weekly meat raffle in Emmaville. Enjoy drinks\, appetizers\, and a good time!
URL:https://heartlandlakescommunitycalendar.com/index.php/event/sunday-meat-raffle/2029-12-23/
LOCATION:Emmaville Inn and Cafe\, 28021 County 4\, Park Rapids\, MN\, 56470\, United States
CATEGORIES:Entertainment
ATTACH;FMTTYPE=image/jpeg:https://heartlandlakescommunitycalendar.com/wp-content/uploads/2026/03/630433450_122172222890776256_5251886797231679564_n.jpg
ORGANIZER;CN="Mandatory Fun Outdoors":MAILTO:mfo.information@gmail.com
END:VEVENT
BEGIN:VEVENT
DTSTART;TZID=America/New_York:20291230T140000
DTEND;TZID=America/New_York:20291230T160000
DTSTAMP:20260422T070709
CREATED:20260301T092616Z
LAST-MODIFIED:20260301T092616Z
UID:10012022-1893333600-1893340800@heartlandlakescommunitycalendar.com
SUMMARY:Sunday Meat Raffle
DESCRIPTION:Make it a Sunday Funday with Mandatory Fun Outdoors’ weekly meat raffle in Emmaville. Enjoy drinks\, appetizers\, and a good time!
URL:https://heartlandlakescommunitycalendar.com/index.php/event/sunday-meat-raffle/2029-12-30/
LOCATION:Emmaville Inn and Cafe\, 28021 County 4\, Park Rapids\, MN\, 56470\, United States
CATEGORIES:Entertainment
ATTACH;FMTTYPE=image/jpeg:https://heartlandlakescommunitycalendar.com/wp-content/uploads/2026/03/630433450_122172222890776256_5251886797231679564_n.jpg
ORGANIZER;CN="Mandatory Fun Outdoors":MAILTO:mfo.information@gmail.com
END:VEVENT
BEGIN:VEVENT
DTSTART;TZID=America/New_York:20300106T140000
DTEND;TZID=America/New_York:20300106T160000
DTSTAMP:20260422T070709
CREATED:20260301T092616Z
LAST-MODIFIED:20260301T092616Z
UID:10012023-1893938400-1893945600@heartlandlakescommunitycalendar.com
SUMMARY:Sunday Meat Raffle
DESCRIPTION:Make it a Sunday Funday with Mandatory Fun Outdoors’ weekly meat raffle in Emmaville. Enjoy drinks\, appetizers\, and a good time!
URL:https://heartlandlakescommunitycalendar.com/index.php/event/sunday-meat-raffle/2030-01-06/
LOCATION:Emmaville Inn and Cafe\, 28021 County 4\, Park Rapids\, MN\, 56470\, United States
CATEGORIES:Entertainment
ATTACH;FMTTYPE=image/jpeg:https://heartlandlakescommunitycalendar.com/wp-content/uploads/2026/03/630433450_122172222890776256_5251886797231679564_n.jpg
ORGANIZER;CN="Mandatory Fun Outdoors":MAILTO:mfo.information@gmail.com
END:VEVENT
BEGIN:VEVENT
DTSTART;TZID=America/New_York:20300113T140000
DTEND;TZID=America/New_York:20300113T160000
DTSTAMP:20260422T070709
CREATED:20260301T092616Z
LAST-MODIFIED:20260301T092616Z
UID:10012024-1894543200-1894550400@heartlandlakescommunitycalendar.com
SUMMARY:Sunday Meat Raffle
DESCRIPTION:Make it a Sunday Funday with Mandatory Fun Outdoors’ weekly meat raffle in Emmaville. Enjoy drinks\, appetizers\, and a good time!
URL:https://heartlandlakescommunitycalendar.com/index.php/event/sunday-meat-raffle/2030-01-13/
LOCATION:Emmaville Inn and Cafe\, 28021 County 4\, Park Rapids\, MN\, 56470\, United States
CATEGORIES:Entertainment
ATTACH;FMTTYPE=image/jpeg:https://heartlandlakescommunitycalendar.com/wp-content/uploads/2026/03/630433450_122172222890776256_5251886797231679564_n.jpg
ORGANIZER;CN="Mandatory Fun Outdoors":MAILTO:mfo.information@gmail.com
END:VEVENT
BEGIN:VEVENT
DTSTART;TZID=America/New_York:20300120T140000
DTEND;TZID=America/New_York:20300120T160000
DTSTAMP:20260422T070709
CREATED:20260301T092616Z
LAST-MODIFIED:20260301T092616Z
UID:10012025-1895148000-1895155200@heartlandlakescommunitycalendar.com
SUMMARY:Sunday Meat Raffle
DESCRIPTION:Make it a Sunday Funday with Mandatory Fun Outdoors’ weekly meat raffle in Emmaville. Enjoy drinks\, appetizers\, and a good time!
URL:https://heartlandlakescommunitycalendar.com/index.php/event/sunday-meat-raffle/2030-01-20/
LOCATION:Emmaville Inn and Cafe\, 28021 County 4\, Park Rapids\, MN\, 56470\, United States
CATEGORIES:Entertainment
ATTACH;FMTTYPE=image/jpeg:https://heartlandlakescommunitycalendar.com/wp-content/uploads/2026/03/630433450_122172222890776256_5251886797231679564_n.jpg
ORGANIZER;CN="Mandatory Fun Outdoors":MAILTO:mfo.information@gmail.com
END:VEVENT
BEGIN:VEVENT
DTSTART;TZID=America/New_York:20300127T140000
DTEND;TZID=America/New_York:20300127T160000
DTSTAMP:20260422T070709
CREATED:20260301T092616Z
LAST-MODIFIED:20260301T092616Z
UID:10012026-1895752800-1895760000@heartlandlakescommunitycalendar.com
SUMMARY:Sunday Meat Raffle
DESCRIPTION:Make it a Sunday Funday with Mandatory Fun Outdoors’ weekly meat raffle in Emmaville. Enjoy drinks\, appetizers\, and a good time!
URL:https://heartlandlakescommunitycalendar.com/index.php/event/sunday-meat-raffle/2030-01-27/
LOCATION:Emmaville Inn and Cafe\, 28021 County 4\, Park Rapids\, MN\, 56470\, United States
CATEGORIES:Entertainment
ATTACH;FMTTYPE=image/jpeg:https://heartlandlakescommunitycalendar.com/wp-content/uploads/2026/03/630433450_122172222890776256_5251886797231679564_n.jpg
ORGANIZER;CN="Mandatory Fun Outdoors":MAILTO:mfo.information@gmail.com
END:VEVENT
BEGIN:VEVENT
DTSTART;TZID=America/New_York:20300203T140000
DTEND;TZID=America/New_York:20300203T160000
DTSTAMP:20260422T070709
CREATED:20260301T092616Z
LAST-MODIFIED:20260301T092616Z
UID:10012027-1896357600-1896364800@heartlandlakescommunitycalendar.com
SUMMARY:Sunday Meat Raffle
DESCRIPTION:Make it a Sunday Funday with Mandatory Fun Outdoors’ weekly meat raffle in Emmaville. Enjoy drinks\, appetizers\, and a good time!
URL:https://heartlandlakescommunitycalendar.com/index.php/event/sunday-meat-raffle/2030-02-03/
LOCATION:Emmaville Inn and Cafe\, 28021 County 4\, Park Rapids\, MN\, 56470\, United States
CATEGORIES:Entertainment
ATTACH;FMTTYPE=image/jpeg:https://heartlandlakescommunitycalendar.com/wp-content/uploads/2026/03/630433450_122172222890776256_5251886797231679564_n.jpg
ORGANIZER;CN="Mandatory Fun Outdoors":MAILTO:mfo.information@gmail.com
END:VEVENT
END:VCALENDAR