BEGIN:VCALENDAR
VERSION:2.0
PRODID:-//The Heartland Lakes Community Calendar - ECPv6.3.7//NONSGML v1.0//EN
CALSCALE:GREGORIAN
METHOD:PUBLISH
X-WR-CALNAME:The Heartland Lakes Community Calendar
X-ORIGINAL-URL:https://heartlandlakescommunitycalendar.com
X-WR-CALDESC:Events for The Heartland Lakes Community Calendar
REFRESH-INTERVAL;VALUE=DURATION:PT1H
X-Robots-Tag:noindex
X-PUBLISHED-TTL:PT1H
BEGIN:VTIMEZONE
TZID:America/New_York
BEGIN:DAYLIGHT
TZOFFSETFROM:-0500
TZOFFSETTO:-0400
TZNAME:EDT
DTSTART:20250309T070000
END:DAYLIGHT
BEGIN:STANDARD
TZOFFSETFROM:-0400
TZOFFSETTO:-0500
TZNAME:EST
DTSTART:20251102T060000
END:STANDARD
TZID:UTC
BEGIN:STANDARD
TZOFFSETFROM:+0000
TZOFFSETTO:+0000
TZNAME:UTC
DTSTART:20250101T000000
END:STANDARD
END:VTIMEZONE
BEGIN:VEVENT
DTSTART;TZID=America/New_York:20251213T110000
DTEND;TZID=America/New_York:20251213T120000
DTSTAMP:20260424T083616
CREATED:20251204T150943Z
LAST-MODIFIED:20251204T150943Z
UID:10011029-1765623600-1765627200@heartlandlakescommunitycalendar.com
SUMMARY:Build a Geodesic Dome - 2nd Saturday STEM
DESCRIPTION:A Geodesic dome is a sphere-like structure made of interconnected triangles. They are strong for their size. You will use toothpicks and gummy candy to create yours! \n2nd Saturday STEM meets the second Saturday of every month in Large Meeting Room at 11am. Every month is a different activity! Join us! \nThis event is open to all ages. We only ask that participants 8-years-old and younger are accompanied by an older participant.
URL:https://heartlandlakescommunitycalendar.com/index.php/event/build-a-geodesic-dome-2nd-saturday-stem/
LOCATION:Park Rapids Area Library\, 210 1st St W\, Park Rapids\, MN\, 56470\, United States
CATEGORIES:Education
ATTACH;FMTTYPE=image/png:https://heartlandlakescommunitycalendar.com/wp-content/uploads/2025/12/unnamed-2.png
ORGANIZER;CN="Park Rapids Area Library":MAILTO:parkrapids@krls.org
END:VEVENT
BEGIN:VEVENT
DTSTART;TZID=UTC:20251212T103000
DTEND;TZID=UTC:20251212T113000
DTSTAMP:20260424T083616
CREATED:20240324T063814Z
LAST-MODIFIED:20240324T064635Z
UID:10001408-1765535400-1765539000@heartlandlakescommunitycalendar.com
SUMMARY:Storytime
DESCRIPTION:Join us for stories and activities for children and the adults who care for them!
URL:https://heartlandlakescommunitycalendar.com/index.php/event/storytime/2025-12-12/
LOCATION:Park Rapids Area Library\, 210 1st St W\, Park Rapids\, MN\, 56470\, United States
CATEGORIES:Education
ATTACH;FMTTYPE=image/png:https://heartlandlakescommunitycalendar.com/wp-content/uploads/2024/03/Storytime-graphic-1-1.png
ORGANIZER;CN="Park Rapids Area Library":MAILTO:parkrapids@krls.org
END:VEVENT
BEGIN:VEVENT
DTSTART;TZID=America/New_York:20251212T093000
DTEND;TZID=America/New_York:20251212T163000
DTSTAMP:20260424T083616
CREATED:20251204T131335Z
LAST-MODIFIED:20260102T000948Z
UID:10010973-1765531800-1765557000@heartlandlakescommunitycalendar.com
SUMMARY:Find Me Fridays featuring Libby the Library Elf
DESCRIPTION:Kids LOVE looking for Libby! Is she on a shelf? On a stack of books? On a bookcase? Stop by the Park Rapids Area Library on Fridays in December and try to find our friend. Every successful search earns a treat!
URL:https://heartlandlakescommunitycalendar.com/index.php/event/find-me-fridays-featuring-libby-the-library-elf/2025-12-12/
LOCATION:Park Rapids Area Library\, 210 1st St W\, Park Rapids\, MN\, 56470\, United States
CATEGORIES:Literature
ATTACH;FMTTYPE=image/png:https://heartlandlakescommunitycalendar.com/wp-content/uploads/2025/12/unnamed.png
ORGANIZER;CN="Park Rapids Area Library":MAILTO:parkrapids@krls.org
END:VEVENT
BEGIN:VEVENT
DTSTART;TZID=UTC:20251205T103000
DTEND;TZID=UTC:20251205T113000
DTSTAMP:20260424T083616
CREATED:20240324T063814Z
LAST-MODIFIED:20240324T064635Z
UID:10001407-1764930600-1764934200@heartlandlakescommunitycalendar.com
SUMMARY:Storytime
DESCRIPTION:Join us for stories and activities for children and the adults who care for them!
URL:https://heartlandlakescommunitycalendar.com/index.php/event/storytime/2025-12-05/
LOCATION:Park Rapids Area Library\, 210 1st St W\, Park Rapids\, MN\, 56470\, United States
CATEGORIES:Education
ATTACH;FMTTYPE=image/png:https://heartlandlakescommunitycalendar.com/wp-content/uploads/2024/03/Storytime-graphic-1-1.png
ORGANIZER;CN="Park Rapids Area Library":MAILTO:parkrapids@krls.org
END:VEVENT
BEGIN:VEVENT
DTSTART;TZID=America/New_York:20251205T093000
DTEND;TZID=America/New_York:20251205T163000
DTSTAMP:20260424T083616
CREATED:20251204T131335Z
LAST-MODIFIED:20260102T000948Z
UID:10010972-1764927000-1764952200@heartlandlakescommunitycalendar.com
SUMMARY:Find Me Fridays featuring Libby the Library Elf
DESCRIPTION:Kids LOVE looking for Libby! Is she on a shelf? On a stack of books? On a bookcase? Stop by the Park Rapids Area Library on Fridays in December and try to find our friend. Every successful search earns a treat!
URL:https://heartlandlakescommunitycalendar.com/index.php/event/find-me-fridays-featuring-libby-the-library-elf/2025-12-05/
LOCATION:Park Rapids Area Library\, 210 1st St W\, Park Rapids\, MN\, 56470\, United States
CATEGORIES:Literature
ATTACH;FMTTYPE=image/png:https://heartlandlakescommunitycalendar.com/wp-content/uploads/2025/12/unnamed.png
ORGANIZER;CN="Park Rapids Area Library":MAILTO:parkrapids@krls.org
END:VEVENT
BEGIN:VEVENT
DTSTART;TZID=UTC:20251128T103000
DTEND;TZID=UTC:20251128T113000
DTSTAMP:20260424T083616
CREATED:20240324T063814Z
LAST-MODIFIED:20240324T064635Z
UID:10001406-1764325800-1764329400@heartlandlakescommunitycalendar.com
SUMMARY:Storytime
DESCRIPTION:Join us for stories and activities for children and the adults who care for them!
URL:https://heartlandlakescommunitycalendar.com/index.php/event/storytime/2025-11-28/
LOCATION:Park Rapids Area Library\, 210 1st St W\, Park Rapids\, MN\, 56470\, United States
CATEGORIES:Education
ATTACH;FMTTYPE=image/png:https://heartlandlakescommunitycalendar.com/wp-content/uploads/2024/03/Storytime-graphic-1-1.png
ORGANIZER;CN="Park Rapids Area Library":MAILTO:parkrapids@krls.org
END:VEVENT
BEGIN:VEVENT
DTSTART;TZID=UTC:20251121T103000
DTEND;TZID=UTC:20251121T113000
DTSTAMP:20260424T083616
CREATED:20240324T063814Z
LAST-MODIFIED:20240324T064635Z
UID:10001405-1763721000-1763724600@heartlandlakescommunitycalendar.com
SUMMARY:Storytime
DESCRIPTION:Join us for stories and activities for children and the adults who care for them!
URL:https://heartlandlakescommunitycalendar.com/index.php/event/storytime/2025-11-21/
LOCATION:Park Rapids Area Library\, 210 1st St W\, Park Rapids\, MN\, 56470\, United States
CATEGORIES:Education
ATTACH;FMTTYPE=image/png:https://heartlandlakescommunitycalendar.com/wp-content/uploads/2024/03/Storytime-graphic-1-1.png
ORGANIZER;CN="Park Rapids Area Library":MAILTO:parkrapids@krls.org
END:VEVENT
BEGIN:VEVENT
DTSTART;TZID=UTC:20251114T103000
DTEND;TZID=UTC:20251114T113000
DTSTAMP:20260424T083616
CREATED:20240324T063814Z
LAST-MODIFIED:20240324T064635Z
UID:10001404-1763116200-1763119800@heartlandlakescommunitycalendar.com
SUMMARY:Storytime
DESCRIPTION:Join us for stories and activities for children and the adults who care for them!
URL:https://heartlandlakescommunitycalendar.com/index.php/event/storytime/2025-11-14/
LOCATION:Park Rapids Area Library\, 210 1st St W\, Park Rapids\, MN\, 56470\, United States
CATEGORIES:Education
ATTACH;FMTTYPE=image/png:https://heartlandlakescommunitycalendar.com/wp-content/uploads/2024/03/Storytime-graphic-1-1.png
ORGANIZER;CN="Park Rapids Area Library":MAILTO:parkrapids@krls.org
END:VEVENT
BEGIN:VEVENT
DTSTART;TZID=UTC:20251107T103000
DTEND;TZID=UTC:20251107T113000
DTSTAMP:20260424T083616
CREATED:20240324T063814Z
LAST-MODIFIED:20240324T064635Z
UID:10001403-1762511400-1762515000@heartlandlakescommunitycalendar.com
SUMMARY:Storytime
DESCRIPTION:Join us for stories and activities for children and the adults who care for them!
URL:https://heartlandlakescommunitycalendar.com/index.php/event/storytime/2025-11-07/
LOCATION:Park Rapids Area Library\, 210 1st St W\, Park Rapids\, MN\, 56470\, United States
CATEGORIES:Education
ATTACH;FMTTYPE=image/png:https://heartlandlakescommunitycalendar.com/wp-content/uploads/2024/03/Storytime-graphic-1-1.png
ORGANIZER;CN="Park Rapids Area Library":MAILTO:parkrapids@krls.org
END:VEVENT
BEGIN:VEVENT
DTSTART;TZID=UTC:20251031T103000
DTEND;TZID=UTC:20251031T113000
DTSTAMP:20260424T083616
CREATED:20240324T063814Z
LAST-MODIFIED:20240324T064635Z
UID:10001402-1761906600-1761910200@heartlandlakescommunitycalendar.com
SUMMARY:Storytime
DESCRIPTION:Join us for stories and activities for children and the adults who care for them!
URL:https://heartlandlakescommunitycalendar.com/index.php/event/storytime/2025-10-31/
LOCATION:Park Rapids Area Library\, 210 1st St W\, Park Rapids\, MN\, 56470\, United States
CATEGORIES:Education
ATTACH;FMTTYPE=image/png:https://heartlandlakescommunitycalendar.com/wp-content/uploads/2024/03/Storytime-graphic-1-1.png
ORGANIZER;CN="Park Rapids Area Library":MAILTO:parkrapids@krls.org
END:VEVENT
BEGIN:VEVENT
DTSTART;TZID=UTC:20251024T103000
DTEND;TZID=UTC:20251024T113000
DTSTAMP:20260424T083616
CREATED:20240324T063814Z
LAST-MODIFIED:20240324T064635Z
UID:10001401-1761301800-1761305400@heartlandlakescommunitycalendar.com
SUMMARY:Storytime
DESCRIPTION:Join us for stories and activities for children and the adults who care for them!
URL:https://heartlandlakescommunitycalendar.com/index.php/event/storytime/2025-10-24/
LOCATION:Park Rapids Area Library\, 210 1st St W\, Park Rapids\, MN\, 56470\, United States
CATEGORIES:Education
ATTACH;FMTTYPE=image/png:https://heartlandlakescommunitycalendar.com/wp-content/uploads/2024/03/Storytime-graphic-1-1.png
ORGANIZER;CN="Park Rapids Area Library":MAILTO:parkrapids@krls.org
END:VEVENT
BEGIN:VEVENT
DTSTART;TZID=UTC:20251017T103000
DTEND;TZID=UTC:20251017T113000
DTSTAMP:20260424T083616
CREATED:20240324T063814Z
LAST-MODIFIED:20240324T064635Z
UID:10001400-1760697000-1760700600@heartlandlakescommunitycalendar.com
SUMMARY:Storytime
DESCRIPTION:Join us for stories and activities for children and the adults who care for them!
URL:https://heartlandlakescommunitycalendar.com/index.php/event/storytime/2025-10-17/
LOCATION:Park Rapids Area Library\, 210 1st St W\, Park Rapids\, MN\, 56470\, United States
CATEGORIES:Education
ATTACH;FMTTYPE=image/png:https://heartlandlakescommunitycalendar.com/wp-content/uploads/2024/03/Storytime-graphic-1-1.png
ORGANIZER;CN="Park Rapids Area Library":MAILTO:parkrapids@krls.org
END:VEVENT
BEGIN:VEVENT
DTSTART;TZID=America/New_York:20251016T093000
DTEND;TZID=America/New_York:20251016T173000
DTSTAMP:20260424T083616
CREATED:20251010T055405Z
LAST-MODIFIED:20251010T055405Z
UID:10010957-1760607000-1760635800@heartlandlakescommunitycalendar.com
SUMMARY:Fall Crafters' Bonanza
DESCRIPTION:Calling all crafters\, creators\, and DIY lovers! Join us for the Fall Crafters’ Bonanza\,  a unique\, community-powered event where craft supplies find new life and new homes. \nHave extra fabric\, yarn\, beads\, paper\, or tools gathering dust? Donate them! Need something to inspire your next project? Come take what you need\,  no cost\, no strings attached. You don’t have to bring anything to participate\, just bring your creativity and community spirit! \nWhether you’re a seasoned artist or just starting your crafting journey\, this is the perfect chance to share\, connect\, and stock up on supplies for the season ahead.
URL:https://heartlandlakescommunitycalendar.com/index.php/event/fall-crafters-bonanza/
LOCATION:Park Rapids Area Library\, 210 1st St W\, Park Rapids\, MN\, 56470\, United States
CATEGORIES:Craft
ATTACH;FMTTYPE=image/png:https://heartlandlakescommunitycalendar.com/wp-content/uploads/2025/10/unnamed-13.png
ORGANIZER;CN="Park Rapids Area Library":MAILTO:parkrapids@krls.org
END:VEVENT
BEGIN:VEVENT
DTSTART;TZID=UTC:20251010T103000
DTEND;TZID=UTC:20251010T113000
DTSTAMP:20260424T083616
CREATED:20240324T063814Z
LAST-MODIFIED:20240324T064635Z
UID:10001399-1760092200-1760095800@heartlandlakescommunitycalendar.com
SUMMARY:Storytime
DESCRIPTION:Join us for stories and activities for children and the adults who care for them!
URL:https://heartlandlakescommunitycalendar.com/index.php/event/storytime/2025-10-10/
LOCATION:Park Rapids Area Library\, 210 1st St W\, Park Rapids\, MN\, 56470\, United States
CATEGORIES:Education
ATTACH;FMTTYPE=image/png:https://heartlandlakescommunitycalendar.com/wp-content/uploads/2024/03/Storytime-graphic-1-1.png
ORGANIZER;CN="Park Rapids Area Library":MAILTO:parkrapids@krls.org
END:VEVENT
BEGIN:VEVENT
DTSTART;TZID=UTC:20251003T103000
DTEND;TZID=UTC:20251003T113000
DTSTAMP:20260424T083616
CREATED:20240324T063814Z
LAST-MODIFIED:20240324T064635Z
UID:10001398-1759487400-1759491000@heartlandlakescommunitycalendar.com
SUMMARY:Storytime
DESCRIPTION:Join us for stories and activities for children and the adults who care for them!
URL:https://heartlandlakescommunitycalendar.com/index.php/event/storytime/2025-10-03/
LOCATION:Park Rapids Area Library\, 210 1st St W\, Park Rapids\, MN\, 56470\, United States
CATEGORIES:Education
ATTACH;FMTTYPE=image/png:https://heartlandlakescommunitycalendar.com/wp-content/uploads/2024/03/Storytime-graphic-1-1.png
ORGANIZER;CN="Park Rapids Area Library":MAILTO:parkrapids@krls.org
END:VEVENT
BEGIN:VEVENT
DTSTART;TZID=UTC:20250926T103000
DTEND;TZID=UTC:20250926T113000
DTSTAMP:20260424T083616
CREATED:20240324T063814Z
LAST-MODIFIED:20240324T064635Z
UID:10001397-1758882600-1758886200@heartlandlakescommunitycalendar.com
SUMMARY:Storytime
DESCRIPTION:Join us for stories and activities for children and the adults who care for them!
URL:https://heartlandlakescommunitycalendar.com/index.php/event/storytime/2025-09-26/
LOCATION:Park Rapids Area Library\, 210 1st St W\, Park Rapids\, MN\, 56470\, United States
CATEGORIES:Education
ATTACH;FMTTYPE=image/png:https://heartlandlakescommunitycalendar.com/wp-content/uploads/2024/03/Storytime-graphic-1-1.png
ORGANIZER;CN="Park Rapids Area Library":MAILTO:parkrapids@krls.org
END:VEVENT
BEGIN:VEVENT
DTSTART;TZID=UTC:20250919T103000
DTEND;TZID=UTC:20250919T113000
DTSTAMP:20260424T083616
CREATED:20240324T063814Z
LAST-MODIFIED:20240324T064635Z
UID:10001396-1758277800-1758281400@heartlandlakescommunitycalendar.com
SUMMARY:Storytime
DESCRIPTION:Join us for stories and activities for children and the adults who care for them!
URL:https://heartlandlakescommunitycalendar.com/index.php/event/storytime/2025-09-19/
LOCATION:Park Rapids Area Library\, 210 1st St W\, Park Rapids\, MN\, 56470\, United States
CATEGORIES:Education
ATTACH;FMTTYPE=image/png:https://heartlandlakescommunitycalendar.com/wp-content/uploads/2024/03/Storytime-graphic-1-1.png
ORGANIZER;CN="Park Rapids Area Library":MAILTO:parkrapids@krls.org
END:VEVENT
BEGIN:VEVENT
DTSTART;TZID=UTC:20250912T103000
DTEND;TZID=UTC:20250912T113000
DTSTAMP:20260424T083616
CREATED:20240324T063814Z
LAST-MODIFIED:20240324T064635Z
UID:10001395-1757673000-1757676600@heartlandlakescommunitycalendar.com
SUMMARY:Storytime
DESCRIPTION:Join us for stories and activities for children and the adults who care for them!
URL:https://heartlandlakescommunitycalendar.com/index.php/event/storytime/2025-09-12/
LOCATION:Park Rapids Area Library\, 210 1st St W\, Park Rapids\, MN\, 56470\, United States
CATEGORIES:Education
ATTACH;FMTTYPE=image/png:https://heartlandlakescommunitycalendar.com/wp-content/uploads/2024/03/Storytime-graphic-1-1.png
ORGANIZER;CN="Park Rapids Area Library":MAILTO:parkrapids@krls.org
END:VEVENT
BEGIN:VEVENT
DTSTART;TZID=UTC:20250905T103000
DTEND;TZID=UTC:20250905T113000
DTSTAMP:20260424T083616
CREATED:20240324T063814Z
LAST-MODIFIED:20240324T064635Z
UID:10001394-1757068200-1757071800@heartlandlakescommunitycalendar.com
SUMMARY:Storytime
DESCRIPTION:Join us for stories and activities for children and the adults who care for them!
URL:https://heartlandlakescommunitycalendar.com/index.php/event/storytime/2025-09-05/
LOCATION:Park Rapids Area Library\, 210 1st St W\, Park Rapids\, MN\, 56470\, United States
CATEGORIES:Education
ATTACH;FMTTYPE=image/png:https://heartlandlakescommunitycalendar.com/wp-content/uploads/2024/03/Storytime-graphic-1-1.png
ORGANIZER;CN="Park Rapids Area Library":MAILTO:parkrapids@krls.org
END:VEVENT
BEGIN:VEVENT
DTSTART;TZID=UTC:20250829T103000
DTEND;TZID=UTC:20250829T113000
DTSTAMP:20260424T083616
CREATED:20240324T063814Z
LAST-MODIFIED:20240324T064635Z
UID:10001393-1756463400-1756467000@heartlandlakescommunitycalendar.com
SUMMARY:Storytime
DESCRIPTION:Join us for stories and activities for children and the adults who care for them!
URL:https://heartlandlakescommunitycalendar.com/index.php/event/storytime/2025-08-29/
LOCATION:Park Rapids Area Library\, 210 1st St W\, Park Rapids\, MN\, 56470\, United States
CATEGORIES:Education
ATTACH;FMTTYPE=image/png:https://heartlandlakescommunitycalendar.com/wp-content/uploads/2024/03/Storytime-graphic-1-1.png
ORGANIZER;CN="Park Rapids Area Library":MAILTO:parkrapids@krls.org
END:VEVENT
BEGIN:VEVENT
DTSTART;TZID=UTC:20250826T150000
DTEND;TZID=UTC:20250826T163000
DTSTAMP:20260424T083616
CREATED:20250402T042949Z
LAST-MODIFIED:20250514T085355Z
UID:10008835-1756220400-1756225800@heartlandlakescommunitycalendar.com
SUMMARY:Library Play Day and Book Exchange
DESCRIPTION:Great time to meet up with friends to play!  Choose either session for this free time to explore all the toys and puzzles we have upstairs in the children’s area. Bring a book to exchange (if you don’t have one to share -no worries we have some extras!)! 📚🎉
URL:https://heartlandlakescommunitycalendar.com/index.php/event/library-play-day-and-book-exchange/2025-08-26/2/
LOCATION:Park Rapids Area Library\, 210 1st St W\, Park Rapids\, MN\, 56470\, United States
CATEGORIES:Education
ATTACH;FMTTYPE=image/png:https://heartlandlakescommunitycalendar.com/wp-content/uploads/2025/04/unnamed-6.png
ORGANIZER;CN="Park Rapids Area Library":MAILTO:parkrapids@krls.org
END:VEVENT
BEGIN:VEVENT
DTSTART;TZID=UTC:20250826T110000
DTEND;TZID=UTC:20250826T120000
DTSTAMP:20260424T083616
CREATED:20250514T094142Z
LAST-MODIFIED:20250514T094142Z
UID:10008843-1756206000-1756209600@heartlandlakescommunitycalendar.com
SUMMARY:Explore and Create
DESCRIPTION:Explore and create through art and science. Activist are designed for 8-18 year olds. Younger children may participate with the help of an adult or older sibling. Some activities are messy\, so dress appropriately.
URL:https://heartlandlakescommunitycalendar.com/index.php/event/explore-and-create-2/2025-08-26/
LOCATION:Park Rapids Area Library\, 210 1st St W\, Park Rapids\, MN\, 56470\, United States
CATEGORIES:Arts
ORGANIZER;CN="Park Rapids Area Library":MAILTO:parkrapids@krls.org
END:VEVENT
BEGIN:VEVENT
DTSTART;TZID=UTC:20250826T103000
DTEND;TZID=UTC:20250826T120000
DTSTAMP:20260424T083616
CREATED:20250402T042949Z
LAST-MODIFIED:20250514T085355Z
UID:10008834-1756204200-1756209600@heartlandlakescommunitycalendar.com
SUMMARY:Library Play Day and Book Exchange
DESCRIPTION:Great time to meet up with friends to play!  Choose either session for this free time to explore all the toys and puzzles we have upstairs in the children’s area. Bring a book to exchange (if you don’t have one to share -no worries we have some extras!)! 📚🎉
URL:https://heartlandlakescommunitycalendar.com/index.php/event/library-play-day-and-book-exchange/2025-08-26/1/
LOCATION:Park Rapids Area Library\, 210 1st St W\, Park Rapids\, MN\, 56470\, United States
CATEGORIES:Education
ATTACH;FMTTYPE=image/png:https://heartlandlakescommunitycalendar.com/wp-content/uploads/2025/04/unnamed-6.png
ORGANIZER;CN="Park Rapids Area Library":MAILTO:parkrapids@krls.org
END:VEVENT
BEGIN:VEVENT
DTSTART;TZID=UTC:20250822T103000
DTEND;TZID=UTC:20250822T113000
DTSTAMP:20260424T083616
CREATED:20240324T063814Z
LAST-MODIFIED:20240324T064635Z
UID:10001392-1755858600-1755862200@heartlandlakescommunitycalendar.com
SUMMARY:Storytime
DESCRIPTION:Join us for stories and activities for children and the adults who care for them!
URL:https://heartlandlakescommunitycalendar.com/index.php/event/storytime/2025-08-22/
LOCATION:Park Rapids Area Library\, 210 1st St W\, Park Rapids\, MN\, 56470\, United States
CATEGORIES:Education
ATTACH;FMTTYPE=image/png:https://heartlandlakescommunitycalendar.com/wp-content/uploads/2024/03/Storytime-graphic-1-1.png
ORGANIZER;CN="Park Rapids Area Library":MAILTO:parkrapids@krls.org
END:VEVENT
BEGIN:VEVENT
DTSTART;TZID=UTC:20250820T150000
DTEND;TZID=UTC:20250820T163000
DTSTAMP:20260424T083616
CREATED:20250514T094514Z
LAST-MODIFIED:20250514T094514Z
UID:10008846-1755702000-1755707400@heartlandlakescommunitycalendar.com
SUMMARY:DIY Teddy Bear Workshop
DESCRIPTION:Stuff and color your very own bear! Each comes with a stuffing packet\, a wish star\, a birth certificate\, and buddy bag. Drop\, dribble\, squirt\, and scribble using a unique bottled-paint system to create a tie dye effect without the mess!
URL:https://heartlandlakescommunitycalendar.com/index.php/event/diy-teddy-bear-workshop/2025-08-20/
LOCATION:Park Rapids Area Library\, 210 1st St W\, Park Rapids\, MN\, 56470\, United States
CATEGORIES:Craft
ORGANIZER;CN="Park Rapids Area Library":MAILTO:parkrapids@krls.org
END:VEVENT
BEGIN:VEVENT
DTSTART;TZID=UTC:20250819T110000
DTEND;TZID=UTC:20250819T120000
DTSTAMP:20260424T083616
CREATED:20250514T094142Z
LAST-MODIFIED:20250514T094142Z
UID:10008842-1755601200-1755604800@heartlandlakescommunitycalendar.com
SUMMARY:Explore and Create
DESCRIPTION:Explore and create through art and science. Activist are designed for 8-18 year olds. Younger children may participate with the help of an adult or older sibling. Some activities are messy\, so dress appropriately.
URL:https://heartlandlakescommunitycalendar.com/index.php/event/explore-and-create-2/2025-08-19/
LOCATION:Park Rapids Area Library\, 210 1st St W\, Park Rapids\, MN\, 56470\, United States
CATEGORIES:Arts
ORGANIZER;CN="Park Rapids Area Library":MAILTO:parkrapids@krls.org
END:VEVENT
BEGIN:VEVENT
DTSTART;TZID=UTC:20250815T103000
DTEND;TZID=UTC:20250815T113000
DTSTAMP:20260424T083616
CREATED:20240324T063814Z
LAST-MODIFIED:20240324T064635Z
UID:10001391-1755253800-1755257400@heartlandlakescommunitycalendar.com
SUMMARY:Storytime
DESCRIPTION:Join us for stories and activities for children and the adults who care for them!
URL:https://heartlandlakescommunitycalendar.com/index.php/event/storytime/2025-08-15/
LOCATION:Park Rapids Area Library\, 210 1st St W\, Park Rapids\, MN\, 56470\, United States
CATEGORIES:Education
ATTACH;FMTTYPE=image/png:https://heartlandlakescommunitycalendar.com/wp-content/uploads/2024/03/Storytime-graphic-1-1.png
ORGANIZER;CN="Park Rapids Area Library":MAILTO:parkrapids@krls.org
END:VEVENT
BEGIN:VEVENT
DTSTART;TZID=UTC:20250812T150000
DTEND;TZID=UTC:20250812T163000
DTSTAMP:20260424T083616
CREATED:20250402T042949Z
LAST-MODIFIED:20250514T085355Z
UID:10008833-1755010800-1755016200@heartlandlakescommunitycalendar.com
SUMMARY:Library Play Day and Book Exchange
DESCRIPTION:Great time to meet up with friends to play!  Choose either session for this free time to explore all the toys and puzzles we have upstairs in the children’s area. Bring a book to exchange (if you don’t have one to share -no worries we have some extras!)! 📚🎉
URL:https://heartlandlakescommunitycalendar.com/index.php/event/library-play-day-and-book-exchange/2025-08-12/2/
LOCATION:Park Rapids Area Library\, 210 1st St W\, Park Rapids\, MN\, 56470\, United States
CATEGORIES:Education
ATTACH;FMTTYPE=image/png:https://heartlandlakescommunitycalendar.com/wp-content/uploads/2025/04/unnamed-6.png
ORGANIZER;CN="Park Rapids Area Library":MAILTO:parkrapids@krls.org
END:VEVENT
BEGIN:VEVENT
DTSTART;TZID=UTC:20250812T103000
DTEND;TZID=UTC:20250812T120000
DTSTAMP:20260424T083616
CREATED:20250402T042949Z
LAST-MODIFIED:20250514T085355Z
UID:10008832-1754994600-1755000000@heartlandlakescommunitycalendar.com
SUMMARY:Library Play Day and Book Exchange
DESCRIPTION:Great time to meet up with friends to play!  Choose either session for this free time to explore all the toys and puzzles we have upstairs in the children’s area. Bring a book to exchange (if you don’t have one to share -no worries we have some extras!)! 📚🎉
URL:https://heartlandlakescommunitycalendar.com/index.php/event/library-play-day-and-book-exchange/2025-08-12/1/
LOCATION:Park Rapids Area Library\, 210 1st St W\, Park Rapids\, MN\, 56470\, United States
CATEGORIES:Education
ATTACH;FMTTYPE=image/png:https://heartlandlakescommunitycalendar.com/wp-content/uploads/2025/04/unnamed-6.png
ORGANIZER;CN="Park Rapids Area Library":MAILTO:parkrapids@krls.org
END:VEVENT
BEGIN:VEVENT
DTSTART;TZID=UTC:20250808T103000
DTEND;TZID=UTC:20250808T113000
DTSTAMP:20260424T083616
CREATED:20250514T084920Z
LAST-MODIFIED:20250514T084920Z
UID:10008822-1754649000-1754652600@heartlandlakescommunitycalendar.com
SUMMARY:Level Up Your Fishing
DESCRIPTION:Level Up your fishing with Itasca Park Naturalist. Hear fishing stories and practice fishing skills like knot-tying\, casting\, and setting.
URL:https://heartlandlakescommunitycalendar.com/index.php/event/level-up-your-fishing/
LOCATION:Heartland Park\, Heartland Park\, Park Rapids\, MN\, 56470\, United States
CATEGORIES:Nature,Sport
ORGANIZER;CN="Park Rapids Area Library":MAILTO:parkrapids@krls.org
END:VEVENT
END:VCALENDAR