BEGIN:VCALENDAR
VERSION:2.0
PRODID:-//The Heartland Lakes Community Calendar - ECPv6.3.7//NONSGML v1.0//EN
CALSCALE:GREGORIAN
METHOD:PUBLISH
X-ORIGINAL-URL:https://heartlandlakescommunitycalendar.com
X-WR-CALDESC:Events for The Heartland Lakes Community Calendar
REFRESH-INTERVAL;VALUE=DURATION:PT1H
X-Robots-Tag:noindex
X-PUBLISHED-TTL:PT1H
BEGIN:VTIMEZONE
TZID:UTC
BEGIN:STANDARD
TZOFFSETFROM:+0000
TZOFFSETTO:+0000
TZNAME:UTC
DTSTART:20250101T000000
END:STANDARD
END:VTIMEZONE
BEGIN:VEVENT
DTSTART;TZID=UTC:20250723T150000
DTEND;TZID=UTC:20250723T163000
DTSTAMP:20260424T140238
CREATED:20250514T094514Z
LAST-MODIFIED:20250514T094514Z
UID:10008845-1753282800-1753288200@heartlandlakescommunitycalendar.com
SUMMARY:DIY Teddy Bear Workshop
DESCRIPTION:Stuff and color your very own bear! Each comes with a stuffing packet\, a wish star\, a birth certificate\, and buddy bag. Drop\, dribble\, squirt\, and scribble using a unique bottled-paint system to create a tie dye effect without the mess!
URL:https://heartlandlakescommunitycalendar.com/index.php/event/diy-teddy-bear-workshop/2025-07-23/
LOCATION:Park Rapids Area Library\, 210 1st St W\, Park Rapids\, MN\, 56470\, United States
CATEGORIES:Craft
ORGANIZER;CN="Park Rapids Area Library":MAILTO:parkrapids@krls.org
END:VEVENT
BEGIN:VEVENT
DTSTART;TZID=UTC:20250722T150000
DTEND;TZID=UTC:20250722T163000
DTSTAMP:20260424T140238
CREATED:20250402T042949Z
LAST-MODIFIED:20250514T085355Z
UID:10008831-1753196400-1753201800@heartlandlakescommunitycalendar.com
SUMMARY:Library Play Day and Book Exchange
DESCRIPTION:Great time to meet up with friends to play!  Choose either session for this free time to explore all the toys and puzzles we have upstairs in the children’s area. Bring a book to exchange (if you don’t have one to share -no worries we have some extras!)! 📚🎉
URL:https://heartlandlakescommunitycalendar.com/index.php/event/library-play-day-and-book-exchange/2025-07-22/2/
LOCATION:Park Rapids Area Library\, 210 1st St W\, Park Rapids\, MN\, 56470\, United States
CATEGORIES:Education
ATTACH;FMTTYPE=image/png:https://heartlandlakescommunitycalendar.com/wp-content/uploads/2025/04/unnamed-6.png
ORGANIZER;CN="Park Rapids Area Library":MAILTO:parkrapids@krls.org
END:VEVENT
BEGIN:VEVENT
DTSTART;TZID=UTC:20250722T110000
DTEND;TZID=UTC:20250722T120000
DTSTAMP:20260424T140238
CREATED:20250514T094142Z
LAST-MODIFIED:20250514T094142Z
UID:10008840-1753182000-1753185600@heartlandlakescommunitycalendar.com
SUMMARY:Explore and Create
DESCRIPTION:Explore and create through art and science. Activist are designed for 8-18 year olds. Younger children may participate with the help of an adult or older sibling. Some activities are messy\, so dress appropriately.
URL:https://heartlandlakescommunitycalendar.com/index.php/event/explore-and-create-2/2025-07-22/
LOCATION:Park Rapids Area Library\, 210 1st St W\, Park Rapids\, MN\, 56470\, United States
CATEGORIES:Arts
ORGANIZER;CN="Park Rapids Area Library":MAILTO:parkrapids@krls.org
END:VEVENT
BEGIN:VEVENT
DTSTART;TZID=UTC:20250722T103000
DTEND;TZID=UTC:20250722T120000
DTSTAMP:20260424T140238
CREATED:20250402T042949Z
LAST-MODIFIED:20250514T085355Z
UID:10008830-1753180200-1753185600@heartlandlakescommunitycalendar.com
SUMMARY:Library Play Day and Book Exchange
DESCRIPTION:Great time to meet up with friends to play!  Choose either session for this free time to explore all the toys and puzzles we have upstairs in the children’s area. Bring a book to exchange (if you don’t have one to share -no worries we have some extras!)! 📚🎉
URL:https://heartlandlakescommunitycalendar.com/index.php/event/library-play-day-and-book-exchange/2025-07-22/1/
LOCATION:Park Rapids Area Library\, 210 1st St W\, Park Rapids\, MN\, 56470\, United States
CATEGORIES:Education
ATTACH;FMTTYPE=image/png:https://heartlandlakescommunitycalendar.com/wp-content/uploads/2025/04/unnamed-6.png
ORGANIZER;CN="Park Rapids Area Library":MAILTO:parkrapids@krls.org
END:VEVENT
BEGIN:VEVENT
DTSTART;TZID=UTC:20250718T103000
DTEND;TZID=UTC:20250718T113000
DTSTAMP:20260424T140238
CREATED:20250514T094931Z
LAST-MODIFIED:20250514T094932Z
UID:10001387-1752834600-1752838200@heartlandlakescommunitycalendar.com
SUMMARY:Storytime
DESCRIPTION:Join us for stories and activities for children and the adults who care for them!
URL:https://heartlandlakescommunitycalendar.com/index.php/event/storytime-14/
LOCATION:Hubbard County Fairgrounds\, 201 Fair Ave\, Park Rapids\, 56470\, United States
CATEGORIES:Education
ATTACH;FMTTYPE=image/png:https://heartlandlakescommunitycalendar.com/wp-content/uploads/2024/03/Storytime-graphic-1-1.png
ORGANIZER;CN="Park Rapids Area Library":MAILTO:parkrapids@krls.org
END:VEVENT
BEGIN:VEVENT
DTSTART;TZID=UTC:20250716T100000
DTEND;TZID=UTC:20250716T130000
DTSTAMP:20260424T140238
CREATED:20250514T084732Z
LAST-MODIFIED:20250514T084732Z
UID:10008821-1752660000-1752670800@heartlandlakescommunitycalendar.com
SUMMARY:Ready Go-Mobile Sign Shop Art Cart
DESCRIPTION:Carve\, paint\, and personalize a wooden sign.
URL:https://heartlandlakescommunitycalendar.com/index.php/event/ready-go-mobile-sign-shop-art-cart/
LOCATION:Park Rapids Area Library\, 210 1st St W\, Park Rapids\, MN\, 56470\, United States
CATEGORIES:Arts,Theater
ORGANIZER;CN="Park Rapids Area Library":MAILTO:parkrapids@krls.org
END:VEVENT
BEGIN:VEVENT
DTSTART;TZID=UTC:20250711T103000
DTEND;TZID=UTC:20250711T113000
DTSTAMP:20260424T140238
CREATED:20250514T094859Z
LAST-MODIFIED:20250514T094859Z
UID:10001386-1752229800-1752233400@heartlandlakescommunitycalendar.com
SUMMARY:Storytime
DESCRIPTION:Join us for stories and activities for children and the adults who care for them!
URL:https://heartlandlakescommunitycalendar.com/index.php/event/storytime-13/
LOCATION:Heartland Park\, Heartland Park\, Park Rapids\, MN\, 56470\, United States
CATEGORIES:Education
ATTACH;FMTTYPE=image/png:https://heartlandlakescommunitycalendar.com/wp-content/uploads/2024/03/Storytime-graphic-1-1.png
ORGANIZER;CN="Park Rapids Area Library":MAILTO:parkrapids@krls.org
END:VEVENT
BEGIN:VEVENT
DTSTART;TZID=UTC:20250709T103000
DTEND;TZID=UTC:20250709T120000
DTSTAMP:20260424T140238
CREATED:20250514T084618Z
LAST-MODIFIED:20250514T084618Z
UID:10008820-1752057000-1752062400@heartlandlakescommunitycalendar.com
SUMMARY:CLIMB Theater Presents: The Tortoise and the Hare: Rematch!
DESCRIPTION:Aesop’s classic duo is back and aiming for the finish. Sal the Tortoise and speedy the Hare have met each other at the starting line before\, but this time they’re playing to win. While Sal wants to push ahead and finish the level\, Speedy jumps at every side quest that comes his way. The answer to this puzzle might require two player mode…. together\, they’ll learn how to appreciate different form of play and level up in unexpected ways.
URL:https://heartlandlakescommunitycalendar.com/index.php/event/climb-theater-presents-the-tortoise-and-the-hare-rematch/
LOCATION:Park Rapids Area Library\, 210 1st St W\, Park Rapids\, MN\, 56470\, United States
CATEGORIES:Theater
ORGANIZER;CN="Park Rapids Area Library":MAILTO:parkrapids@krls.org
END:VEVENT
BEGIN:VEVENT
DTSTART;TZID=UTC:20250708T150000
DTEND;TZID=UTC:20250708T163000
DTSTAMP:20260424T140238
CREATED:20250402T042949Z
LAST-MODIFIED:20250514T085355Z
UID:10008829-1751986800-1751992200@heartlandlakescommunitycalendar.com
SUMMARY:Library Play Day and Book Exchange
DESCRIPTION:Great time to meet up with friends to play!  Choose either session for this free time to explore all the toys and puzzles we have upstairs in the children’s area. Bring a book to exchange (if you don’t have one to share -no worries we have some extras!)! 📚🎉
URL:https://heartlandlakescommunitycalendar.com/index.php/event/library-play-day-and-book-exchange/2025-07-08/2/
LOCATION:Park Rapids Area Library\, 210 1st St W\, Park Rapids\, MN\, 56470\, United States
CATEGORIES:Education
ATTACH;FMTTYPE=image/png:https://heartlandlakescommunitycalendar.com/wp-content/uploads/2025/04/unnamed-6.png
ORGANIZER;CN="Park Rapids Area Library":MAILTO:parkrapids@krls.org
END:VEVENT
BEGIN:VEVENT
DTSTART;TZID=UTC:20250708T110000
DTEND;TZID=UTC:20250708T120000
DTSTAMP:20260424T140238
CREATED:20250514T094142Z
LAST-MODIFIED:20250514T094142Z
UID:10008839-1751972400-1751976000@heartlandlakescommunitycalendar.com
SUMMARY:Explore and Create
DESCRIPTION:Explore and create through art and science. Activist are designed for 8-18 year olds. Younger children may participate with the help of an adult or older sibling. Some activities are messy\, so dress appropriately.
URL:https://heartlandlakescommunitycalendar.com/index.php/event/explore-and-create-2/2025-07-08/
LOCATION:Park Rapids Area Library\, 210 1st St W\, Park Rapids\, MN\, 56470\, United States
CATEGORIES:Arts
ORGANIZER;CN="Park Rapids Area Library":MAILTO:parkrapids@krls.org
END:VEVENT
BEGIN:VEVENT
DTSTART;TZID=UTC:20250708T103000
DTEND;TZID=UTC:20250708T120000
DTSTAMP:20260424T140238
CREATED:20250402T042949Z
LAST-MODIFIED:20250514T085355Z
UID:10008828-1751970600-1751976000@heartlandlakescommunitycalendar.com
SUMMARY:Library Play Day and Book Exchange
DESCRIPTION:Great time to meet up with friends to play!  Choose either session for this free time to explore all the toys and puzzles we have upstairs in the children’s area. Bring a book to exchange (if you don’t have one to share -no worries we have some extras!)! 📚🎉
URL:https://heartlandlakescommunitycalendar.com/index.php/event/library-play-day-and-book-exchange/2025-07-08/1/
LOCATION:Park Rapids Area Library\, 210 1st St W\, Park Rapids\, MN\, 56470\, United States
CATEGORIES:Education
ATTACH;FMTTYPE=image/png:https://heartlandlakescommunitycalendar.com/wp-content/uploads/2025/04/unnamed-6.png
ORGANIZER;CN="Park Rapids Area Library":MAILTO:parkrapids@krls.org
END:VEVENT
BEGIN:VEVENT
DTSTART;TZID=UTC:20250701T100000
DTEND;TZID=UTC:20250701T120000
DTSTAMP:20260424T140238
CREATED:20250514T084220Z
LAST-MODIFIED:20250514T084220Z
UID:10008819-1751364000-1751371200@heartlandlakescommunitycalendar.com
SUMMARY:Parking Lot Party!
DESCRIPTION:Celebrate summer with crafts\, snacks\, games\, and activities!
URL:https://heartlandlakescommunitycalendar.com/index.php/event/parking-lot-party-2/
LOCATION:Park Rapids Area Library\, 210 1st St W\, Park Rapids\, MN\, 56470\, United States
CATEGORIES:Social
ORGANIZER;CN="Park Rapids Area Library":MAILTO:parkrapids@krls.org
END:VEVENT
BEGIN:VEVENT
DTSTART;TZID=UTC:20250627T103000
DTEND;TZID=UTC:20250627T113000
DTSTAMP:20260424T140238
CREATED:20240324T063814Z
LAST-MODIFIED:20240324T064635Z
UID:10001384-1751020200-1751023800@heartlandlakescommunitycalendar.com
SUMMARY:Storytime
DESCRIPTION:Join us for stories and activities for children and the adults who care for them!
URL:https://heartlandlakescommunitycalendar.com/index.php/event/storytime/2025-06-27/
LOCATION:Park Rapids Area Library\, 210 1st St W\, Park Rapids\, MN\, 56470\, United States
CATEGORIES:Education
ATTACH;FMTTYPE=image/png:https://heartlandlakescommunitycalendar.com/wp-content/uploads/2024/03/Storytime-graphic-1-1.png
ORGANIZER;CN="Park Rapids Area Library":MAILTO:parkrapids@krls.org
END:VEVENT
BEGIN:VEVENT
DTSTART;TZID=UTC:20250624T150000
DTEND;TZID=UTC:20250624T163000
DTSTAMP:20260424T140238
CREATED:20250402T042949Z
LAST-MODIFIED:20250514T085355Z
UID:10008827-1750777200-1750782600@heartlandlakescommunitycalendar.com
SUMMARY:Library Play Day and Book Exchange
DESCRIPTION:Great time to meet up with friends to play!  Choose either session for this free time to explore all the toys and puzzles we have upstairs in the children’s area. Bring a book to exchange (if you don’t have one to share -no worries we have some extras!)! 📚🎉
URL:https://heartlandlakescommunitycalendar.com/index.php/event/library-play-day-and-book-exchange/2025-06-24/2/
LOCATION:Park Rapids Area Library\, 210 1st St W\, Park Rapids\, MN\, 56470\, United States
CATEGORIES:Education
ATTACH;FMTTYPE=image/png:https://heartlandlakescommunitycalendar.com/wp-content/uploads/2025/04/unnamed-6.png
ORGANIZER;CN="Park Rapids Area Library":MAILTO:parkrapids@krls.org
END:VEVENT
BEGIN:VEVENT
DTSTART;TZID=UTC:20250624T110000
DTEND;TZID=UTC:20250624T120000
DTSTAMP:20260424T140239
CREATED:20250514T094142Z
LAST-MODIFIED:20250514T094142Z
UID:10008838-1750762800-1750766400@heartlandlakescommunitycalendar.com
SUMMARY:Explore and Create
DESCRIPTION:Explore and create through art and science. Activist are designed for 8-18 year olds. Younger children may participate with the help of an adult or older sibling. Some activities are messy\, so dress appropriately.
URL:https://heartlandlakescommunitycalendar.com/index.php/event/explore-and-create-2/2025-06-24/
LOCATION:Park Rapids Area Library\, 210 1st St W\, Park Rapids\, MN\, 56470\, United States
CATEGORIES:Arts
ORGANIZER;CN="Park Rapids Area Library":MAILTO:parkrapids@krls.org
END:VEVENT
BEGIN:VEVENT
DTSTART;TZID=UTC:20250624T103000
DTEND;TZID=UTC:20250624T120000
DTSTAMP:20260424T140239
CREATED:20250402T042949Z
LAST-MODIFIED:20250514T085355Z
UID:10008826-1750761000-1750766400@heartlandlakescommunitycalendar.com
SUMMARY:Library Play Day and Book Exchange
DESCRIPTION:Great time to meet up with friends to play!  Choose either session for this free time to explore all the toys and puzzles we have upstairs in the children’s area. Bring a book to exchange (if you don’t have one to share -no worries we have some extras!)! 📚🎉
URL:https://heartlandlakescommunitycalendar.com/index.php/event/library-play-day-and-book-exchange/2025-06-24/1/
LOCATION:Park Rapids Area Library\, 210 1st St W\, Park Rapids\, MN\, 56470\, United States
CATEGORIES:Education
ATTACH;FMTTYPE=image/png:https://heartlandlakescommunitycalendar.com/wp-content/uploads/2025/04/unnamed-6.png
ORGANIZER;CN="Park Rapids Area Library":MAILTO:parkrapids@krls.org
END:VEVENT
BEGIN:VEVENT
DTSTART;TZID=UTC:20250620T103000
DTEND;TZID=UTC:20250620T113000
DTSTAMP:20260424T140239
CREATED:20250514T094725Z
LAST-MODIFIED:20250514T094725Z
UID:10001383-1750415400-1750419000@heartlandlakescommunitycalendar.com
SUMMARY:Storytime
DESCRIPTION:Join us for stories and activities for children and the adults who care for them!
URL:https://heartlandlakescommunitycalendar.com/index.php/event/storytime-12/
LOCATION:Pioneer Park\, Pioneer Park\, Park Rapids\, MN\, 56470\, United States
CATEGORIES:Education
ATTACH;FMTTYPE=image/png:https://heartlandlakescommunitycalendar.com/wp-content/uploads/2024/03/Storytime-graphic-1-1.png
ORGANIZER;CN="Park Rapids Area Library":MAILTO:parkrapids@krls.org
END:VEVENT
BEGIN:VEVENT
DTSTART;TZID=UTC:20250618T150000
DTEND;TZID=UTC:20250618T163000
DTSTAMP:20260424T140239
CREATED:20250514T094514Z
LAST-MODIFIED:20250514T094514Z
UID:10008844-1750258800-1750264200@heartlandlakescommunitycalendar.com
SUMMARY:DIY Teddy Bear Workshop
DESCRIPTION:Stuff and color your very own bear! Each comes with a stuffing packet\, a wish star\, a birth certificate\, and buddy bag. Drop\, dribble\, squirt\, and scribble using a unique bottled-paint system to create a tie dye effect without the mess!
URL:https://heartlandlakescommunitycalendar.com/index.php/event/diy-teddy-bear-workshop/2025-06-18/
LOCATION:Park Rapids Area Library\, 210 1st St W\, Park Rapids\, MN\, 56470\, United States
CATEGORIES:Craft
ORGANIZER;CN="Park Rapids Area Library":MAILTO:parkrapids@krls.org
END:VEVENT
BEGIN:VEVENT
DTSTART;TZID=UTC:20250617T140000
DTEND;TZID=UTC:20250617T150000
DTSTAMP:20260424T140239
CREATED:20250514T084102Z
LAST-MODIFIED:20250514T084102Z
UID:10008818-1750168800-1750172400@heartlandlakescommunitycalendar.com
SUMMARY:STEM in the World: Recreational Drones
DESCRIPTION:Information and drone demos with Col. Tom Weston\, Civil Air Patrol.
URL:https://heartlandlakescommunitycalendar.com/index.php/event/stem-in-the-world-recreational-drones/
LOCATION:Park Rapids Area Library\, 210 1st St W\, Park Rapids\, MN\, 56470\, United States
CATEGORIES:Education,Literature
ORGANIZER;CN="Park Rapids Area Library":MAILTO:parkrapids@krls.org
END:VEVENT
BEGIN:VEVENT
DTSTART;TZID=UTC:20250613T103000
DTEND;TZID=UTC:20250613T113000
DTSTAMP:20260424T140239
CREATED:20240324T063814Z
LAST-MODIFIED:20240324T064635Z
UID:10001382-1749810600-1749814200@heartlandlakescommunitycalendar.com
SUMMARY:Storytime
DESCRIPTION:Join us for stories and activities for children and the adults who care for them!
URL:https://heartlandlakescommunitycalendar.com/index.php/event/storytime/2025-06-13/
LOCATION:Park Rapids Area Library\, 210 1st St W\, Park Rapids\, MN\, 56470\, United States
CATEGORIES:Education
ATTACH;FMTTYPE=image/png:https://heartlandlakescommunitycalendar.com/wp-content/uploads/2024/03/Storytime-graphic-1-1.png
ORGANIZER;CN="Park Rapids Area Library":MAILTO:parkrapids@krls.org
END:VEVENT
BEGIN:VEVENT
DTSTART;TZID=UTC:20250611T130000
DTEND;TZID=UTC:20250611T140000
DTSTAMP:20260424T140239
CREATED:20250514T083848Z
LAST-MODIFIED:20250514T083848Z
UID:10008817-1749646800-1749650400@heartlandlakescommunitycalendar.com
SUMMARY:Sparkle Theatricals Workshop
DESCRIPTION:Find your creative voice! Collaborate and create using your bodies\, voices\, and imaginations to create something totally new.
URL:https://heartlandlakescommunitycalendar.com/index.php/event/sparkle-theatricals-workshop/
LOCATION:Park Rapids Area Library\, 210 1st St W\, Park Rapids\, MN\, 56470\, United States
CATEGORIES:Literature
ORGANIZER;CN="Park Rapids Area Library":MAILTO:parkrapids@krls.org
END:VEVENT
BEGIN:VEVENT
DTSTART;TZID=UTC:20250610T150000
DTEND;TZID=UTC:20250610T163000
DTSTAMP:20260424T140239
CREATED:20250402T042949Z
LAST-MODIFIED:20250514T085355Z
UID:10008825-1749567600-1749573000@heartlandlakescommunitycalendar.com
SUMMARY:Library Play Day and Book Exchange
DESCRIPTION:Great time to meet up with friends to play!  Choose either session for this free time to explore all the toys and puzzles we have upstairs in the children’s area. Bring a book to exchange (if you don’t have one to share -no worries we have some extras!)! 📚🎉
URL:https://heartlandlakescommunitycalendar.com/index.php/event/library-play-day-and-book-exchange/2025-06-10/2/
LOCATION:Park Rapids Area Library\, 210 1st St W\, Park Rapids\, MN\, 56470\, United States
CATEGORIES:Education
ATTACH;FMTTYPE=image/png:https://heartlandlakescommunitycalendar.com/wp-content/uploads/2025/04/unnamed-6.png
ORGANIZER;CN="Park Rapids Area Library":MAILTO:parkrapids@krls.org
END:VEVENT
BEGIN:VEVENT
DTSTART;TZID=UTC:20250610T110000
DTEND;TZID=UTC:20250610T120000
DTSTAMP:20260424T140239
CREATED:20250514T094142Z
LAST-MODIFIED:20250514T094142Z
UID:10008837-1749553200-1749556800@heartlandlakescommunitycalendar.com
SUMMARY:Explore and Create
DESCRIPTION:Explore and create through art and science. Activist are designed for 8-18 year olds. Younger children may participate with the help of an adult or older sibling. Some activities are messy\, so dress appropriately.
URL:https://heartlandlakescommunitycalendar.com/index.php/event/explore-and-create-2/2025-06-10/
LOCATION:Park Rapids Area Library\, 210 1st St W\, Park Rapids\, MN\, 56470\, United States
CATEGORIES:Arts
ORGANIZER;CN="Park Rapids Area Library":MAILTO:parkrapids@krls.org
END:VEVENT
BEGIN:VEVENT
DTSTART;TZID=UTC:20250610T103000
DTEND;TZID=UTC:20250610T120000
DTSTAMP:20260424T140239
CREATED:20250402T042949Z
LAST-MODIFIED:20250514T085355Z
UID:10008824-1749551400-1749556800@heartlandlakescommunitycalendar.com
SUMMARY:Library Play Day and Book Exchange
DESCRIPTION:Great time to meet up with friends to play!  Choose either session for this free time to explore all the toys and puzzles we have upstairs in the children’s area. Bring a book to exchange (if you don’t have one to share -no worries we have some extras!)! 📚🎉
URL:https://heartlandlakescommunitycalendar.com/index.php/event/library-play-day-and-book-exchange/2025-06-10/1/
LOCATION:Park Rapids Area Library\, 210 1st St W\, Park Rapids\, MN\, 56470\, United States
CATEGORIES:Education
ATTACH;FMTTYPE=image/png:https://heartlandlakescommunitycalendar.com/wp-content/uploads/2025/04/unnamed-6.png
ORGANIZER;CN="Park Rapids Area Library":MAILTO:parkrapids@krls.org
END:VEVENT
BEGIN:VEVENT
DTSTART;TZID=UTC:20250606T103000
DTEND;TZID=UTC:20250606T113000
DTSTAMP:20260424T140239
CREATED:20250514T094639Z
LAST-MODIFIED:20250514T094640Z
UID:10001381-1749205800-1749209400@heartlandlakescommunitycalendar.com
SUMMARY:Storytime
DESCRIPTION:Join us for stories and activities for children and the adults who care for them!
URL:https://heartlandlakescommunitycalendar.com/index.php/event/storytime-11/
LOCATION:Depot Park\, Depot Park\, Park Rapids\, 56470\, United States
CATEGORIES:Education
ATTACH;FMTTYPE=image/png:https://heartlandlakescommunitycalendar.com/wp-content/uploads/2024/03/Storytime-graphic-1-1.png
ORGANIZER;CN="Park Rapids Area Library":MAILTO:parkrapids@krls.org
END:VEVENT
BEGIN:VEVENT
DTSTART;TZID=UTC:20250605T133000
DTEND;TZID=UTC:20250605T153000
DTSTAMP:20260424T140239
CREATED:20250514T083554Z
LAST-MODIFIED:20250514T083636Z
UID:10008816-1749130200-1749137400@heartlandlakescommunitycalendar.com
SUMMARY:Pinkalicious Movie & Craft Afternoon
DESCRIPTION:Watch A Pinkerton Family Vacation (53 minutes) and make your own one of a kind Pinkalicious wand!
URL:https://heartlandlakescommunitycalendar.com/index.php/event/pinkalicious-movie-craft-afternoon/
LOCATION:Park Rapids Area Library\, 210 1st St W\, Park Rapids\, MN\, 56470\, United States
CATEGORIES:Literature
ORGANIZER;CN="Park Rapids Area Library":MAILTO:parkrapids@krls.org
END:VEVENT
BEGIN:VEVENT
DTSTART;TZID=UTC:20250603T110000
DTEND;TZID=UTC:20250603T120000
DTSTAMP:20260424T140239
CREATED:20250514T094142Z
LAST-MODIFIED:20250514T094142Z
UID:10008836-1748948400-1748952000@heartlandlakescommunitycalendar.com
SUMMARY:Explore and Create
DESCRIPTION:Explore and create through art and science. Activist are designed for 8-18 year olds. Younger children may participate with the help of an adult or older sibling. Some activities are messy\, so dress appropriately.
URL:https://heartlandlakescommunitycalendar.com/index.php/event/explore-and-create-2/2025-06-03/
LOCATION:Park Rapids Area Library\, 210 1st St W\, Park Rapids\, MN\, 56470\, United States
CATEGORIES:Arts
ORGANIZER;CN="Park Rapids Area Library":MAILTO:parkrapids@krls.org
END:VEVENT
BEGIN:VEVENT
DTSTART;VALUE=DATE:20250602
DTEND;VALUE=DATE:20250603
DTSTAMP:20260424T140239
CREATED:20250514T083009Z
LAST-MODIFIED:20250514T083009Z
UID:10008814-1748822400-1748908799@heartlandlakescommunitycalendar.com
SUMMARY:Summer Reading Program Begins
DESCRIPTION:Get ready to power up your imagination and take your reading to the next level! The 2025 Summer Reading Program invites kids and teens ages 2–18 to Level Up at Your Library with books\, challenges\, and events that unlock fun all summer long. Free to join. Sign up online on Beanstack or at the Park Rapids Area Library. It’s time to level up!
URL:https://heartlandlakescommunitycalendar.com/index.php/event/summer-reading-program-begins/
LOCATION:Park Rapids Area Library\, 210 1st St W\, Park Rapids\, MN\, 56470\, United States
CATEGORIES:Literature
ORGANIZER;CN="Park Rapids Area Library":MAILTO:parkrapids@krls.org
END:VEVENT
BEGIN:VEVENT
DTSTART;TZID=UTC:20250530T103000
DTEND;TZID=UTC:20250530T113000
DTSTAMP:20260424T140239
CREATED:20240324T063814Z
LAST-MODIFIED:20240324T064635Z
UID:10001380-1748601000-1748604600@heartlandlakescommunitycalendar.com
SUMMARY:Storytime
DESCRIPTION:Join us for stories and activities for children and the adults who care for them!
URL:https://heartlandlakescommunitycalendar.com/index.php/event/storytime/2025-05-30/
LOCATION:Park Rapids Area Library\, 210 1st St W\, Park Rapids\, MN\, 56470\, United States
CATEGORIES:Education
ATTACH;FMTTYPE=image/png:https://heartlandlakescommunitycalendar.com/wp-content/uploads/2024/03/Storytime-graphic-1-1.png
ORGANIZER;CN="Park Rapids Area Library":MAILTO:parkrapids@krls.org
END:VEVENT
BEGIN:VEVENT
DTSTART;TZID=UTC:20250527T150000
DTEND;TZID=UTC:20250527T163000
DTSTAMP:20260424T140239
CREATED:20250402T042949Z
LAST-MODIFIED:20250514T085355Z
UID:10008165-1748358000-1748363400@heartlandlakescommunitycalendar.com
SUMMARY:Library Play Day and Book Exchange
DESCRIPTION:Great time to meet up with friends to play!  Choose either session for this free time to explore all the toys and puzzles we have upstairs in the children’s area. Bring a book to exchange (if you don’t have one to share -no worries we have some extras!)! 📚🎉
URL:https://heartlandlakescommunitycalendar.com/index.php/event/library-play-day-and-book-exchange/2025-05-27/2/
LOCATION:Park Rapids Area Library\, 210 1st St W\, Park Rapids\, MN\, 56470\, United States
CATEGORIES:Education
ATTACH;FMTTYPE=image/png:https://heartlandlakescommunitycalendar.com/wp-content/uploads/2025/04/unnamed-6.png
ORGANIZER;CN="Park Rapids Area Library":MAILTO:parkrapids@krls.org
END:VEVENT
END:VCALENDAR