BEGIN:VCALENDAR
VERSION:2.0
PRODID:-//The Heartland Lakes Community Calendar - ECPv6.3.7//NONSGML v1.0//EN
CALSCALE:GREGORIAN
METHOD:PUBLISH
X-ORIGINAL-URL:https://heartlandlakescommunitycalendar.com
X-WR-CALDESC:Events for The Heartland Lakes Community Calendar
REFRESH-INTERVAL;VALUE=DURATION:PT1H
X-Robots-Tag:noindex
X-PUBLISHED-TTL:PT1H
BEGIN:VTIMEZONE
TZID:UTC
BEGIN:STANDARD
TZOFFSETFROM:+0000
TZOFFSETTO:+0000
TZNAME:UTC
DTSTART:20250101T000000
END:STANDARD
END:VTIMEZONE
BEGIN:VEVENT
DTSTART;TZID=UTC:20250510T110000
DTEND;TZID=UTC:20250510T120000
DTSTAMP:20260424T192617
CREATED:20250402T044825Z
LAST-MODIFIED:20250402T044825Z
UID:10008168-1746874800-1746878400@heartlandlakescommunitycalendar.com
SUMMARY:Second Saturday STEM - Butterfly Feeders
DESCRIPTION:2nd Saturday STEM meets the second Saturday of every month in the L:arge Meeting Room at 11am. Every month is a different activity! Join us!
URL:https://heartlandlakescommunitycalendar.com/index.php/event/second-saturday-stem-butterfly-feeders/
LOCATION:Park Rapids Area Library\, 210 1st St W\, Park Rapids\, MN\, 56470\, United States
CATEGORIES:Education
ATTACH;FMTTYPE=image/png:https://heartlandlakescommunitycalendar.com/wp-content/uploads/2025/04/unnamed-3.png
ORGANIZER;CN="Park Rapids Area Library":MAILTO:parkrapids@krls.org
END:VEVENT
BEGIN:VEVENT
DTSTART;TZID=UTC:20250509T103000
DTEND;TZID=UTC:20250509T113000
DTSTAMP:20260424T192617
CREATED:20240324T063814Z
LAST-MODIFIED:20240324T064635Z
UID:10001377-1746786600-1746790200@heartlandlakescommunitycalendar.com
SUMMARY:Storytime
DESCRIPTION:Join us for stories and activities for children and the adults who care for them!
URL:https://heartlandlakescommunitycalendar.com/index.php/event/storytime/2025-05-09/
LOCATION:Park Rapids Area Library\, 210 1st St W\, Park Rapids\, MN\, 56470\, United States
CATEGORIES:Education
ATTACH;FMTTYPE=image/png:https://heartlandlakescommunitycalendar.com/wp-content/uploads/2024/03/Storytime-graphic-1-1.png
ORGANIZER;CN="Park Rapids Area Library":MAILTO:parkrapids@krls.org
END:VEVENT
BEGIN:VEVENT
DTSTART;TZID=UTC:20250502T103000
DTEND;TZID=UTC:20250502T113000
DTSTAMP:20260424T192617
CREATED:20240324T063814Z
LAST-MODIFIED:20240324T064635Z
UID:10001376-1746181800-1746185400@heartlandlakescommunitycalendar.com
SUMMARY:Storytime
DESCRIPTION:Join us for stories and activities for children and the adults who care for them!
URL:https://heartlandlakescommunitycalendar.com/index.php/event/storytime/2025-05-02/
LOCATION:Park Rapids Area Library\, 210 1st St W\, Park Rapids\, MN\, 56470\, United States
CATEGORIES:Education
ATTACH;FMTTYPE=image/png:https://heartlandlakescommunitycalendar.com/wp-content/uploads/2024/03/Storytime-graphic-1-1.png
ORGANIZER;CN="Park Rapids Area Library":MAILTO:parkrapids@krls.org
END:VEVENT
BEGIN:VEVENT
DTSTART;TZID=UTC:20250425T103000
DTEND;TZID=UTC:20250425T113000
DTSTAMP:20260424T192617
CREATED:20240324T063814Z
LAST-MODIFIED:20240324T064635Z
UID:10001375-1745577000-1745580600@heartlandlakescommunitycalendar.com
SUMMARY:Storytime
DESCRIPTION:Join us for stories and activities for children and the adults who care for them!
URL:https://heartlandlakescommunitycalendar.com/index.php/event/storytime/2025-04-25/
LOCATION:Park Rapids Area Library\, 210 1st St W\, Park Rapids\, MN\, 56470\, United States
CATEGORIES:Education
ATTACH;FMTTYPE=image/png:https://heartlandlakescommunitycalendar.com/wp-content/uploads/2024/03/Storytime-graphic-1-1.png
ORGANIZER;CN="Park Rapids Area Library":MAILTO:parkrapids@krls.org
END:VEVENT
BEGIN:VEVENT
DTSTART;TZID=UTC:20250422T153000
DTEND;TZID=UTC:20250422T163000
DTSTAMP:20260424T192617
CREATED:20250402T042949Z
LAST-MODIFIED:20250514T085355Z
UID:10008161-1745335800-1745339400@heartlandlakescommunitycalendar.com
SUMMARY:Library Play Day and Book Exchange
DESCRIPTION:Great time to meet up with friends to play!  Choose either session for this free time to explore all the toys and puzzles we have upstairs in the children’s area. Bring a book to exchange (if you don’t have one to share -no worries we have some extras!)! 📚🎉
URL:https://heartlandlakescommunitycalendar.com/index.php/event/library-play-day-and-book-exchange/2025-04-22/2/
LOCATION:Park Rapids Area Library\, 210 1st St W\, Park Rapids\, MN\, 56470\, United States
CATEGORIES:Education
ATTACH;FMTTYPE=image/png:https://heartlandlakescommunitycalendar.com/wp-content/uploads/2025/04/unnamed-6.png
ORGANIZER;CN="Park Rapids Area Library":MAILTO:parkrapids@krls.org
END:VEVENT
BEGIN:VEVENT
DTSTART;TZID=UTC:20250422T103000
DTEND;TZID=UTC:20250422T120000
DTSTAMP:20260424T192617
CREATED:20250402T042949Z
LAST-MODIFIED:20250514T085355Z
UID:10008160-1745317800-1745323200@heartlandlakescommunitycalendar.com
SUMMARY:Library Play Day and Book Exchange
DESCRIPTION:Great time to meet up with friends to play!  Choose either session for this free time to explore all the toys and puzzles we have upstairs in the children’s area. Bring a book to exchange (if you don’t have one to share -no worries we have some extras!)! 📚🎉
URL:https://heartlandlakescommunitycalendar.com/index.php/event/library-play-day-and-book-exchange/2025-04-22/1/
LOCATION:Park Rapids Area Library\, 210 1st St W\, Park Rapids\, MN\, 56470\, United States
CATEGORIES:Education
ATTACH;FMTTYPE=image/png:https://heartlandlakescommunitycalendar.com/wp-content/uploads/2025/04/unnamed-6.png
ORGANIZER;CN="Park Rapids Area Library":MAILTO:parkrapids@krls.org
END:VEVENT
BEGIN:VEVENT
DTSTART;TZID=UTC:20250418T103000
DTEND;TZID=UTC:20250418T113000
DTSTAMP:20260424T192617
CREATED:20240324T063814Z
LAST-MODIFIED:20240324T064635Z
UID:10001374-1744972200-1744975800@heartlandlakescommunitycalendar.com
SUMMARY:Storytime
DESCRIPTION:Join us for stories and activities for children and the adults who care for them!
URL:https://heartlandlakescommunitycalendar.com/index.php/event/storytime/2025-04-18/
LOCATION:Park Rapids Area Library\, 210 1st St W\, Park Rapids\, MN\, 56470\, United States
CATEGORIES:Education
ATTACH;FMTTYPE=image/png:https://heartlandlakescommunitycalendar.com/wp-content/uploads/2024/03/Storytime-graphic-1-1.png
ORGANIZER;CN="Park Rapids Area Library":MAILTO:parkrapids@krls.org
END:VEVENT
BEGIN:VEVENT
DTSTART;TZID=UTC:20250412T110000
DTEND;TZID=UTC:20250412T120000
DTSTAMP:20260424T192617
CREATED:20250402T044802Z
LAST-MODIFIED:20250402T044802Z
UID:10008167-1744455600-1744459200@heartlandlakescommunitycalendar.com
SUMMARY:Second Saturday STEM - STEM with the PBS Trailer
DESCRIPTION:2nd Saturday STEM meets the second Saturday of every month in the L:arge Meeting Room at 11am. Every month is a different activity! Join us!
URL:https://heartlandlakescommunitycalendar.com/index.php/event/second-saturday-stem-stem-with-the-pbs-trailer/
LOCATION:Park Rapids Area Library\, 210 1st St W\, Park Rapids\, MN\, 56470\, United States
CATEGORIES:Education
ATTACH;FMTTYPE=image/png:https://heartlandlakescommunitycalendar.com/wp-content/uploads/2025/04/unnamed-3.png
ORGANIZER;CN="Park Rapids Area Library":MAILTO:parkrapids@krls.org
END:VEVENT
BEGIN:VEVENT
DTSTART;TZID=UTC:20250411T190000
DTEND;TZID=UTC:20250411T210000
DTSTAMP:20260424T192617
CREATED:20241201T063909Z
LAST-MODIFIED:20241201T064437Z
UID:10003591-1744398000-1744405200@heartlandlakescommunitycalendar.com
SUMMARY:Online Memoir Writing Workshop
DESCRIPTION:Capture your life’s moments in this free online memoir writing workshop led by award-winning author Kevin Strauss! Learn how to turn your memories into compelling narratives with Kevin’s expert guidance. Whether you’re just starting or looking to refine your skills\, this workshop is perfect for anyone wanting to tell their story. Reserve your spot today and start sharing your journey! 🖊️✨
URL:https://heartlandlakescommunitycalendar.com/index.php/event/online-memoir-writing-workshop/2025-04-11/
CATEGORIES:Literature
ATTACH;FMTTYPE=image/webp:https://heartlandlakescommunitycalendar.com/wp-content/uploads/2024/12/2025-online-writing-workshops-flyer-s-1-bc9a7872c883632ab21749ce37a0c51b.webp
ORGANIZER;CN="Park Rapids Area Library":MAILTO:parkrapids@krls.org
END:VEVENT
BEGIN:VEVENT
DTSTART;TZID=UTC:20250411T103000
DTEND;TZID=UTC:20250411T113000
DTSTAMP:20260424T192617
CREATED:20240324T063814Z
LAST-MODIFIED:20240324T064635Z
UID:10001373-1744367400-1744371000@heartlandlakescommunitycalendar.com
SUMMARY:Storytime
DESCRIPTION:Join us for stories and activities for children and the adults who care for them!
URL:https://heartlandlakescommunitycalendar.com/index.php/event/storytime/2025-04-11/
LOCATION:Park Rapids Area Library\, 210 1st St W\, Park Rapids\, MN\, 56470\, United States
CATEGORIES:Education
ATTACH;FMTTYPE=image/png:https://heartlandlakescommunitycalendar.com/wp-content/uploads/2024/03/Storytime-graphic-1-1.png
ORGANIZER;CN="Park Rapids Area Library":MAILTO:parkrapids@krls.org
END:VEVENT
BEGIN:VEVENT
DTSTART;TZID=UTC:20250410T103000
DTEND;TZID=UTC:20250410T113000
DTSTAMP:20260424T192617
CREATED:20250402T045140Z
LAST-MODIFIED:20250402T045140Z
UID:10008169-1744281000-1744284600@heartlandlakescommunitycalendar.com
SUMMARY:Author Darrell J. Pedersen
DESCRIPTION:Darrell brings his humor and reminiscences of days gone by.  Can you relate? Take a journey back in time and join us April 10th at 10:30 a.m. downstairs at the library. \nDarrell “shares memories of a not-well-thought-out campfire in the basement and the tragic misadventures of being asked to care for the class goldfish over Christmas. Pedersen’s stories will remind readers of their youth when old country stores were “candy heaven” and how every little boy wanted to be like the cowboys from Gunsmoke.” ~from Goodreads
URL:https://heartlandlakescommunitycalendar.com/index.php/event/author-darrell-j-pedersen/
LOCATION:Park Rapids Area Library\, 210 1st St W\, Park Rapids\, MN\, 56470\, United States
CATEGORIES:Literature
ATTACH;FMTTYPE=image/png:https://heartlandlakescommunitycalendar.com/wp-content/uploads/2025/04/unnamed-4.png
ORGANIZER;CN="Park Rapids Area Library":MAILTO:parkrapids@krls.org
END:VEVENT
BEGIN:VEVENT
DTSTART;TZID=UTC:20250408T150000
DTEND;TZID=UTC:20250408T163000
DTSTAMP:20260424T192617
CREATED:20250402T042949Z
LAST-MODIFIED:20250514T085355Z
UID:10008159-1744124400-1744129800@heartlandlakescommunitycalendar.com
SUMMARY:Library Play Day and Book Exchange
DESCRIPTION:Great time to meet up with friends to play!  Choose either session for this free time to explore all the toys and puzzles we have upstairs in the children’s area. Bring a book to exchange (if you don’t have one to share -no worries we have some extras!)! 📚🎉
URL:https://heartlandlakescommunitycalendar.com/index.php/event/library-play-day-and-book-exchange/2025-04-08/2/
LOCATION:Park Rapids Area Library\, 210 1st St W\, Park Rapids\, MN\, 56470\, United States
CATEGORIES:Education
ATTACH;FMTTYPE=image/png:https://heartlandlakescommunitycalendar.com/wp-content/uploads/2025/04/unnamed-6.png
ORGANIZER;CN="Park Rapids Area Library":MAILTO:parkrapids@krls.org
END:VEVENT
BEGIN:VEVENT
DTSTART;TZID=UTC:20250408T103000
DTEND;TZID=UTC:20250408T120000
DTSTAMP:20260424T192617
CREATED:20250402T042949Z
LAST-MODIFIED:20250514T085355Z
UID:10008158-1744108200-1744113600@heartlandlakescommunitycalendar.com
SUMMARY:Library Play Day and Book Exchange
DESCRIPTION:Great time to meet up with friends to play!  Choose either session for this free time to explore all the toys and puzzles we have upstairs in the children’s area. Bring a book to exchange (if you don’t have one to share -no worries we have some extras!)! 📚🎉
URL:https://heartlandlakescommunitycalendar.com/index.php/event/library-play-day-and-book-exchange/2025-04-08/1/
LOCATION:Park Rapids Area Library\, 210 1st St W\, Park Rapids\, MN\, 56470\, United States
CATEGORIES:Education
ATTACH;FMTTYPE=image/png:https://heartlandlakescommunitycalendar.com/wp-content/uploads/2025/04/unnamed-6.png
ORGANIZER;CN="Park Rapids Area Library":MAILTO:parkrapids@krls.org
END:VEVENT
BEGIN:VEVENT
DTSTART;TZID=UTC:20250407T093000
DTEND;TZID=UTC:20250411T163000
DTSTAMP:20260424T192617
CREATED:20250402T035544Z
LAST-MODIFIED:20250402T035544Z
UID:10008156-1744018200-1744389000@heartlandlakescommunitycalendar.com
SUMMARY:Week of the Young Child
DESCRIPTION:Celebrate Week of the Young Child at the library with fun-filled activities designed for little explorers! 🗺️✨ All week long\, kids can embark on an exciting treasure hunt\, searching for hidden surprises throughout the library. Then\, on April 8\, don’t miss the special Library Play Day and Book Exchange\, where young children and their caregivers can enjoy stories\, trade gently used books\, make new friends\, and have plenty of playful learning time. It’s the perfect opportunity to spark curiosity\, connect with others\, and make magical library memories! 📚🎉
URL:https://heartlandlakescommunitycalendar.com/index.php/event/week-of-the-young-child/
LOCATION:Park Rapids Area Library\, 210 1st St W\, Park Rapids\, MN\, 56470\, United States
CATEGORIES:Education
ATTACH;FMTTYPE=image/png:https://heartlandlakescommunitycalendar.com/wp-content/uploads/2025/04/unnamed-1.png
ORGANIZER;CN="Park Rapids Area Library":MAILTO:parkrapids@krls.org
END:VEVENT
BEGIN:VEVENT
DTSTART;TZID=UTC:20250404T103000
DTEND;TZID=UTC:20250404T113000
DTSTAMP:20260424T192617
CREATED:20240324T063814Z
LAST-MODIFIED:20240324T064635Z
UID:10001372-1743762600-1743766200@heartlandlakescommunitycalendar.com
SUMMARY:Storytime
DESCRIPTION:Join us for stories and activities for children and the adults who care for them!
URL:https://heartlandlakescommunitycalendar.com/index.php/event/storytime/2025-04-04/
LOCATION:Park Rapids Area Library\, 210 1st St W\, Park Rapids\, MN\, 56470\, United States
CATEGORIES:Education
ATTACH;FMTTYPE=image/png:https://heartlandlakescommunitycalendar.com/wp-content/uploads/2024/03/Storytime-graphic-1-1.png
ORGANIZER;CN="Park Rapids Area Library":MAILTO:parkrapids@krls.org
END:VEVENT
BEGIN:VEVENT
DTSTART;TZID=UTC:20250404T093000
DTEND;TZID=UTC:20250412T140000
DTSTAMP:20260424T192617
CREATED:20250402T044540Z
LAST-MODIFIED:20250402T044540Z
UID:10008166-1743759000-1744466400@heartlandlakescommunitycalendar.com
SUMMARY:Prairie Public Learning Express Trailer
DESCRIPTION:The Park Rapids Area Library is so excited to have this trailer of goodies from Prairie Public! We’ll be bringing out special activates for creative play at storytime and 2nd Saturday STEM! Come join in the fun!
URL:https://heartlandlakescommunitycalendar.com/index.php/event/prairie-public-learning-express-trailer/
LOCATION:Park Rapids Area Library\, 210 1st St W\, Park Rapids\, MN\, 56470\, United States
CATEGORIES:Education
ATTACH;FMTTYPE=image/png:https://heartlandlakescommunitycalendar.com/wp-content/uploads/2025/04/unnamed-2.png
ORGANIZER;CN="Park Rapids Area Library":MAILTO:parkrapids@krls.org
END:VEVENT
BEGIN:VEVENT
DTSTART;TZID=UTC:20250328T103000
DTEND;TZID=UTC:20250328T113000
DTSTAMP:20260424T192617
CREATED:20240324T063814Z
LAST-MODIFIED:20240324T064635Z
UID:10001371-1743157800-1743161400@heartlandlakescommunitycalendar.com
SUMMARY:Storytime
DESCRIPTION:Join us for stories and activities for children and the adults who care for them!
URL:https://heartlandlakescommunitycalendar.com/index.php/event/storytime/2025-03-28/
LOCATION:Park Rapids Area Library\, 210 1st St W\, Park Rapids\, MN\, 56470\, United States
CATEGORIES:Education
ATTACH;FMTTYPE=image/png:https://heartlandlakescommunitycalendar.com/wp-content/uploads/2024/03/Storytime-graphic-1-1.png
ORGANIZER;CN="Park Rapids Area Library":MAILTO:parkrapids@krls.org
END:VEVENT
BEGIN:VEVENT
DTSTART;TZID=UTC:20250321T103000
DTEND;TZID=UTC:20250321T113000
DTSTAMP:20260424T192617
CREATED:20240324T063814Z
LAST-MODIFIED:20240324T064635Z
UID:10001370-1742553000-1742556600@heartlandlakescommunitycalendar.com
SUMMARY:Storytime
DESCRIPTION:Join us for stories and activities for children and the adults who care for them!
URL:https://heartlandlakescommunitycalendar.com/index.php/event/storytime/2025-03-21/
LOCATION:Park Rapids Area Library\, 210 1st St W\, Park Rapids\, MN\, 56470\, United States
CATEGORIES:Education
ATTACH;FMTTYPE=image/png:https://heartlandlakescommunitycalendar.com/wp-content/uploads/2024/03/Storytime-graphic-1-1.png
ORGANIZER;CN="Park Rapids Area Library":MAILTO:parkrapids@krls.org
END:VEVENT
BEGIN:VEVENT
DTSTART;TZID=UTC:20250314T103000
DTEND;TZID=UTC:20250314T113000
DTSTAMP:20260424T192617
CREATED:20240324T063814Z
LAST-MODIFIED:20240324T064635Z
UID:10001369-1741948200-1741951800@heartlandlakescommunitycalendar.com
SUMMARY:Storytime
DESCRIPTION:Join us for stories and activities for children and the adults who care for them!
URL:https://heartlandlakescommunitycalendar.com/index.php/event/storytime/2025-03-14/
LOCATION:Park Rapids Area Library\, 210 1st St W\, Park Rapids\, MN\, 56470\, United States
CATEGORIES:Education
ATTACH;FMTTYPE=image/png:https://heartlandlakescommunitycalendar.com/wp-content/uploads/2024/03/Storytime-graphic-1-1.png
ORGANIZER;CN="Park Rapids Area Library":MAILTO:parkrapids@krls.org
END:VEVENT
BEGIN:VEVENT
DTSTART;TZID=UTC:20250311T190000
DTEND;TZID=UTC:20250311T210000
DTSTAMP:20260424T192617
CREATED:20241201T063909Z
LAST-MODIFIED:20241201T064437Z
UID:10003588-1741719600-1741726800@heartlandlakescommunitycalendar.com
SUMMARY:Online Memoir Writing Workshop
DESCRIPTION:Capture your life’s moments in this free online memoir writing workshop led by award-winning author Kevin Strauss! Learn how to turn your memories into compelling narratives with Kevin’s expert guidance. Whether you’re just starting or looking to refine your skills\, this workshop is perfect for anyone wanting to tell their story. Reserve your spot today and start sharing your journey! 🖊️✨
URL:https://heartlandlakescommunitycalendar.com/index.php/event/online-memoir-writing-workshop/2025-03-11/
CATEGORIES:Literature
ATTACH;FMTTYPE=image/webp:https://heartlandlakescommunitycalendar.com/wp-content/uploads/2024/12/2025-online-writing-workshops-flyer-s-1-bc9a7872c883632ab21749ce37a0c51b.webp
ORGANIZER;CN="Park Rapids Area Library":MAILTO:parkrapids@krls.org
END:VEVENT
BEGIN:VEVENT
DTSTART;TZID=UTC:20250307T103000
DTEND;TZID=UTC:20250307T113000
DTSTAMP:20260424T192617
CREATED:20240324T063814Z
LAST-MODIFIED:20240324T064635Z
UID:10001368-1741343400-1741347000@heartlandlakescommunitycalendar.com
SUMMARY:Storytime
DESCRIPTION:Join us for stories and activities for children and the adults who care for them!
URL:https://heartlandlakescommunitycalendar.com/index.php/event/storytime/2025-03-07/
LOCATION:Park Rapids Area Library\, 210 1st St W\, Park Rapids\, MN\, 56470\, United States
CATEGORIES:Education
ATTACH;FMTTYPE=image/png:https://heartlandlakescommunitycalendar.com/wp-content/uploads/2024/03/Storytime-graphic-1-1.png
ORGANIZER;CN="Park Rapids Area Library":MAILTO:parkrapids@krls.org
END:VEVENT
BEGIN:VEVENT
DTSTART;TZID=UTC:20250304T190000
DTEND;TZID=UTC:20250304T210000
DTSTAMP:20260424T192617
CREATED:20241201T063909Z
LAST-MODIFIED:20241201T064437Z
UID:10003587-1741114800-1741122000@heartlandlakescommunitycalendar.com
SUMMARY:Online Memoir Writing Workshop
DESCRIPTION:Capture your life’s moments in this free online memoir writing workshop led by award-winning author Kevin Strauss! Learn how to turn your memories into compelling narratives with Kevin’s expert guidance. Whether you’re just starting or looking to refine your skills\, this workshop is perfect for anyone wanting to tell their story. Reserve your spot today and start sharing your journey! 🖊️✨
URL:https://heartlandlakescommunitycalendar.com/index.php/event/online-memoir-writing-workshop/2025-03-04/
CATEGORIES:Literature
ATTACH;FMTTYPE=image/webp:https://heartlandlakescommunitycalendar.com/wp-content/uploads/2024/12/2025-online-writing-workshops-flyer-s-1-bc9a7872c883632ab21749ce37a0c51b.webp
ORGANIZER;CN="Park Rapids Area Library":MAILTO:parkrapids@krls.org
END:VEVENT
BEGIN:VEVENT
DTSTART;TZID=UTC:20250228T103000
DTEND;TZID=UTC:20250228T113000
DTSTAMP:20260424T192617
CREATED:20240324T063814Z
LAST-MODIFIED:20240324T064635Z
UID:10001367-1740738600-1740742200@heartlandlakescommunitycalendar.com
SUMMARY:Storytime
DESCRIPTION:Join us for stories and activities for children and the adults who care for them!
URL:https://heartlandlakescommunitycalendar.com/index.php/event/storytime/2025-02-28/
LOCATION:Park Rapids Area Library\, 210 1st St W\, Park Rapids\, MN\, 56470\, United States
CATEGORIES:Education
ATTACH;FMTTYPE=image/png:https://heartlandlakescommunitycalendar.com/wp-content/uploads/2024/03/Storytime-graphic-1-1.png
ORGANIZER;CN="Park Rapids Area Library":MAILTO:parkrapids@krls.org
END:VEVENT
BEGIN:VEVENT
DTSTART;TZID=UTC:20250225T190000
DTEND;TZID=UTC:20250225T210000
DTSTAMP:20260424T192617
CREATED:20241201T063909Z
LAST-MODIFIED:20241201T064437Z
UID:10003589-1740510000-1740517200@heartlandlakescommunitycalendar.com
SUMMARY:Online Memoir Writing Workshop
DESCRIPTION:Capture your life’s moments in this free online memoir writing workshop led by award-winning author Kevin Strauss! Learn how to turn your memories into compelling narratives with Kevin’s expert guidance. Whether you’re just starting or looking to refine your skills\, this workshop is perfect for anyone wanting to tell their story. Reserve your spot today and start sharing your journey! 🖊️✨
URL:https://heartlandlakescommunitycalendar.com/index.php/event/online-memoir-writing-workshop/2025-02-25/
CATEGORIES:Literature
ATTACH;FMTTYPE=image/webp:https://heartlandlakescommunitycalendar.com/wp-content/uploads/2024/12/2025-online-writing-workshops-flyer-s-1-bc9a7872c883632ab21749ce37a0c51b.webp
ORGANIZER;CN="Park Rapids Area Library":MAILTO:parkrapids@krls.org
END:VEVENT
BEGIN:VEVENT
DTSTART;TZID=UTC:20250221T103000
DTEND;TZID=UTC:20250221T113000
DTSTAMP:20260424T192617
CREATED:20240324T063814Z
LAST-MODIFIED:20240324T064635Z
UID:10001366-1740133800-1740137400@heartlandlakescommunitycalendar.com
SUMMARY:Storytime
DESCRIPTION:Join us for stories and activities for children and the adults who care for them!
URL:https://heartlandlakescommunitycalendar.com/index.php/event/storytime/2025-02-21/
LOCATION:Park Rapids Area Library\, 210 1st St W\, Park Rapids\, MN\, 56470\, United States
CATEGORIES:Education
ATTACH;FMTTYPE=image/png:https://heartlandlakescommunitycalendar.com/wp-content/uploads/2024/03/Storytime-graphic-1-1.png
ORGANIZER;CN="Park Rapids Area Library":MAILTO:parkrapids@krls.org
END:VEVENT
BEGIN:VEVENT
DTSTART;TZID=UTC:20250218T190000
DTEND;TZID=UTC:20250218T210000
DTSTAMP:20260424T192617
CREATED:20241201T063909Z
LAST-MODIFIED:20241201T064437Z
UID:10003592-1739905200-1739912400@heartlandlakescommunitycalendar.com
SUMMARY:Online Memoir Writing Workshop
DESCRIPTION:Capture your life’s moments in this free online memoir writing workshop led by award-winning author Kevin Strauss! Learn how to turn your memories into compelling narratives with Kevin’s expert guidance. Whether you’re just starting or looking to refine your skills\, this workshop is perfect for anyone wanting to tell their story. Reserve your spot today and start sharing your journey! 🖊️✨
URL:https://heartlandlakescommunitycalendar.com/index.php/event/online-memoir-writing-workshop/2025-02-18/
CATEGORIES:Literature
ATTACH;FMTTYPE=image/webp:https://heartlandlakescommunitycalendar.com/wp-content/uploads/2024/12/2025-online-writing-workshops-flyer-s-1-bc9a7872c883632ab21749ce37a0c51b.webp
ORGANIZER;CN="Park Rapids Area Library":MAILTO:parkrapids@krls.org
END:VEVENT
BEGIN:VEVENT
DTSTART;TZID=UTC:20250214T103000
DTEND;TZID=UTC:20250214T113000
DTSTAMP:20260424T192617
CREATED:20240324T063814Z
LAST-MODIFIED:20240324T064635Z
UID:10001365-1739529000-1739532600@heartlandlakescommunitycalendar.com
SUMMARY:Storytime
DESCRIPTION:Join us for stories and activities for children and the adults who care for them!
URL:https://heartlandlakescommunitycalendar.com/index.php/event/storytime/2025-02-14/
LOCATION:Park Rapids Area Library\, 210 1st St W\, Park Rapids\, MN\, 56470\, United States
CATEGORIES:Education
ATTACH;FMTTYPE=image/png:https://heartlandlakescommunitycalendar.com/wp-content/uploads/2024/03/Storytime-graphic-1-1.png
ORGANIZER;CN="Park Rapids Area Library":MAILTO:parkrapids@krls.org
END:VEVENT
BEGIN:VEVENT
DTSTART;TZID=UTC:20250211T190000
DTEND;TZID=UTC:20250211T210000
DTSTAMP:20260424T192617
CREATED:20241201T063545Z
LAST-MODIFIED:20241201T063545Z
UID:10003584-1739300400-1739307600@heartlandlakescommunitycalendar.com
SUMMARY:Online Short Story Workshop
DESCRIPTION:Unleash your creativity in this free online short story workshop led by award-winning author Kevin Strauss! Whether you’re a beginner or an experienced writer\, Kevin will guide you through the art of storytelling and help you craft compelling tales. Don’t miss this opportunity to learn from a master storyteller. Reserve your spot today and start writing your next great story! 🖊️✨
URL:https://heartlandlakescommunitycalendar.com/index.php/event/online-short-story-workshop/2025-02-11/
CATEGORIES:Literature
ATTACH;FMTTYPE=image/webp:https://heartlandlakescommunitycalendar.com/wp-content/uploads/2024/12/2025-online-writing-workshops-flyer-s-8cd21853798e63ce35bde08f59665360.webp
ORGANIZER;CN="Park Rapids Area Library":MAILTO:parkrapids@krls.org
END:VEVENT
BEGIN:VEVENT
DTSTART;TZID=UTC:20250207T103000
DTEND;TZID=UTC:20250207T113000
DTSTAMP:20260424T192617
CREATED:20240324T063814Z
LAST-MODIFIED:20240324T064635Z
UID:10001364-1738924200-1738927800@heartlandlakescommunitycalendar.com
SUMMARY:Storytime
DESCRIPTION:Join us for stories and activities for children and the adults who care for them!
URL:https://heartlandlakescommunitycalendar.com/index.php/event/storytime/2025-02-07/
LOCATION:Park Rapids Area Library\, 210 1st St W\, Park Rapids\, MN\, 56470\, United States
CATEGORIES:Education
ATTACH;FMTTYPE=image/png:https://heartlandlakescommunitycalendar.com/wp-content/uploads/2024/03/Storytime-graphic-1-1.png
ORGANIZER;CN="Park Rapids Area Library":MAILTO:parkrapids@krls.org
END:VEVENT
BEGIN:VEVENT
DTSTART;TZID=UTC:20250204T190000
DTEND;TZID=UTC:20250204T210000
DTSTAMP:20260424T192617
CREATED:20241201T063545Z
LAST-MODIFIED:20241201T063545Z
UID:10003583-1738695600-1738702800@heartlandlakescommunitycalendar.com
SUMMARY:Online Short Story Workshop
DESCRIPTION:Unleash your creativity in this free online short story workshop led by award-winning author Kevin Strauss! Whether you’re a beginner or an experienced writer\, Kevin will guide you through the art of storytelling and help you craft compelling tales. Don’t miss this opportunity to learn from a master storyteller. Reserve your spot today and start writing your next great story! 🖊️✨
URL:https://heartlandlakescommunitycalendar.com/index.php/event/online-short-story-workshop/2025-02-04/
CATEGORIES:Literature
ATTACH;FMTTYPE=image/webp:https://heartlandlakescommunitycalendar.com/wp-content/uploads/2024/12/2025-online-writing-workshops-flyer-s-8cd21853798e63ce35bde08f59665360.webp
ORGANIZER;CN="Park Rapids Area Library":MAILTO:parkrapids@krls.org
END:VEVENT
END:VCALENDAR